Workbook
Name Test: #REF!

Sheet General information
B1: 4EG lab report template - Lab Information
B2: V25.2 (07.02.2025)
B7: General Information
B8: Institute: | C8: text
B9: Contact person: | C9: text
B10: Date of the test: | C10: date
B11: Sample number: | C11: text
B13: Aggregates
B14: Type of Somerville Fractionator | C14: text
B15: Type of board carriers (brand) | C15: text
B16: Type of paper cover sheet (brand) | C16: text
B17: Type of filter (brand) | C17: text
B18: Type of the image analysing system (brand) | C18: text
B19: Thickener used for the fine screening accept | C19: list | F19: no | G19: yes
B20: Type of Thickener | C20: text

Sheet Results_sample name
B1: 4EG lab report template - Part III Method - Results
B2: V25.2 (07.02.2025)
B4: =MID(CELL("dateiname",A1),SEARCH("]",CELL("dateiname",A1))+1,31) -> #VALUE! | E4: Please add sample code in spreadsheet name (grey bar below)
B6: Brown marked --> just information
B7: Yellow marked --> Drop-Down-List
B8: Blue coloured --> Calculated values
B9: Empty white cells, black coloured --> for your entry
B10: Blue coloured and underlined --> Hyper links
B12: General information
B14: Sample receipt | C14: date
B15: Sample preparation | C15: date
B16: Lab test | C16: date
B17: Sample number | C17: text
B18: Optional tests | C18: text | G18: none | H18: ER | I18: COD | J18: Macrostickies | K18: Disintegration curve
B19: Deviations from the method | C19: text
B20: Type of product | C20: list | G20: semi-finished | H20: finished
B21: Artifical ageing (3d, 60°C) | C21: list | G21: no | H21: yes
B22: Type of sample preparation | C22: list | G22: simple | H22: complex
B23: Dry removed components (Plastic lid, metal parts, textile parts) | C23: list | G23: no | H23: yes
B24: Generic description of the sample | C24: text
B25: Sample data sheet available | C25: list | G25: no | H25: yes
B26: Recyclable rejects | C26: % | E26: Click to go to data sheet Part III
B27: polyAl recycling | C27: list | G27: no | H27: yes
B29: Results summary (filled automatically)
B31: Coarse reject determination
B32: Coarse reject (incl. dry removed components) | C32: % | D32: =D105 -> 0
B33: Coarse reject characterisation | C33: link | D33: Click to go to reject charaterisation tree
B34: sheet adhesion test (accept coarse screening) | C34: link | D34: =D120 -> 0
B35: visual apperance test (accept coarse screening) | C35: link | D35: =D123 -> 0
B36: coarse reject quality level | C36: text | D36: =D107 -> 0
B38: Fine reject determination
B39: Fine reject (related to total product) | C39: % | D39: =D140 -> #DIV/0!
B40: Fine reject characterisation | C40: link | D40: Click to go to reject charaterisation tree
B41: sheet adhesion test (accept fine screening) | C41: link | D41: =D162 -> 0
B42: visual apperance test (accept fine screening) | C42: link | D42: =D165 -> 0
B44: Pulp quality
B45: Ash content (acc. ISO 1762) | C45: % | D45: =D130 -> 0
B46: Tensile index (acc. ISO 1924) | C46: (Nm/g) | D46: =G159 -> #DIV/0!
B48: Dissolved and colloidal substances (optional)
B49: Evaporation residue of the sample (related to total product) | C49: g/kg Packaging | D49: =D177
B50: Chemical oxygen demand (optional)
B51: Chemical oxygen demand - COD (related to total product) | C51: gO2/kg Packaging | D51: =D185 -> 0
B53: Macrostickies analysis (optional)
B54: Total area of macrostickies 150 - 200000 (µm) | C54: mm²/kg | D54: =D196 -> #DIV/0!
B55: Area of macrostickies with equivalent diameter <= 2000 µm | C55: mm²/kg | D55: =D195 -> #DIV/0!
B57: Detailed Results
B59: Sample preparation | C59: # | D59: weight (air-dry) | E59: content (air-dry) | F59: content (oven-dry) | G59: dry removed? | H59: content without dry removed | I59: sample input weight (air-dry) | K59: Weighing of 50 ± 1 g oven dry | L59: water input weight | M59: consistency of sample input
B60: Components | D60: g | E60: % | F60: % | G60: yes? | H60: g | I60: g | K60: g air-dry | L60: g | M60: %
C61: A | E61: =IF(ISBLANK(D61),"",D61/$D$69) | F61: =E61*E75 -> #VALUE! | H61: =IF(G61="yes",0,E61/(1-D$71)) -> #VALUE! | I61: =IF(ISBLANK(D61),"",H61*$H$70/$E75) | J61: Copy the formula from column H (sample input weight) for each additional component
C62: B | E62: =IF(ISBLANK(D62),"",D62/$D$69) | F62: =E62*E76 -> #VALUE! | H62: =IF(G62="yes",0,E62/(1-D$71)) -> #VALUE! | I62: =IF(ISBLANK(D62),"",H62*$H$70/$E76) | J62: Copy the formula from column H (sample input weight) for each additional component
C63: C | E63: =IF(ISBLANK(D63),"",D63/$D$69) | I63: =IF(ISBLANK(D63),"",H63*$H$70/$E77) | K63: =I63
C64: D | E64: =IF(ISBLANK(D64),"",D64/$D$69) | H64: =IF(ISBLANK(D64),"",IF(G64="ja",0,E64/D$71)) | I64: =IF(ISBLANK(D64),"",H64*$H$70/$E78) | K64: =I64
C65: E | E65: =IF(ISBLANK(D65),"",D65/$D$69) | H65: =IF(ISBLANK(D65),"",IF(G65="ja",0,E65/D$71)) | I65: =IF(ISBLANK(D65),"",H65*$H$70/$E79) | K65: =I65
C66: F | E66: =IF(ISBLANK(D66),"",D66/$D$69) | H66: =IF(ISBLANK(D66),"",IF(G66="ja",0,E66/D$71)) | I66: =IF(ISBLANK(D66),"",H66*$H$70/$E80) | K66: =I66
C67: G | E67: =IF(ISBLANK(D67),"",D67/$D$69) | H67: =IF(ISBLANK(D67),"",IF(G67="ja",0,E67/D$71)) | I67: =IF(ISBLANK(D67),"",H67*$H$70/$E81) | K67: =I67
C68: H | E68: =IF(ISBLANK(D68),"",D68/$D$69) | H68: =IF(ISBLANK(D68),"",IF(G68="ja",0,E68/D$71)) | I68: =IF(ISBLANK(D68),"",H68*$H$70/$E82) | K68: =I68
B69: Total | D69: =SUM(D61:D68) -> 0 | E69: =SUM(E61:E68) -> 0 | G69: =SUMIF(G61:G68,"yes",F61:F68) -> 0 | H69: =SUM(H61:H68) -> #VALUE! | I69: =SUM(I61:I68) -> 0 | K69: =SUM(K61:K68) -> 0 | L69: =IF(ISBLANK(D62),((K69*E75)/2.5)*100-K69,IF(ISBLANK(D63),((K69*(E75*H61+E76*H62)/2.5)*100-K69),IF(ISBLANK(D64),((K69*(E75*H61+E76*H62+E77*H63)/2.5)*100-K69),IF(ISBLANK(D65),((K69*(E75*H61+E76*H62+E77*H63+E78*H64)/2.5)*100-K69),IF(ISBLANK(D66),((K69*(E75*H61+E76*H62+E77*H63+E78*H64+E79*H65)/2.5)*100-K69),IF(ISBLANK(D67),((K69*(E75*H61+E76*H62+E77*H63+E78*H64+E79*H65+E80*H66)/2.5)*100-K69),IF(ISBLANK(D68),((K69*(E75*H61+E76*H62+E77*H63+E78*H64+E79*H65+E80*H66+E81*H67)/2.5)*100-K69),(K69*(E75*H61+E76*H62+E77*H63+E78*H64+E79*H65+E80*H66+E81*H67+E82*H68)/2.5)*100-K69))))))) -> #VALUE! | M69: 2.5
H70: 50 | I70: g oven dry
B71: Content of dry removed components | C71: % | D71: =G69 -> 0
B73: Dry matter content of sample (without dry removed components) | C73: DM 1 | D73: DM 2 | E73: Mean DM
C74: % | D74: % | E74: %
B75: A | E75: =IF(ISBLANK(C75),"",AVERAGE(C75:D75))
B76: B | E76: =IF(ISBLANK(C76),"",AVERAGE(C76:D76))
B77: =IF(ISBLANK(B63),"",B63) | E77: =IF(ISBLANK(C77),"",AVERAGE(C77:D77))
B78: =IF(ISBLANK(B64),"",B64) | E78: =IF(ISBLANK(C78),"",AVERAGE(C78:D78))
B79: =IF(ISBLANK(B65),"",B65) | E79: =IF(ISBLANK(C79),"",AVERAGE(C79:D79))
B80: =IF(ISBLANK(B66),"",B66) | E80: =IF(ISBLANK(C80),"",AVERAGE(C80:D80))
B81: =IF(ISBLANK(B67),"",B67) | E81: =IF(ISBLANK(C81),"",AVERAGE(C81:D81))
B82: =IF(ISBLANK(B68),"",B68) | E82: =IF(ISBLANK(C82),"",AVERAGE(C82:D82))
B83: Dry content (average) | C83: =AVERAGE(C75:C82) -> #DIV/0! | D83: =AVERAGE(D75:D82) -> #DIV/0! | E83: =AVERAGE(E75:E82) -> #DIV/0!
E84: Removal of certain disturbing non-fibre/non-paper components, e.g. lid, cap, …
B85: Disintegraton ( acc. ISO 5263-1)
B86: Disintegration device | C86: text | D86: lab disintegrator
B87: Disintegration time (min) | C87: list | D87: 10
B88: Foaming | C88: list | F88: no | G88: yes
B89: Turbidity of filtrat | C89: list | F89: no | G89: yes
B90: Further dsintegration times, which? (min) | C90: text | F90: 2 | G90: 5 | H90: 20
B91: Water pH | C91: -
B92: Temperature during the pH test | C92: °C
B94: Comments regarding disintegration, e.g. turbidity colour, foaming
B98: Coarse screening
B99: input weight (oven-dry) | C99: g | D99: 50
B100: photographic documentation - coarse screening | C100: reminder
B101: coarse reject weight (oven-dry) | C101: g
B102: coarse reject | C102: % | D102: =D101/D99 -> 0
B103: accept coarse screening weight (oven-dry) | C103: g | D103: =D99-D101 -> 50 | E103: input weight' minus 'coarse reject weight'
B104: coarse reject (related to total product) | C104: % | D104: =D102*(1-D71) -> 0
B105: Coarse reject (incl. dry removed components) | C105: % | D105: =D104+G69 -> 0
B106: Coarse reject characterisation | C106: link | D106: Click to go to reject charaterisation tree
B107: coarse reject quality level | C107: list | F107: level 1 | G107: level 2 | H107: level 3 | I107: level 4
B109: Stock concentration (accept coarse screening)
B110: input weight (oven-dry) | C110: g
B111: Stock concentration | C111: %
B113: Sheet forming (accept coarse screening)
B114: weight of sheet AC1 (oven-dry) (optional) | C114: g
B115: weight of sheet AC2 (oven-dry) (optional) | C115: g
B116: weight of sheet AC3 (oven-dry) | C116: g
B117: weight of sheet AC4 (oven-dry) | C117: g
B119: 1st sheet adhesion test (accept coarse screening)
B120: sheet adhesion test (AC) | C120: list | F120: level 1 | G120: level 2 | H120: level 3
...

Sheet para
B1: Threshold | L1: Target | T1: Score | AD1: VI Score table | AG1: 90-100 | AH1: The method indicates that the packaging is expected not to pose any recyclability issues in the standard mill and is therefore considered Best in Class.
B2: CR1 | C2: CR2 | D2: FR1 | E2: FR2 | F2: Y1 | G2: Y2 | H2: Y3 | I2: VI | J2: SA | L2: CR | M2: FR | N2: Y | Q2: VI | R2: SA | T2: CR1 | U2: CR2 | V2: FR1 | W2: FR2 | X2: Y1 | Y2: Y2 | Z2: Y3 | AB2: SA | AD2: Level | AE2: Score | AG2: 70-89 | AH2: The method indicates that the packaging has minor recyclability issues that could have limited impact on the recyclability in the standard mill.
AD3: 1 | AE3: 0 | AG3: 50-69 | AH3: The method indicates that the packaging has some recyclability issues that affect the process in the standard mill and should therefore not be abundant.
A4: Category 1 | F4: 95 | G4: 85 | H4: 80 | I4: 4 | J4: 2 | N4: 100 | Q4: 1 | R4: 1 | T4: 50 | V4: 45 | X4: 100 | Y4: 90 | Z4: 45 | AB4: 0 | AD4: 2 | AE4: -5 | AG4: 0-49 | AH4: The method indicates that the packaging has some significant recyclability issues that have a significant impact on the process in the standard mill and should therefore be avoided when possible.
AD5: 3 | AE5: -15 | AG5: negative | AH5: The method indicates that the packaging has major recyclability issues which could stop the process at a standard mill and therefore are not suitable for this mill. It is recommended to evaluate this product with either Part II or III.
AD6: 4 | AE6: -30
AG8: level 1 (0 points) | AH8: Poses no visual quality issues.
AG9: level 2 (-5 points) | AH9: Poses minor visual quality issues that can be acceptable in the mix.
AG10: level 3 (-15 points) | AH10: Poses some visual quality issues that can be acceptable in the mix for certain types of production.
AG11: level 4 (-30 points) | AH11: Poses significant visual quality issues that can be problematic in the mix. Sample is at risk of receiving a KO in future revisions of the Evaluation Protocol*
AG14: level 1 (0 points) | AH14: Poses no adhesion issues.
AG15: level 2 (0 points) | AH15: Poses minor adhesion issues.
AG16: level 3 (KO) | AH16: Poses significant adhesion issues that have a significant impact on the process in the standard mill .
A55: Current Category | B55: Category 1 | AC55: check
A56: Current Parameters | B56: =SUMIF($A$4:$A$8,B55,B4:B8) -> 0 | C56: =SUMIF($A$4:$A$8,B55,C4:C8) -> 0 | D56: =SUMIF($A$4:$A$8,B55,D4:D8) -> 0 | E56: =SUMIF($A$4:$A$8,B55,E4:E8) -> 0 | F56: =SUMIF($A$4:$A$8,B55,F4:F8) -> 95 | G56: =SUMIF($A$4:$A$8,B55,G4:G8) -> 85 | H56: =SUMIF($A$4:$A$8,B55,H4:H8) -> 80 | I56: =SUMIF($A$4:$A$8,B55,I4:I8) -> 4 | J56: =SUMIF($A$4:$A$8,B55,J4:J8) -> 2 | L56: =SUMIF($A$4:$A$8,B55,L4:L8) -> 0 | M56: =SUMIF($A$4:$A$8,B55,M4:M8) -> 0 | N56: =SUMIF($A$4:$A$8,B55,N4:N8) -> 100 | O56: =SUMIF($A$4:$A$8,B55,O4:O8) -> 0 | P56: =SUMIF($A$4:$A$8,B55,P4:P8) -> 0 | Q56: =SUMIF($A$4:$A$8,B55,Q4:Q8) -> 1 | R56: =SUMIF($A$4:$A$8,B55,R4:R8) -> 1 | T56: =SUMIF($A$4:$A$8,B55,T4:T8) -> 50 | U56: =SUMIF($A$4:$A$8,B55,U4:U8) -> 0 | V56: =SUMIF($A$4:$A$8,B55,V4:V8) -> 45 | W56: =SUMIF($A$4:$A$8,B55,W4:W8) -> 0 | X56: =SUMIF($A$4:$A$8,B55,X4:X8) -> 100 | Y56: =SUMIF($A$4:$A$8,B55,Y4:Y8) -> 90 | Z56: =SUMIF($A$4:$A$8,B55,Z4:Z8) -> 45 | AB56: =SUMIF($A$4:$A$8,Test,AB4:AB8) -> 0 | AC56: =SUM(T56:AB56)-U56-W56 -> 330
B58: CR | C58: FR | D58: Yield | G58: VI | H58: SA | I58: Total
A59: Current Results | B59: =#REF! -> #REF! | C59: =#REF! -> #REF! | D59: =(100-($B$59+2*$C$59*($V$4/$X$4))) -> #REF! | G59: =#REF! -> #REF! | H59: =#REF! -> #REF! | M59: *correction factor calculation: | P59: "= 2* (FR points) / (max Y score))
A60: Current Scores Raw* | D60: =IF($D$59>=$F$56,($X$56-$Y$56)/(100-$F$56)*$D$59+$X$56-($X$56-$Y$56)/(100-$F$56)*100,IF($D$59>=$G$56,($Y$56-$Z$56)/($F$56-$G$56)*$D$59+$Y$56-($Y$56-$Z$56)/($F$56-$G$56)*$F$56,($Z$56)/($G$56-$H$56)*$D$59+$Z$56-($Z$56)/($G$56-$H$56)*$G$56)) -> #REF! | G60: =VLOOKUP(G59,AD3:AE6,2) -> #REF! | H60: =IF(H59>J56,"KO",0) -> #REF! | I60: =IF(H60="KO",MIN(-1,SUM(B60:G60)),SUM(B60:H60)) -> #REF!
A61: Current Scores Refined* | D61: =ROUND(IF(D60>X56,X56,IF(D60<-X56,-X56,D60)),0) -> #REF! | G61: =G60 -> #REF! | H61: =H60 -> #REF! | I61: =IF(H61="KO",MIN(-1,MAX(-100,SUM(B61:G61))),MAX(-100,SUM(B61:H61))) -> #REF! | J61: =HLOOKUP(I61,B64:F65,2) -> #REF!
A64: Assessment | B64: -100 | C64: 0 | D64: 51 | E64: 71 | F64: 91
B65: not suitable for Standard Mill | C65: Scoring… | D65: Scoring… | E65: Scoring… | F65: Scoring…
K69: Datapoint | L69: =100-D59 -> #REF! | M69: =D60 -> #REF! | N69: =G59 -> #REF! | O69: =G60 -> #REF!
A73: The index letter P stands for one of the parameters | K73: Proposal 1 | M73: x
A74: DSP is the Deinkability Score of the parameter P | M74: 0 | N74: 1 | O74: 2 | P74: 3 | Q74: 4 | R74: 5 | S74: 6 | T74: 7 | U74: 8 | V74: 9 | W74: 10 | X74: 11 | Y74: 12 | Z74: 13 | AA74: 14 | AB74: 15 | AC74: 16 | AD74: 17 | AE74: 18 | AF74: 19 | AG74: 20 | AH74: 21
A75: RP is the result of the parameter P | K75: y | L75: 0 | M75: =MAX(IF((100-(2*M$74*($T$4/$X$4)+2*$L75*($V$4/$X$4)))>=$F$56,($X$56-$Y$56)/(100-$F$56)*(100-(2*M$74*($T$4/$X$4)+2*$L75*($V$4/$X$4)))+$X$56-($X$56-$Y$56)/(100-$F$56)*100,IF((100-(2*M$74*($T$4/$X$4)+2*$L75*($V$4/$X$4)))>=$G$56,($Y$56-$Z$56)/($F$56-$G$56)*(100-(2*M$74*($T$4/$X$4)+2*$L75*($V$4/$X$4)))+$Y$56-($Y$56-$Z$56)/($F$56-$G$56)*$F$56,($Z$56)/($G$56-$H$56)*(100-(2*M$74*($T$4/$X$4)+2*$L75*($V$4/$X$4)))+$Z$56-($Z$56)/($G$56-$H$56)*$G$56)),-1) -> 100 | N75: =MAX(IF((100-(2*N$74*($T$4/$X$4)+2*$L75*($V$4/$X$4)))>=$F$56,($X$56-$Y$56)/(100-$F$56)*(100-(2*N$74*($T$4/$X$4)+2*$L75*($V$4/$X$4)))+$X$56-($X$56-$Y$56)/(100-$F$56)*100,IF((100-(2*N$74*($T$4/$X$4)+2*$L75*($V$4/$X$4)))>=$G$56,($Y$56-$Z$56)/($F$56-$G$56)*(100-(2*N$74*($T$4/$X$4)+2*$L75*($V$4/$X$4)))+$Y$56-($Y$56-$Z$56)/($F$56-$G$56)*$F$56,($Z$56)/($G$56-$H$56)*(100-(2*N$74*($T$4/$X$4)+2*$L75*($V$4/$X$4)))+$Z$56-($Z$56)/($G$56-$H$56)*$G$56)),-1) -> 98 | O75: =MAX(IF((100-(2*O$74*($T$4/$X$4)+2*$L75*($V$4/$X$4)))>=$F$56,($X$56-$Y$56)/(100-$F$56)*(100-(2*O$74*($T$4/$X$4)+2*$L75*($V$4/$X$4)))+$X$56-($X$56-$Y$56)/(100-$F$56)*100,IF((100-(2*O$74*($T$4/$X$4)+2*$L75*($V$4/$X$4)))>=$G$56,($Y$56-$Z$56)/($F$56-$G$56)*(100-(2*O$74*($T$4/$X$4)+2*$L75*($V$4/$X$4)))+$Y$56-($Y$56-$Z$56)/($F$56-$G$56)*$F$56,($Z$56)/($G$56-$H$56)*(100-(2*O$74*($T$4/$X$4)+2*$L75*($V$4/$X$4)))+$Z$56-($Z$56)/($G$56-$H$56)*$G$56)),-1) -> 96 | P75: =MAX(IF((100-(2*P$74*($T$4/$X$4)+2*$L75*($V$4/$X$4)))>=$F$56,($X$56-$Y$56)/(100-$F$56)*(100-(2*P$74*($T$4/$X$4)+2*$L75*($V$4/$X$4)))+$X$56-($X$56-$Y$56)/(100-$F$56)*100,IF((100-(2*P$74*($T$4/$X$4)+2*$L75*($V$4/$X$4)))>=$G$56,($Y$56-$Z$56)/($F$56-$G$56)*(100-(2*P$74*($T$4/$X$4)+2*$L75*($V$4/$X$4)))+$Y$56-($Y$56-$Z$56)/($F$56-$G$56)*$F$56,($Z$56)/($G$56-$H$56)*(100-(2*P$74*($T$4/$X$4)+2*$L75*($V$4/$X$4)))+$Z$56-($Z$56)/($G$56-$H$56)*$G$56)),-1) -> 94 | Q75: =MAX(IF((100-(2*Q$74*($T$4/$X$4)+2*$L75*($V$4/$X$4)))>=$F$56,($X$56-$Y$56)/(100-$F$56)*(100-(2*Q$74*($T$4/$X$4)+2*$L75*($V$4/$X$4)))+$X$56-($X$56-$Y$56)/(100-$F$56)*100,IF((100-(2*Q$74*($T$4/$X$4)+2*$L75*($V$4/$X$4)))>=$G$56,($Y$56-$Z$56)/($F$56-$G$56)*(100-(2*Q$74*($T$4/$X$4)+2*$L75*($V$4/$X$4)))+$Y$56-($Y$56-$Z$56)/($F$56-$G$56)*$F$56,($Z$56)/($G$56-$H$56)*(100-(2*Q$74*($T$4/$X$4)+2*$L75*($V$4/$X$4)))+$Z$56-($Z$56)/($G$56-$H$56)*$G$56)),-1) -> 92 | R75: =MAX(IF((100-(2*R$74*($T$4/$X$4)+2*$L75*($V$4/$X$4)))>=$F$56,($X$56-$Y$56)/(100-$F$56)*(100-(2*R$74*($T$4/$X$4)+2*$L75*($V$4/$X$4)))+$X$56-($X$56-$Y$56)/(100-$F$56)*100,IF((100-(2*R$74*($T$4/$X$4)+2*$L75*($V$4/$X$4)))>=$G$56,($Y$56-$Z$56)/($F$56-$G$56)*(100-(2*R$74*($T$4/$X$4)+2*$L75*($V$4/$X$4)))+$Y$56-($Y$56-$Z$56)/($F$56-$G$56)*$F$56,($Z$56)/($G$56-$H$56)*(100-(2*R$74*($T$4/$X$4)+2*$L75*($V$4/$X$4)))+$Z$56-($Z$56)/($G$56-$H$56)*$G$56)),-1) -> 90 | S75: =MAX(IF((100-(2*S$74*($T$4/$X$4)+2*$L75*($V$4/$X$4)))>=$F$56,($X$56-$Y$56)/(100-$F$56)*(100-(2*S$74*($T$4/$X$4)+2*$L75*($V$4/$X$4)))+$X$56-($X$56-$Y$56)/(100-$F$56)*100,IF((100-(2*S$74*($T$4/$X$4)+2*$L75*($V$4/$X$4)))>=$G$56,($Y$56-$Z$56)/($F$56-$G$56)*(100-(2*S$74*($T$4/$X$4)+2*$L75*($V$4/$X$4)))+$Y$56-($Y$56-$Z$56)/($F$56-$G$56)*$F$56,($Z$56)/($G$56-$H$56)*(100-(2*S$74*($T$4/$X$4)+2*$L75*($V$4/$X$4)))+$Z$56-($Z$56)/($G$56-$H$56)*$G$56)),-1) -> 85.5 | T75: =MAX(IF((100-(2*T$74*($T$4/$X$4)+2*$L75*($V$4/$X$4)))>=$F$56,($X$56-$Y$56)/(100-$F$56)*(100-(2*T$74*($T$4/$X$4)+2*$L75*($V$4/$X$4)))+$X$56-($X$56-$Y$56)/(100-$F$56)*100,IF((100-(2*T$74*($T$4/$X$4)+2*$L75*($V$4/$X$4)))>=$G$56,($Y$56-$Z$56)/($F$56-$G$56)*(100-(2*T$74*($T$4/$X$4)+2*$L75*($V$4/$X$4)))+$Y$56-($Y$56-$Z$56)/($F$56-$G$56)*$F$56,($Z$56)/($G$56-$H$56)*(100-(2*T$74*($T$4/$X$4)+2*$L75*($V$4/$X$4)))+$Z$56-($Z$56)/($G$56-$H$56)*$G$56)),-1) -> 81 | ... AH75: =MAX(IF((100-(2*AH$74*($T$4/$X$4)+2*$L75*($V$4/$X$4)))>=$F$56,($X$56-$Y$56)/(100-$F$56)*(100-(2*AH$74*($T$4/$X$4)+2*$L75*($V$4/$X$4)))+$X$56-($X$56-$Y$56)/(100-$F$56)*100,IF((100-(2*AH$74*($T$4/$X$4)+2*$L75*($V$4/$X$4)))>=$G$56,($Y$56-$Z$56)/($F$56-$G$56)*(100-(2*AH$74*($T$4/$X$4)+2*$L75*($V$4/$X$4)))+$Y$56-($Y$56-$Z$56)/($F$56-$G$56)*$F$56,($Z$56)/($G$56-$H$56)*(100-(2*AH$74*($T$4/$X$4)+2*$L75*($V$4/$X$4)))+$Z$56-($Z$56)/($G$56-$H$56)*$G$56)),-1) -> -1
A76: THP is the threshold value of the parameter P | L76: 1 | M76: =MAX(IF((100-(2*M$74*($T$4/$X$4)+2*$L76*($V$4/$X$4)))>=$F$56,($X$56-$Y$56)/(100-$F$56)*(100-(2*M$74*($T$4/$X$4)+2*$L76*($V$4/$X$4)))+$X$56-($X$56-$Y$56)/(100-$F$56)*100,IF((100-(2*M$74*($T$4/$X$4)+2*$L76*($V$4/$X$4)))>=$G$56,($Y$56-$Z$56)/($F$56-$G$56)*(100-(2*M$74*($T$4/$X$4)+2*$L76*($V$4/$X$4)))+$Y$56-($Y$56-$Z$56)/($F$56-$G$56)*$F$56,($Z$56)/($G$56-$H$56)*(100-(2*M$74*($T$4/$X$4)+2*$L76*($V$4/$X$4)))+$Z$56-($Z$56)/($G$56-$H$56)*$G$56)),-1) -> 98.2 | N76: =MAX(IF((100-(2*N$74*($T$4/$X$4)+2*$L76*($V$4/$X$4)))>=$F$56,($X$56-$Y$56)/(100-$F$56)*(100-(2*N$74*($T$4/$X$4)+2*$L76*($V$4/$X$4)))+$X$56-($X$56-$Y$56)/(100-$F$56)*100,IF((100-(2*N$74*($T$4/$X$4)+2*$L76*($V$4/$X$4)))>=$G$56,($Y$56-$Z$56)/($F$56-$G$56)*(100-(2*N$74*($T$4/$X$4)+2*$L76*($V$4/$X$4)))+$Y$56-($Y$56-$Z$56)/($F$56-$G$56)*$F$56,($Z$56)/($G$56-$H$56)*(100-(2*N$74*($T$4/$X$4)+2*$L76*($V$4/$X$4)))+$Z$56-($Z$56)/($G$56-$H$56)*$G$56)),-1) -> 96.2 | O76: =MAX(IF((100-(2*O$74*($T$4/$X$4)+2*$L76*($V$4/$X$4)))>=$F$56,($X$56-$Y$56)/(100-$F$56)*(100-(2*O$74*($T$4/$X$4)+2*$L76*($V$4/$X$4)))+$X$56-($X$56-$Y$56)/(100-$F$56)*100,IF((100-(2*O$74*($T$4/$X$4)+2*$L76*($V$4/$X$4)))>=$G$56,($Y$56-$Z$56)/($F$56-$G$56)*(100-(2*O$74*($T$4/$X$4)+2*$L76*($V$4/$X$4)))+$Y$56-($Y$56-$Z$56)/($F$56-$G$56)*$F$56,($Z$56)/($G$56-$H$56)*(100-(2*O$74*($T$4/$X$4)+2*$L76*($V$4/$X$4)))+$Z$56-($Z$56)/($G$56-$H$56)*$G$56)),-1) -> 94.2 | P76: =MAX(IF((100-(2*P$74*($T$4/$X$4)+2*$L76*($V$4/$X$4)))>=$F$56,($X$56-$Y$56)/(100-$F$56)*(100-(2*P$74*($T$4/$X$4)+2*$L76*($V$4/$X$4)))+$X$56-($X$56-$Y$56)/(100-$F$56)*100,IF((100-(2*P$74*($T$4/$X$4)+2*$L76*($V$4/$X$4)))>=$G$56,($Y$56-$Z$56)/($F$56-$G$56)*(100-(2*P$74*($T$4/$X$4)+2*$L76*($V$4/$X$4)))+$Y$56-($Y$56-$Z$56)/($F$56-$G$56)*$F$56,($Z$56)/($G$56-$H$56)*(100-(2*P$74*($T$4/$X$4)+2*$L76*($V$4/$X$4)))+$Z$56-($Z$56)/($G$56-$H$56)*$G$56)),-1) -> 92.2 | Q76: =MAX(IF((100-(2*Q$74*($T$4/$X$4)+2*$L76*($V$4/$X$4)))>=$F$56,($X$56-$Y$56)/(100-$F$56)*(100-(2*Q$74*($T$4/$X$4)+2*$L76*($V$4/$X$4)))+$X$56-($X$56-$Y$56)/(100-$F$56)*100,IF((100-(2*Q$74*($T$4/$X$4)+2*$L76*($V$4/$X$4)))>=$G$56,($Y$56-$Z$56)/($F$56-$G$56)*(100-(2*Q$74*($T$4/$X$4)+2*$L76*($V$4/$X$4)))+$Y$56-($Y$56-$Z$56)/($F$56-$G$56)*$F$56,($Z$56)/($G$56-$H$56)*(100-(2*Q$74*($T$4/$X$4)+2*$L76*($V$4/$X$4)))+$Z$56-($Z$56)/($G$56-$H$56)*$G$56)),-1) -> 90.2 | R76: =MAX(IF((100-(2*R$74*($T$4/$X$4)+2*$L76*($V$4/$X$4)))>=$F$56,($X$56-$Y$56)/(100-$F$56)*(100-(2*R$74*($T$4/$X$4)+2*$L76*($V$4/$X$4)))+$X$56-($X$56-$Y$56)/(100-$F$56)*100,IF((100-(2*R$74*($T$4/$X$4)+2*$L76*($V$4/$X$4)))>=$G$56,($Y$56-$Z$56)/($F$56-$G$56)*(100-(2*R$74*($T$4/$X$4)+2*$L76*($V$4/$X$4)))+$Y$56-($Y$56-$Z$56)/($F$56-$G$56)*$F$56,($Z$56)/($G$56-$H$56)*(100-(2*R$74*($T$4/$X$4)+2*$L76*($V$4/$X$4)))+$Z$56-($Z$56)/($G$56-$H$56)*$G$56)),-1) -> 85.95 | S76: =MAX(IF((100-(2*S$74*($T$4/$X$4)+2*$L76*($V$4/$X$4)))>=$F$56,($X$56-$Y$56)/(100-$F$56)*(100-(2*S$74*($T$4/$X$4)+2*$L76*($V$4/$X$4)))+$X$56-($X$56-$Y$56)/(100-$F$56)*100,IF((100-(2*S$74*($T$4/$X$4)+2*$L76*($V$4/$X$4)))>=$G$56,($Y$56-$Z$56)/($F$56-$G$56)*(100-(2*S$74*($T$4/$X$4)+2*$L76*($V$4/$X$4)))+$Y$56-($Y$56-$Z$56)/($F$56-$G$56)*$F$56,($Z$56)/($G$56-$H$56)*(100-(2*S$74*($T$4/$X$4)+2*$L76*($V$4/$X$4)))+$Z$56-($Z$56)/($G$56-$H$56)*$G$56)),-1) -> 81.45 | T76: =MAX(IF((100-(2*T$74*($T$4/$X$4)+2*$L76*($V$4/$X$4)))>=$F$56,($X$56-$Y$56)/(100-$F$56)*(100-(2*T$74*($T$4/$X$4)+2*$L76*($V$4/$X$4)))+$X$56-($X$56-$Y$56)/(100-$F$56)*100,IF((100-(2*T$74*($T$4/$X$4)+2*$L76*($V$4/$X$4)))>=$G$56,($Y$56-$Z$56)/($F$56-$G$56)*(100-(2*T$74*($T$4/$X$4)+2*$L76*($V$4/$X$4)))+$Y$56-($Y$56-$Z$56)/($F$56-$G$56)*$F$56,($Z$56)/($G$56-$H$56)*(100-(2*T$74*($T$4/$X$4)+2*$L76*($V$4/$X$4)))+$Z$56-($Z$56)/($G$56-$H$56)*$G$56)),-1) -> 76.95 | ... AH76: =MAX(IF((100-(2*AH$74*($T$4/$X$4)+2*$L76*($V$4/$X$4)))>=$F$56,($X$56-$Y$56)/(100-$F$56)*(100-(2*AH$74*($T$4/$X$4)+2*$L76*($V$4/$X$4)))+$X$56-($X$56-$Y$56)/(100-$F$56)*100,IF((100-(2*AH$74*($T$4/$X$4)+2*$L76*($V$4/$X$4)))>=$G$56,($Y$56-$Z$56)/($F$56-$G$56)*(100-(2*AH$74*($T$4/$X$4)+2*$L76*($V$4/$X$4)))+$Y$56-($Y$56-$Z$56)/($F$56-$G$56)*$F$56,($Z$56)/($G$56-$H$56)*(100-(2*AH$74*($T$4/$X$4)+2*$L76*($V$4/$X$4)))+$Z$56-($Z$56)/($G$56-$H$56)*$G$56)),-1) -> -1
A77: TP is the target value of the parameter P | L77: 2 | M77: =MAX(IF((100-(2*M$74*($T$4/$X$4)+2*$L77*($V$4/$X$4)))>=$F$56,($X$56-$Y$56)/(100-$F$56)*(100-(2*M$74*($T$4/$X$4)+2*$L77*($V$4/$X$4)))+$X$56-($X$56-$Y$56)/(100-$F$56)*100,IF((100-(2*M$74*($T$4/$X$4)+2*$L77*($V$4/$X$4)))>=$G$56,($Y$56-$Z$56)/($F$56-$G$56)*(100-(2*M$74*($T$4/$X$4)+2*$L77*($V$4/$X$4)))+$Y$56-($Y$56-$Z$56)/($F$56-$G$56)*$F$56,($Z$56)/($G$56-$H$56)*(100-(2*M$74*($T$4/$X$4)+2*$L77*($V$4/$X$4)))+$Z$56-($Z$56)/($G$56-$H$56)*$G$56)),-1) -> 96.4 | N77: =MAX(IF((100-(2*N$74*($T$4/$X$4)+2*$L77*($V$4/$X$4)))>=$F$56,($X$56-$Y$56)/(100-$F$56)*(100-(2*N$74*($T$4/$X$4)+2*$L77*($V$4/$X$4)))+$X$56-($X$56-$Y$56)/(100-$F$56)*100,IF((100-(2*N$74*($T$4/$X$4)+2*$L77*($V$4/$X$4)))>=$G$56,($Y$56-$Z$56)/($F$56-$G$56)*(100-(2*N$74*($T$4/$X$4)+2*$L77*($V$4/$X$4)))+$Y$56-($Y$56-$Z$56)/($F$56-$G$56)*$F$56,($Z$56)/($G$56-$H$56)*(100-(2*N$74*($T$4/$X$4)+2*$L77*($V$4/$X$4)))+$Z$56-($Z$56)/($G$56-$H$56)*$G$56)),-1) -> 94.4 | O77: =MAX(IF((100-(2*O$74*($T$4/$X$4)+2*$L77*($V$4/$X$4)))>=$F$56,($X$56-$Y$56)/(100-$F$56)*(100-(2*O$74*($T$4/$X$4)+2*$L77*($V$4/$X$4)))+$X$56-($X$56-$Y$56)/(100-$F$56)*100,IF((100-(2*O$74*($T$4/$X$4)+2*$L77*($V$4/$X$4)))>=$G$56,($Y$56-$Z$56)/($F$56-$G$56)*(100-(2*O$74*($T$4/$X$4)+2*$L77*($V$4/$X$4)))+$Y$56-($Y$56-$Z$56)/($F$56-$G$56)*$F$56,($Z$56)/($G$56-$H$56)*(100-(2*O$74*($T$4/$X$4)+2*$L77*($V$4/$X$4)))+$Z$56-($Z$56)/($G$56-$H$56)*$G$56)),-1) -> 92.4 | P77: =MAX(IF((100-(2*P$74*($T$4/$X$4)+2*$L77*($V$4/$X$4)))>=$F$56,($X$56-$Y$56)/(100-$F$56)*(100-(2*P$74*($T$4/$X$4)+2*$L77*($V$4/$X$4)))+$X$56-($X$56-$Y$56)/(100-$F$56)*100,IF((100-(2*P$74*($T$4/$X$4)+2*$L77*($V$4/$X$4)))>=$G$56,($Y$56-$Z$56)/($F$56-$G$56)*(100-(2*P$74*($T$4/$X$4)+2*$L77*($V$4/$X$4)))+$Y$56-($Y$56-$Z$56)/($F$56-$G$56)*$F$56,($Z$56)/($G$56-$H$56)*(100-(2*P$74*($T$4/$X$4)+2*$L77*($V$4/$X$4)))+$Z$56-($Z$56)/($G$56-$H$56)*$G$56)),-1) -> 90.4 | Q77: =MAX(IF((100-(2*Q$74*($T$4/$X$4)+2*$L77*($V$4/$X$4)))>=$F$56,($X$56-$Y$56)/(100-$F$56)*(100-(2*Q$74*($T$4/$X$4)+2*$L77*($V$4/$X$4)))+$X$56-($X$56-$Y$56)/(100-$F$56)*100,IF((100-(2*Q$74*($T$4/$X$4)+2*$L77*($V$4/$X$4)))>=$G$56,($Y$56-$Z$56)/($F$56-$G$56)*(100-(2*Q$74*($T$4/$X$4)+2*$L77*($V$4/$X$4)))+$Y$56-($Y$56-$Z$56)/($F$56-$G$56)*$F$56,($Z$56)/($G$56-$H$56)*(100-(2*Q$74*($T$4/$X$4)+2*$L77*($V$4/$X$4)))+$Z$56-($Z$56)/($G$56-$H$56)*$G$56)),-1) -> 86.4 | R77: =MAX(IF((100-(2*R$74*($T$4/$X$4)+2*$L77*($V$4/$X$4)))>=$F$56,($X$56-$Y$56)/(100-$F$56)*(100-(2*R$74*($T$4/$X$4)+2*$L77*($V$4/$X$4)))+$X$56-($X$56-$Y$56)/(100-$F$56)*100,IF((100-(2*R$74*($T$4/$X$4)+2*$L77*($V$4/$X$4)))>=$G$56,($Y$56-$Z$56)/($F$56-$G$56)*(100-(2*R$74*($T$4/$X$4)+2*$L77*($V$4/$X$4)))+$Y$56-($Y$56-$Z$56)/($F$56-$G$56)*$F$56,($Z$56)/($G$56-$H$56)*(100-(2*R$74*($T$4/$X$4)+2*$L77*($V$4/$X$4)))+$Z$56-($Z$56)/($G$56-$H$56)*$G$56)),-1) -> 81.9 | S77: =MAX(IF((100-(2*S$74*($T$4/$X$4)+2*$L77*($V$4/$X$4)))>=$F$56,($X$56-$Y$56)/(100-$F$56)*(100-(2*S$74*($T$4/$X$4)+2*$L77*($V$4/$X$4)))+$X$56-($X$56-$Y$56)/(100-$F$56)*100,IF((100-(2*S$74*($T$4/$X$4)+2*$L77*($V$4/$X$4)))>=$G$56,($Y$56-$Z$56)/($F$56-$G$56)*(100-(2*S$74*($T$4/$X$4)+2*$L77*($V$4/$X$4)))+$Y$56-($Y$56-$Z$56)/($F$56-$G$56)*$F$56,($Z$56)/($G$56-$H$56)*(100-(2*S$74*($T$4/$X$4)+2*$L77*($V$4/$X$4)))+$Z$56-($Z$56)/($G$56-$H$56)*$G$56)),-1) -> 77.4 | T77: =MAX(IF((100-(2*T$74*($T$4/$X$4)+2*$L77*($V$4/$X$4)))>=$F$56,($X$56-$Y$56)/(100-$F$56)*(100-(2*T$74*($T$4/$X$4)+2*$L77*($V$4/$X$4)))+$X$56-($X$56-$Y$56)/(100-$F$56)*100,IF((100-(2*T$74*($T$4/$X$4)+2*$L77*($V$4/$X$4)))>=$G$56,($Y$56-$Z$56)/($F$56-$G$56)*(100-(2*T$74*($T$4/$X$4)+2*$L77*($V$4/$X$4)))+$Y$56-($Y$56-$Z$56)/($F$56-$G$56)*$F$56,($Z$56)/($G$56-$H$56)*(100-(2*T$74*($T$4/$X$4)+2*$L77*($V$4/$X$4)))+$Z$56-($Z$56)/($G$56-$H$56)*$G$56)),-1) -> 72.9 | ... AH77: =MAX(IF((100-(2*AH$74*($T$4/$X$4)+2*$L77*($V$4/$X$4)))>=$F$56,($X$56-$Y$56)/(100-$F$56)*(100-(2*AH$74*($T$4/$X$4)+2*$L77*($V$4/$X$4)))+$X$56-($X$56-$Y$56)/(100-$F$56)*100,IF((100-(2*AH$74*($T$4/$X$4)+2*$L77*($V$4/$X$4)))>=$G$56,($Y$56-$Z$56)/($F$56-$G$56)*(100-(2*AH$74*($T$4/$X$4)+2*$L77*($V$4/$X$4)))+$Y$56-($Y$56-$Z$56)/($F$56-$G$56)*$F$56,($Z$56)/($G$56-$H$56)*(100-(2*AH$74*($T$4/$X$4)+2*$L77*($V$4/$X$4)))+$Z$56-($Z$56)/($G$56-$H$56)*$G$56)),-1) -> -1
A78: MSP is the maximum score of the parameter P | L78: 3 | M78: =MAX(IF((100-(2*M$74*($T$4/$X$4)+2*$L78*($V$4/$X$4)))>=$F$56,($X$56-$Y$56)/(100-$F$56)*(100-(2*M$74*($T$4/$X$4)+2*$L78*($V$4/$X$4)))+$X$56-($X$56-$Y$56)/(100-$F$56)*100,IF((100-(2*M$74*($T$4/$X$4)+2*$L78*($V$4/$X$4)))>=$G$56,($Y$56-$Z$56)/($F$56-$G$56)*(100-(2*M$74*($T$4/$X$4)+2*$L78*($V$4/$X$4)))+$Y$56-($Y$56-$Z$56)/($F$56-$G$56)*$F$56,($Z$56)/($G$56-$H$56)*(100-(2*M$74*($T$4/$X$4)+2*$L78*($V$4/$X$4)))+$Z$56-($Z$56)/($G$56-$H$56)*$G$56)),-1) -> 94.6 | N78: =MAX(IF((100-(2*N$74*($T$4/$X$4)+2*$L78*($V$4/$X$4)))>=$F$56,($X$56-$Y$56)/(100-$F$56)*(100-(2*N$74*($T$4/$X$4)+2*$L78*($V$4/$X$4)))+$X$56-($X$56-$Y$56)/(100-$F$56)*100,IF((100-(2*N$74*($T$4/$X$4)+2*$L78*($V$4/$X$4)))>=$G$56,($Y$56-$Z$56)/($F$56-$G$56)*(100-(2*N$74*($T$4/$X$4)+2*$L78*($V$4/$X$4)))+$Y$56-($Y$56-$Z$56)/($F$56-$G$56)*$F$56,($Z$56)/($G$56-$H$56)*(100-(2*N$74*($T$4/$X$4)+2*$L78*($V$4/$X$4)))+$Z$56-($Z$56)/($G$56-$H$56)*$G$56)),-1) -> 92.6 | O78: =MAX(IF((100-(2*O$74*($T$4/$X$4)+2*$L78*($V$4/$X$4)))>=$F$56,($X$56-$Y$56)/(100-$F$56)*(100-(2*O$74*($T$4/$X$4)+2*$L78*($V$4/$X$4)))+$X$56-($X$56-$Y$56)/(100-$F$56)*100,IF((100-(2*O$74*($T$4/$X$4)+2*$L78*($V$4/$X$4)))>=$G$56,($Y$56-$Z$56)/($F$56-$G$56)*(100-(2*O$74*($T$4/$X$4)+2*$L78*($V$4/$X$4)))+$Y$56-($Y$56-$Z$56)/($F$56-$G$56)*$F$56,($Z$56)/($G$56-$H$56)*(100-(2*O$74*($T$4/$X$4)+2*$L78*($V$4/$X$4)))+$Z$56-($Z$56)/($G$56-$H$56)*$G$56)),-1) -> 90.6 | P78: =MAX(IF((100-(2*P$74*($T$4/$X$4)+2*$L78*($V$4/$X$4)))>=$F$56,($X$56-$Y$56)/(100-$F$56)*(100-(2*P$74*($T$4/$X$4)+2*$L78*($V$4/$X$4)))+$X$56-($X$56-$Y$56)/(100-$F$56)*100,IF((100-(2*P$74*($T$4/$X$4)+2*$L78*($V$4/$X$4)))>=$G$56,($Y$56-$Z$56)/($F$56-$G$56)*(100-(2*P$74*($T$4/$X$4)+2*$L78*($V$4/$X$4)))+$Y$56-($Y$56-$Z$56)/($F$56-$G$56)*$F$56,($Z$56)/($G$56-$H$56)*(100-(2*P$74*($T$4/$X$4)+2*$L78*($V$4/$X$4)))+$Z$56-($Z$56)/($G$56-$H$56)*$G$56)),-1) -> 86.85 | Q78: =MAX(IF((100-(2*Q$74*($T$4/$X$4)+2*$L78*($V$4/$X$4)))>=$F$56,($X$56-$Y$56)/(100-$F$56)*(100-(2*Q$74*($T$4/$X$4)+2*$L78*($V$4/$X$4)))+$X$56-($X$56-$Y$56)/(100-$F$56)*100,IF((100-(2*Q$74*($T$4/$X$4)+2*$L78*($V$4/$X$4)))>=$G$56,($Y$56-$Z$56)/($F$56-$G$56)*(100-(2*Q$74*($T$4/$X$4)+2*$L78*($V$4/$X$4)))+$Y$56-($Y$56-$Z$56)/($F$56-$G$56)*$F$56,($Z$56)/($G$56-$H$56)*(100-(2*Q$74*($T$4/$X$4)+2*$L78*($V$4/$X$4)))+$Z$56-($Z$56)/($G$56-$H$56)*$G$56)),-1) -> 82.35 | R78: =MAX(IF((100-(2*R$74*($T$4/$X$4)+2*$L78*($V$4/$X$4)))>=$F$56,($X$56-$Y$56)/(100-$F$56)*(100-(2*R$74*($T$4/$X$4)+2*$L78*($V$4/$X$4)))+$X$56-($X$56-$Y$56)/(100-$F$56)*100,IF((100-(2*R$74*($T$4/$X$4)+2*$L78*($V$4/$X$4)))>=$G$56,($Y$56-$Z$56)/($F$56-$G$56)*(100-(2*R$74*($T$4/$X$4)+2*$L78*($V$4/$X$4)))+$Y$56-($Y$56-$Z$56)/($F$56-$G$56)*$F$56,($Z$56)/($G$56-$H$56)*(100-(2*R$74*($T$4/$X$4)+2*$L78*($V$4/$X$4)))+$Z$56-($Z$56)/($G$56-$H$56)*$G$56)),-1) -> 77.85 | S78: =MAX(IF((100-(2*S$74*($T$4/$X$4)+2*$L78*($V$4/$X$4)))>=$F$56,($X$56-$Y$56)/(100-$F$56)*(100-(2*S$74*($T$4/$X$4)+2*$L78*($V$4/$X$4)))+$X$56-($X$56-$Y$56)/(100-$F$56)*100,IF((100-(2*S$74*($T$4/$X$4)+2*$L78*($V$4/$X$4)))>=$G$56,($Y$56-$Z$56)/($F$56-$G$56)*(100-(2*S$74*($T$4/$X$4)+2*$L78*($V$4/$X$4)))+$Y$56-($Y$56-$Z$56)/($F$56-$G$56)*$F$56,($Z$56)/($G$56-$H$56)*(100-(2*S$74*($T$4/$X$4)+2*$L78*($V$4/$X$4)))+$Z$56-($Z$56)/($G$56-$H$56)*$G$56)),-1) -> 73.35 | T78: =MAX(IF((100-(2*T$74*($T$4/$X$4)+2*$L78*($V$4/$X$4)))>=$F$56,($X$56-$Y$56)/(100-$F$56)*(100-(2*T$74*($T$4/$X$4)+2*$L78*($V$4/$X$4)))+$X$56-($X$56-$Y$56)/(100-$F$56)*100,IF((100-(2*T$74*($T$4/$X$4)+2*$L78*($V$4/$X$4)))>=$G$56,($Y$56-$Z$56)/($F$56-$G$56)*(100-(2*T$74*($T$4/$X$4)+2*$L78*($V$4/$X$4)))+$Y$56-($Y$56-$Z$56)/($F$56-$G$56)*$F$56,($Z$56)/($G$56-$H$56)*(100-(2*T$74*($T$4/$X$4)+2*$L78*($V$4/$X$4)))+$Z$56-($Z$56)/($G$56-$H$56)*$G$56)),-1) -> 68.85 | ... AH78: =MAX(IF((100-(2*AH$74*($T$4/$X$4)+2*$L78*($V$4/$X$4)))>=$F$56,($X$56-$Y$56)/(100-$F$56)*(100-(2*AH$74*($T$4/$X$4)+2*$L78*($V$4/$X$4)))+$X$56-($X$56-$Y$56)/(100-$F$56)*100,IF((100-(2*AH$74*($T$4/$X$4)+2*$L78*($V$4/$X$4)))>=$G$56,($Y$56-$Z$56)/($F$56-$G$56)*(100-(2*AH$74*($T$4/$X$4)+2*$L78*($V$4/$X$4)))+$Y$56-($Y$56-$Z$56)/($F$56-$G$56)*$F$56,($Z$56)/($G$56-$H$56)*(100-(2*AH$74*($T$4/$X$4)+2*$L78*($V$4/$X$4)))+$Z$56-($Z$56)/($G$56-$H$56)*$G$56)),-1) -> -1
L79: 4 | M79: =MAX(IF((100-(2*M$74*($T$4/$X$4)+2*$L79*($V$4/$X$4)))>=$F$56,($X$56-$Y$56)/(100-$F$56)*(100-(2*M$74*($T$4/$X$4)+2*$L79*($V$4/$X$4)))+$X$56-($X$56-$Y$56)/(100-$F$56)*100,IF((100-(2*M$74*($T$4/$X$4)+2*$L79*($V$4/$X$4)))>=$G$56,($Y$56-$Z$56)/($F$56-$G$56)*(100-(2*M$74*($T$4/$X$4)+2*$L79*($V$4/$X$4)))+$Y$56-($Y$56-$Z$56)/($F$56-$G$56)*$F$56,($Z$56)/($G$56-$H$56)*(100-(2*M$74*($T$4/$X$4)+2*$L79*($V$4/$X$4)))+$Z$56-($Z$56)/($G$56-$H$56)*$G$56)),-1) -> 92.8 | N79: =MAX(IF((100-(2*N$74*($T$4/$X$4)+2*$L79*($V$4/$X$4)))>=$F$56,($X$56-$Y$56)/(100-$F$56)*(100-(2*N$74*($T$4/$X$4)+2*$L79*($V$4/$X$4)))+$X$56-($X$56-$Y$56)/(100-$F$56)*100,IF((100-(2*N$74*($T$4/$X$4)+2*$L79*($V$4/$X$4)))>=$G$56,($Y$56-$Z$56)/($F$56-$G$56)*(100-(2*N$74*($T$4/$X$4)+2*$L79*($V$4/$X$4)))+$Y$56-($Y$56-$Z$56)/($F$56-$G$56)*$F$56,($Z$56)/($G$56-$H$56)*(100-(2*N$74*($T$4/$X$4)+2*$L79*($V$4/$X$4)))+$Z$56-($Z$56)/($G$56-$H$56)*$G$56)),-1) -> 90.8 | O79: =MAX(IF((100-(2*O$74*($T$4/$X$4)+2*$L79*($V$4/$X$4)))>=$F$56,($X$56-$Y$56)/(100-$F$56)*(100-(2*O$74*($T$4/$X$4)+2*$L79*($V$4/$X$4)))+$X$56-($X$56-$Y$56)/(100-$F$56)*100,IF((100-(2*O$74*($T$4/$X$4)+2*$L79*($V$4/$X$4)))>=$G$56,($Y$56-$Z$56)/($F$56-$G$56)*(100-(2*O$74*($T$4/$X$4)+2*$L79*($V$4/$X$4)))+$Y$56-($Y$56-$Z$56)/($F$56-$G$56)*$F$56,($Z$56)/($G$56-$H$56)*(100-(2*O$74*($T$4/$X$4)+2*$L79*($V$4/$X$4)))+$Z$56-($Z$56)/($G$56-$H$56)*$G$56)),-1) -> 87.3 | P79: =MAX(IF((100-(2*P$74*($T$4/$X$4)+2*$L79*($V$4/$X$4)))>=$F$56,($X$56-$Y$56)/(100-$F$56)*(100-(2*P$74*($T$4/$X$4)+2*$L79*($V$4/$X$4)))+$X$56-($X$56-$Y$56)/(100-$F$56)*100,IF((100-(2*P$74*($T$4/$X$4)+2*$L79*($V$4/$X$4)))>=$G$56,($Y$56-$Z$56)/($F$56-$G$56)*(100-(2*P$74*($T$4/$X$4)+2*$L79*($V$4/$X$4)))+$Y$56-($Y$56-$Z$56)/($F$56-$G$56)*$F$56,($Z$56)/($G$56-$H$56)*(100-(2*P$74*($T$4/$X$4)+2*$L79*($V$4/$X$4)))+$Z$56-($Z$56)/($G$56-$H$56)*$G$56)),-1) -> 82.8 | Q79: =MAX(IF((100-(2*Q$74*($T$4/$X$4)+2*$L79*($V$4/$X$4)))>=$F$56,($X$56-$Y$56)/(100-$F$56)*(100-(2*Q$74*($T$4/$X$4)+2*$L79*($V$4/$X$4)))+$X$56-($X$56-$Y$56)/(100-$F$56)*100,IF((100-(2*Q$74*($T$4/$X$4)+2*$L79*($V$4/$X$4)))>=$G$56,($Y$56-$Z$56)/($F$56-$G$56)*(100-(2*Q$74*($T$4/$X$4)+2*$L79*($V$4/$X$4)))+$Y$56-($Y$56-$Z$56)/($F$56-$G$56)*$F$56,($Z$56)/($G$56-$H$56)*(100-(2*Q$74*($T$4/$X$4)+2*$L79*($V$4/$X$4)))+$Z$56-($Z$56)/($G$56-$H$56)*$G$56)),-1) -> 78.3 | R79: =MAX(IF((100-(2*R$74*($T$4/$X$4)+2*$L79*($V$4/$X$4)))>=$F$56,($X$56-$Y$56)/(100-$F$56)*(100-(2*R$74*($T$4/$X$4)+2*$L79*($V$4/$X$4)))+$X$56-($X$56-$Y$56)/(100-$F$56)*100,IF((100-(2*R$74*($T$4/$X$4)+2*$L79*($V$4/$X$4)))>=$G$56,($Y$56-$Z$56)/($F$56-$G$56)*(100-(2*R$74*($T$4/$X$4)+2*$L79*($V$4/$X$4)))+$Y$56-($Y$56-$Z$56)/($F$56-$G$56)*$F$56,($Z$56)/($G$56-$H$56)*(100-(2*R$74*($T$4/$X$4)+2*$L79*($V$4/$X$4)))+$Z$56-($Z$56)/($G$56-$H$56)*$G$56)),-1) -> 73.8 | S79: =MAX(IF((100-(2*S$74*($T$4/$X$4)+2*$L79*($V$4/$X$4)))>=$F$56,($X$56-$Y$56)/(100-$F$56)*(100-(2*S$74*($T$4/$X$4)+2*$L79*($V$4/$X$4)))+$X$56-($X$56-$Y$56)/(100-$F$56)*100,IF((100-(2*S$74*($T$4/$X$4)+2*$L79*($V$4/$X$4)))>=$G$56,($Y$56-$Z$56)/($F$56-$G$56)*(100-(2*S$74*($T$4/$X$4)+2*$L79*($V$4/$X$4)))+$Y$56-($Y$56-$Z$56)/($F$56-$G$56)*$F$56,($Z$56)/($G$56-$H$56)*(100-(2*S$74*($T$4/$X$4)+2*$L79*($V$4/$X$4)))+$Z$56-($Z$56)/($G$56-$H$56)*$G$56)),-1) -> 69.3 | T79: =MAX(IF((100-(2*T$74*($T$4/$X$4)+2*$L79*($V$4/$X$4)))>=$F$56,($X$56-$Y$56)/(100-$F$56)*(100-(2*T$74*($T$4/$X$4)+2*$L79*($V$4/$X$4)))+$X$56-($X$56-$Y$56)/(100-$F$56)*100,IF((100-(2*T$74*($T$4/$X$4)+2*$L79*($V$4/$X$4)))>=$G$56,($Y$56-$Z$56)/($F$56-$G$56)*(100-(2*T$74*($T$4/$X$4)+2*$L79*($V$4/$X$4)))+$Y$56-($Y$56-$Z$56)/($F$56-$G$56)*$F$56,($Z$56)/($G$56-$H$56)*(100-(2*T$74*($T$4/$X$4)+2*$L79*($V$4/$X$4)))+$Z$56-($Z$56)/($G$56-$H$56)*$G$56)),-1) -> 64.8 | ... AH79: =MAX(IF((100-(2*AH$74*($T$4/$X$4)+2*$L79*($V$4/$X$4)))>=$F$56,($X$56-$Y$56)/(100-$F$56)*(100-(2*AH$74*($T$4/$X$4)+2*$L79*($V$4/$X$4)))+$X$56-($X$56-$Y$56)/(100-$F$56)*100,IF((100-(2*AH$74*($T$4/$X$4)+2*$L79*($V$4/$X$4)))>=$G$56,($Y$56-$Z$56)/($F$56-$G$56)*(100-(2*AH$74*($T$4/$X$4)+2*$L79*($V$4/$X$4)))+$Y$56-($Y$56-$Z$56)/($F$56-$G$56)*$F$56,($Z$56)/($G$56-$H$56)*(100-(2*AH$74*($T$4/$X$4)+2*$L79*($V$4/$X$4)))+$Z$56-($Z$56)/($G$56-$H$56)*$G$56)),-1) -> -1
L80: 5 | M80: =MAX(IF((100-(2*M$74*($T$4/$X$4)+2*$L80*($V$4/$X$4)))>=$F$56,($X$56-$Y$56)/(100-$F$56)*(100-(2*M$74*($T$4/$X$4)+2*$L80*($V$4/$X$4)))+$X$56-($X$56-$Y$56)/(100-$F$56)*100,IF((100-(2*M$74*($T$4/$X$4)+2*$L80*($V$4/$X$4)))>=$G$56,($Y$56-$Z$56)/($F$56-$G$56)*(100-(2*M$74*($T$4/$X$4)+2*$L80*($V$4/$X$4)))+$Y$56-($Y$56-$Z$56)/($F$56-$G$56)*$F$56,($Z$56)/($G$56-$H$56)*(100-(2*M$74*($T$4/$X$4)+2*$L80*($V$4/$X$4)))+$Z$56-($Z$56)/($G$56-$H$56)*$G$56)),-1) -> 91 | N80: =MAX(IF((100-(2*N$74*($T$4/$X$4)+2*$L80*($V$4/$X$4)))>=$F$56,($X$56-$Y$56)/(100-$F$56)*(100-(2*N$74*($T$4/$X$4)+2*$L80*($V$4/$X$4)))+$X$56-($X$56-$Y$56)/(100-$F$56)*100,IF((100-(2*N$74*($T$4/$X$4)+2*$L80*($V$4/$X$4)))>=$G$56,($Y$56-$Z$56)/($F$56-$G$56)*(100-(2*N$74*($T$4/$X$4)+2*$L80*($V$4/$X$4)))+$Y$56-($Y$56-$Z$56)/($F$56-$G$56)*$F$56,($Z$56)/($G$56-$H$56)*(100-(2*N$74*($T$4/$X$4)+2*$L80*($V$4/$X$4)))+$Z$56-($Z$56)/($G$56-$H$56)*$G$56)),-1) -> 87.75 | O80: =MAX(IF((100-(2*O$74*($T$4/$X$4)+2*$L80*($V$4/$X$4)))>=$F$56,($X$56-$Y$56)/(100-$F$56)*(100-(2*O$74*($T$4/$X$4)+2*$L80*($V$4/$X$4)))+$X$56-($X$56-$Y$56)/(100-$F$56)*100,IF((100-(2*O$74*($T$4/$X$4)+2*$L80*($V$4/$X$4)))>=$G$56,($Y$56-$Z$56)/($F$56-$G$56)*(100-(2*O$74*($T$4/$X$4)+2*$L80*($V$4/$X$4)))+$Y$56-($Y$56-$Z$56)/($F$56-$G$56)*$F$56,($Z$56)/($G$56-$H$56)*(100-(2*O$74*($T$4/$X$4)+2*$L80*($V$4/$X$4)))+$Z$56-($Z$56)/($G$56-$H$56)*$G$56)),-1) -> 83.25 | P80: =MAX(IF((100-(2*P$74*($T$4/$X$4)+2*$L80*($V$4/$X$4)))>=$F$56,($X$56-$Y$56)/(100-$F$56)*(100-(2*P$74*($T$4/$X$4)+2*$L80*($V$4/$X$4)))+$X$56-($X$56-$Y$56)/(100-$F$56)*100,IF((100-(2*P$74*($T$4/$X$4)+2*$L80*($V$4/$X$4)))>=$G$56,($Y$56-$Z$56)/($F$56-$G$56)*(100-(2*P$74*($T$4/$X$4)+2*$L80*($V$4/$X$4)))+$Y$56-($Y$56-$Z$56)/($F$56-$G$56)*$F$56,($Z$56)/($G$56-$H$56)*(100-(2*P$74*($T$4/$X$4)+2*$L80*($V$4/$X$4)))+$Z$56-($Z$56)/($G$56-$H$56)*$G$56)),-1) -> 78.75 | Q80: =MAX(IF((100-(2*Q$74*($T$4/$X$4)+2*$L80*($V$4/$X$4)))>=$F$56,($X$56-$Y$56)/(100-$F$56)*(100-(2*Q$74*($T$4/$X$4)+2*$L80*($V$4/$X$4)))+$X$56-($X$56-$Y$56)/(100-$F$56)*100,IF((100-(2*Q$74*($T$4/$X$4)+2*$L80*($V$4/$X$4)))>=$G$56,($Y$56-$Z$56)/($F$56-$G$56)*(100-(2*Q$74*($T$4/$X$4)+2*$L80*($V$4/$X$4)))+$Y$56-($Y$56-$Z$56)/($F$56-$G$56)*$F$56,($Z$56)/($G$56-$H$56)*(100-(2*Q$74*($T$4/$X$4)+2*$L80*($V$4/$X$4)))+$Z$56-($Z$56)/($G$56-$H$56)*$G$56)),-1) -> 74.25 | R80: =MAX(IF((100-(2*R$74*($T$4/$X$4)+2*$L80*($V$4/$X$4)))>=$F$56,($X$56-$Y$56)/(100-$F$56)*(100-(2*R$74*($T$4/$X$4)+2*$L80*($V$4/$X$4)))+$X$56-($X$56-$Y$56)/(100-$F$56)*100,IF((100-(2*R$74*($T$4/$X$4)+2*$L80*($V$4/$X$4)))>=$G$56,($Y$56-$Z$56)/($F$56-$G$56)*(100-(2*R$74*($T$4/$X$4)+2*$L80*($V$4/$X$4)))+$Y$56-($Y$56-$Z$56)/($F$56-$G$56)*$F$56,($Z$56)/($G$56-$H$56)*(100-(2*R$74*($T$4/$X$4)+2*$L80*($V$4/$X$4)))+$Z$56-($Z$56)/($G$56-$H$56)*$G$56)),-1) -> 69.75 | S80: =MAX(IF((100-(2*S$74*($T$4/$X$4)+2*$L80*($V$4/$X$4)))>=$F$56,($X$56-$Y$56)/(100-$F$56)*(100-(2*S$74*($T$4/$X$4)+2*$L80*($V$4/$X$4)))+$X$56-($X$56-$Y$56)/(100-$F$56)*100,IF((100-(2*S$74*($T$4/$X$4)+2*$L80*($V$4/$X$4)))>=$G$56,($Y$56-$Z$56)/($F$56-$G$56)*(100-(2*S$74*($T$4/$X$4)+2*$L80*($V$4/$X$4)))+$Y$56-($Y$56-$Z$56)/($F$56-$G$56)*$F$56,($Z$56)/($G$56-$H$56)*(100-(2*S$74*($T$4/$X$4)+2*$L80*($V$4/$X$4)))+$Z$56-($Z$56)/($G$56-$H$56)*$G$56)),-1) -> 65.25 | T80: =MAX(IF((100-(2*T$74*($T$4/$X$4)+2*$L80*($V$4/$X$4)))>=$F$56,($X$56-$Y$56)/(100-$F$56)*(100-(2*T$74*($T$4/$X$4)+2*$L80*($V$4/$X$4)))+$X$56-($X$56-$Y$56)/(100-$F$56)*100,IF((100-(2*T$74*($T$4/$X$4)+2*$L80*($V$4/$X$4)))>=$G$56,($Y$56-$Z$56)/($F$56-$G$56)*(100-(2*T$74*($T$4/$X$4)+2*$L80*($V$4/$X$4)))+$Y$56-($Y$56-$Z$56)/($F$56-$G$56)*$F$56,($Z$56)/($G$56-$H$56)*(100-(2*T$74*($T$4/$X$4)+2*$L80*($V$4/$X$4)))+$Z$56-($Z$56)/($G$56-$H$56)*$G$56)),-1) -> 60.75 | ... AH80: =MAX(IF((100-(2*AH$74*($T$4/$X$4)+2*$L80*($V$4/$X$4)))>=$F$56,($X$56-$Y$56)/(100-$F$56)*(100-(2*AH$74*($T$4/$X$4)+2*$L80*($V$4/$X$4)))+$X$56-($X$56-$Y$56)/(100-$F$56)*100,IF((100-(2*AH$74*($T$4/$X$4)+2*$L80*($V$4/$X$4)))>=$G$56,($Y$56-$Z$56)/($F$56-$G$56)*(100-(2*AH$74*($T$4/$X$4)+2*$L80*($V$4/$X$4)))+$Y$56-($Y$56-$Z$56)/($F$56-$G$56)*$F$56,($Z$56)/($G$56-$H$56)*(100-(2*AH$74*($T$4/$X$4)+2*$L80*($V$4/$X$4)))+$Z$56-($Z$56)/($G$56-$H$56)*$G$56)),-1) -> -1
L81: 6 | M81: =MAX(IF((100-(2*M$74*($T$4/$X$4)+2*$L81*($V$4/$X$4)))>=$F$56,($X$56-$Y$56)/(100-$F$56)*(100-(2*M$74*($T$4/$X$4)+2*$L81*($V$4/$X$4)))+$X$56-($X$56-$Y$56)/(100-$F$56)*100,IF((100-(2*M$74*($T$4/$X$4)+2*$L81*($V$4/$X$4)))>=$G$56,($Y$56-$Z$56)/($F$56-$G$56)*(100-(2*M$74*($T$4/$X$4)+2*$L81*($V$4/$X$4)))+$Y$56-($Y$56-$Z$56)/($F$56-$G$56)*$F$56,($Z$56)/($G$56-$H$56)*(100-(2*M$74*($T$4/$X$4)+2*$L81*($V$4/$X$4)))+$Z$56-($Z$56)/($G$56-$H$56)*$G$56)),-1) -> 88.2 | N81: =MAX(IF((100-(2*N$74*($T$4/$X$4)+2*$L81*($V$4/$X$4)))>=$F$56,($X$56-$Y$56)/(100-$F$56)*(100-(2*N$74*($T$4/$X$4)+2*$L81*($V$4/$X$4)))+$X$56-($X$56-$Y$56)/(100-$F$56)*100,IF((100-(2*N$74*($T$4/$X$4)+2*$L81*($V$4/$X$4)))>=$G$56,($Y$56-$Z$56)/($F$56-$G$56)*(100-(2*N$74*($T$4/$X$4)+2*$L81*($V$4/$X$4)))+$Y$56-($Y$56-$Z$56)/($F$56-$G$56)*$F$56,($Z$56)/($G$56-$H$56)*(100-(2*N$74*($T$4/$X$4)+2*$L81*($V$4/$X$4)))+$Z$56-($Z$56)/($G$56-$H$56)*$G$56)),-1) -> 83.7 | O81: =MAX(IF((100-(2*O$74*($T$4/$X$4)+2*$L81*($V$4/$X$4)))>=$F$56,($X$56-$Y$56)/(100-$F$56)*(100-(2*O$74*($T$4/$X$4)+2*$L81*($V$4/$X$4)))+$X$56-($X$56-$Y$56)/(100-$F$56)*100,IF((100-(2*O$74*($T$4/$X$4)+2*$L81*($V$4/$X$4)))>=$G$56,($Y$56-$Z$56)/($F$56-$G$56)*(100-(2*O$74*($T$4/$X$4)+2*$L81*($V$4/$X$4)))+$Y$56-($Y$56-$Z$56)/($F$56-$G$56)*$F$56,($Z$56)/($G$56-$H$56)*(100-(2*O$74*($T$4/$X$4)+2*$L81*($V$4/$X$4)))+$Z$56-($Z$56)/($G$56-$H$56)*$G$56)),-1) -> 79.2 | P81: =MAX(IF((100-(2*P$74*($T$4/$X$4)+2*$L81*($V$4/$X$4)))>=$F$56,($X$56-$Y$56)/(100-$F$56)*(100-(2*P$74*($T$4/$X$4)+2*$L81*($V$4/$X$4)))+$X$56-($X$56-$Y$56)/(100-$F$56)*100,IF((100-(2*P$74*($T$4/$X$4)+2*$L81*($V$4/$X$4)))>=$G$56,($Y$56-$Z$56)/($F$56-$G$56)*(100-(2*P$74*($T$4/$X$4)+2*$L81*($V$4/$X$4)))+$Y$56-($Y$56-$Z$56)/($F$56-$G$56)*$F$56,($Z$56)/($G$56-$H$56)*(100-(2*P$74*($T$4/$X$4)+2*$L81*($V$4/$X$4)))+$Z$56-($Z$56)/($G$56-$H$56)*$G$56)),-1) -> 74.7 | Q81: =MAX(IF((100-(2*Q$74*($T$4/$X$4)+2*$L81*($V$4/$X$4)))>=$F$56,($X$56-$Y$56)/(100-$F$56)*(100-(2*Q$74*($T$4/$X$4)+2*$L81*($V$4/$X$4)))+$X$56-($X$56-$Y$56)/(100-$F$56)*100,IF((100-(2*Q$74*($T$4/$X$4)+2*$L81*($V$4/$X$4)))>=$G$56,($Y$56-$Z$56)/($F$56-$G$56)*(100-(2*Q$74*($T$4/$X$4)+2*$L81*($V$4/$X$4)))+$Y$56-($Y$56-$Z$56)/($F$56-$G$56)*$F$56,($Z$56)/($G$56-$H$56)*(100-(2*Q$74*($T$4/$X$4)+2*$L81*($V$4/$X$4)))+$Z$56-($Z$56)/($G$56-$H$56)*$G$56)),-1) -> 70.2 | R81: =MAX(IF((100-(2*R$74*($T$4/$X$4)+2*$L81*($V$4/$X$4)))>=$F$56,($X$56-$Y$56)/(100-$F$56)*(100-(2*R$74*($T$4/$X$4)+2*$L81*($V$4/$X$4)))+$X$56-($X$56-$Y$56)/(100-$F$56)*100,IF((100-(2*R$74*($T$4/$X$4)+2*$L81*($V$4/$X$4)))>=$G$56,($Y$56-$Z$56)/($F$56-$G$56)*(100-(2*R$74*($T$4/$X$4)+2*$L81*($V$4/$X$4)))+$Y$56-($Y$56-$Z$56)/($F$56-$G$56)*$F$56,($Z$56)/($G$56-$H$56)*(100-(2*R$74*($T$4/$X$4)+2*$L81*($V$4/$X$4)))+$Z$56-($Z$56)/($G$56-$H$56)*$G$56)),-1) -> 65.7 | S81: =MAX(IF((100-(2*S$74*($T$4/$X$4)+2*$L81*($V$4/$X$4)))>=$F$56,($X$56-$Y$56)/(100-$F$56)*(100-(2*S$74*($T$4/$X$4)+2*$L81*($V$4/$X$4)))+$X$56-($X$56-$Y$56)/(100-$F$56)*100,IF((100-(2*S$74*($T$4/$X$4)+2*$L81*($V$4/$X$4)))>=$G$56,($Y$56-$Z$56)/($F$56-$G$56)*(100-(2*S$74*($T$4/$X$4)+2*$L81*($V$4/$X$4)))+$Y$56-($Y$56-$Z$56)/($F$56-$G$56)*$F$56,($Z$56)/($G$56-$H$56)*(100-(2*S$74*($T$4/$X$4)+2*$L81*($V$4/$X$4)))+$Z$56-($Z$56)/($G$56-$H$56)*$G$56)),-1) -> 61.2 | T81: =MAX(IF((100-(2*T$74*($T$4/$X$4)+2*$L81*($V$4/$X$4)))>=$F$56,($X$56-$Y$56)/(100-$F$56)*(100-(2*T$74*($T$4/$X$4)+2*$L81*($V$4/$X$4)))+$X$56-($X$56-$Y$56)/(100-$F$56)*100,IF((100-(2*T$74*($T$4/$X$4)+2*$L81*($V$4/$X$4)))>=$G$56,($Y$56-$Z$56)/($F$56-$G$56)*(100-(2*T$74*($T$4/$X$4)+2*$L81*($V$4/$X$4)))+$Y$56-($Y$56-$Z$56)/($F$56-$G$56)*$F$56,($Z$56)/($G$56-$H$56)*(100-(2*T$74*($T$4/$X$4)+2*$L81*($V$4/$X$4)))+$Z$56-($Z$56)/($G$56-$H$56)*$G$56)),-1) -> 56.7 | ... AH81: =MAX(IF((100-(2*AH$74*($T$4/$X$4)+2*$L81*($V$4/$X$4)))>=$F$56,($X$56-$Y$56)/(100-$F$56)*(100-(2*AH$74*($T$4/$X$4)+2*$L81*($V$4/$X$4)))+$X$56-($X$56-$Y$56)/(100-$F$56)*100,IF((100-(2*AH$74*($T$4/$X$4)+2*$L81*($V$4/$X$4)))>=$G$56,($Y$56-$Z$56)/($F$56-$G$56)*(100-(2*AH$74*($T$4/$X$4)+2*$L81*($V$4/$X$4)))+$Y$56-($Y$56-$Z$56)/($F$56-$G$56)*$F$56,($Z$56)/($G$56-$H$56)*(100-(2*AH$74*($T$4/$X$4)+2*$L81*($V$4/$X$4)))+$Z$56-($Z$56)/($G$56-$H$56)*$G$56)),-1) -> -1
L82: 7 | M82: =MAX(IF((100-(2*M$74*($T$4/$X$4)+2*$L82*($V$4/$X$4)))>=$F$56,($X$56-$Y$56)/(100-$F$56)*(100-(2*M$74*($T$4/$X$4)+2*$L82*($V$4/$X$4)))+$X$56-($X$56-$Y$56)/(100-$F$56)*100,IF((100-(2*M$74*($T$4/$X$4)+2*$L82*($V$4/$X$4)))>=$G$56,($Y$56-$Z$56)/($F$56-$G$56)*(100-(2*M$74*($T$4/$X$4)+2*$L82*($V$4/$X$4)))+$Y$56-($Y$56-$Z$56)/($F$56-$G$56)*$F$56,($Z$56)/($G$56-$H$56)*(100-(2*M$74*($T$4/$X$4)+2*$L82*($V$4/$X$4)))+$Z$56-($Z$56)/($G$56-$H$56)*$G$56)),-1) -> 84.15 | N82: =MAX(IF((100-(2*N$74*($T$4/$X$4)+2*$L82*($V$4/$X$4)))>=$F$56,($X$56-$Y$56)/(100-$F$56)*(100-(2*N$74*($T$4/$X$4)+2*$L82*($V$4/$X$4)))+$X$56-($X$56-$Y$56)/(100-$F$56)*100,IF((100-(2*N$74*($T$4/$X$4)+2*$L82*($V$4/$X$4)))>=$G$56,($Y$56-$Z$56)/($F$56-$G$56)*(100-(2*N$74*($T$4/$X$4)+2*$L82*($V$4/$X$4)))+$Y$56-($Y$56-$Z$56)/($F$56-$G$56)*$F$56,($Z$56)/($G$56-$H$56)*(100-(2*N$74*($T$4/$X$4)+2*$L82*($V$4/$X$4)))+$Z$56-($Z$56)/($G$56-$H$56)*$G$56)),-1) -> 79.65 | O82: =MAX(IF((100-(2*O$74*($T$4/$X$4)+2*$L82*($V$4/$X$4)))>=$F$56,($X$56-$Y$56)/(100-$F$56)*(100-(2*O$74*($T$4/$X$4)+2*$L82*($V$4/$X$4)))+$X$56-($X$56-$Y$56)/(100-$F$56)*100,IF((100-(2*O$74*($T$4/$X$4)+2*$L82*($V$4/$X$4)))>=$G$56,($Y$56-$Z$56)/($F$56-$G$56)*(100-(2*O$74*($T$4/$X$4)+2*$L82*($V$4/$X$4)))+$Y$56-($Y$56-$Z$56)/($F$56-$G$56)*$F$56,($Z$56)/($G$56-$H$56)*(100-(2*O$74*($T$4/$X$4)+2*$L82*($V$4/$X$4)))+$Z$56-($Z$56)/($G$56-$H$56)*$G$56)),-1) -> 75.15 | P82: =MAX(IF((100-(2*P$74*($T$4/$X$4)+2*$L82*($V$4/$X$4)))>=$F$56,($X$56-$Y$56)/(100-$F$56)*(100-(2*P$74*($T$4/$X$4)+2*$L82*($V$4/$X$4)))+$X$56-($X$56-$Y$56)/(100-$F$56)*100,IF((100-(2*P$74*($T$4/$X$4)+2*$L82*($V$4/$X$4)))>=$G$56,($Y$56-$Z$56)/($F$56-$G$56)*(100-(2*P$74*($T$4/$X$4)+2*$L82*($V$4/$X$4)))+$Y$56-($Y$56-$Z$56)/($F$56-$G$56)*$F$56,($Z$56)/($G$56-$H$56)*(100-(2*P$74*($T$4/$X$4)+2*$L82*($V$4/$X$4)))+$Z$56-($Z$56)/($G$56-$H$56)*$G$56)),-1) -> 70.65 | Q82: =MAX(IF((100-(2*Q$74*($T$4/$X$4)+2*$L82*($V$4/$X$4)))>=$F$56,($X$56-$Y$56)/(100-$F$56)*(100-(2*Q$74*($T$4/$X$4)+2*$L82*($V$4/$X$4)))+$X$56-($X$56-$Y$56)/(100-$F$56)*100,IF((100-(2*Q$74*($T$4/$X$4)+2*$L82*($V$4/$X$4)))>=$G$56,($Y$56-$Z$56)/($F$56-$G$56)*(100-(2*Q$74*($T$4/$X$4)+2*$L82*($V$4/$X$4)))+$Y$56-($Y$56-$Z$56)/($F$56-$G$56)*$F$56,($Z$56)/($G$56-$H$56)*(100-(2*Q$74*($T$4/$X$4)+2*$L82*($V$4/$X$4)))+$Z$56-($Z$56)/($G$56-$H$56)*$G$56)),-1) -> 66.15 | R82: =MAX(IF((100-(2*R$74*($T$4/$X$4)+2*$L82*($V$4/$X$4)))>=$F$56,($X$56-$Y$56)/(100-$F$56)*(100-(2*R$74*($T$4/$X$4)+2*$L82*($V$4/$X$4)))+$X$56-($X$56-$Y$56)/(100-$F$56)*100,IF((100-(2*R$74*($T$4/$X$4)+2*$L82*($V$4/$X$4)))>=$G$56,($Y$56-$Z$56)/($F$56-$G$56)*(100-(2*R$74*($T$4/$X$4)+2*$L82*($V$4/$X$4)))+$Y$56-($Y$56-$Z$56)/($F$56-$G$56)*$F$56,($Z$56)/($G$56-$H$56)*(100-(2*R$74*($T$4/$X$4)+2*$L82*($V$4/$X$4)))+$Z$56-($Z$56)/($G$56-$H$56)*$G$56)),-1) -> 61.65 | S82: =MAX(IF((100-(2*S$74*($T$4/$X$4)+2*$L82*($V$4/$X$4)))>=$F$56,($X$56-$Y$56)/(100-$F$56)*(100-(2*S$74*($T$4/$X$4)+2*$L82*($V$4/$X$4)))+$X$56-($X$56-$Y$56)/(100-$F$56)*100,IF((100-(2*S$74*($T$4/$X$4)+2*$L82*($V$4/$X$4)))>=$G$56,($Y$56-$Z$56)/($F$56-$G$56)*(100-(2*S$74*($T$4/$X$4)+2*$L82*($V$4/$X$4)))+$Y$56-($Y$56-$Z$56)/($F$56-$G$56)*$F$56,($Z$56)/($G$56-$H$56)*(100-(2*S$74*($T$4/$X$4)+2*$L82*($V$4/$X$4)))+$Z$56-($Z$56)/($G$56-$H$56)*$G$56)),-1) -> 57.15 | T82: =MAX(IF((100-(2*T$74*($T$4/$X$4)+2*$L82*($V$4/$X$4)))>=$F$56,($X$56-$Y$56)/(100-$F$56)*(100-(2*T$74*($T$4/$X$4)+2*$L82*($V$4/$X$4)))+$X$56-($X$56-$Y$56)/(100-$F$56)*100,IF((100-(2*T$74*($T$4/$X$4)+2*$L82*($V$4/$X$4)))>=$G$56,($Y$56-$Z$56)/($F$56-$G$56)*(100-(2*T$74*($T$4/$X$4)+2*$L82*($V$4/$X$4)))+$Y$56-($Y$56-$Z$56)/($F$56-$G$56)*$F$56,($Z$56)/($G$56-$H$56)*(100-(2*T$74*($T$4/$X$4)+2*$L82*($V$4/$X$4)))+$Z$56-($Z$56)/($G$56-$H$56)*$G$56)),-1) -> 52.65 | ... AH82: =MAX(IF((100-(2*AH$74*($T$4/$X$4)+2*$L82*($V$4/$X$4)))>=$F$56,($X$56-$Y$56)/(100-$F$56)*(100-(2*AH$74*($T$4/$X$4)+2*$L82*($V$4/$X$4)))+$X$56-($X$56-$Y$56)/(100-$F$56)*100,IF((100-(2*AH$74*($T$4/$X$4)+2*$L82*($V$4/$X$4)))>=$G$56,($Y$56-$Z$56)/($F$56-$G$56)*(100-(2*AH$74*($T$4/$X$4)+2*$L82*($V$4/$X$4)))+$Y$56-($Y$56-$Z$56)/($F$56-$G$56)*$F$56,($Z$56)/($G$56-$H$56)*(100-(2*AH$74*($T$4/$X$4)+2*$L82*($V$4/$X$4)))+$Z$56-($Z$56)/($G$56-$H$56)*$G$56)),-1) -> -1
L83: 8 | M83: =MAX(IF((100-(2*M$74*($T$4/$X$4)+2*$L83*($V$4/$X$4)))>=$F$56,($X$56-$Y$56)/(100-$F$56)*(100-(2*M$74*($T$4/$X$4)+2*$L83*($V$4/$X$4)))+$X$56-($X$56-$Y$56)/(100-$F$56)*100,IF((100-(2*M$74*($T$4/$X$4)+2*$L83*($V$4/$X$4)))>=$G$56,($Y$56-$Z$56)/($F$56-$G$56)*(100-(2*M$74*($T$4/$X$4)+2*$L83*($V$4/$X$4)))+$Y$56-($Y$56-$Z$56)/($F$56-$G$56)*$F$56,($Z$56)/($G$56-$H$56)*(100-(2*M$74*($T$4/$X$4)+2*$L83*($V$4/$X$4)))+$Z$56-($Z$56)/($G$56-$H$56)*$G$56)),-1) -> 80.1 | N83: =MAX(IF((100-(2*N$74*($T$4/$X$4)+2*$L83*($V$4/$X$4)))>=$F$56,($X$56-$Y$56)/(100-$F$56)*(100-(2*N$74*($T$4/$X$4)+2*$L83*($V$4/$X$4)))+$X$56-($X$56-$Y$56)/(100-$F$56)*100,IF((100-(2*N$74*($T$4/$X$4)+2*$L83*($V$4/$X$4)))>=$G$56,($Y$56-$Z$56)/($F$56-$G$56)*(100-(2*N$74*($T$4/$X$4)+2*$L83*($V$4/$X$4)))+$Y$56-($Y$56-$Z$56)/($F$56-$G$56)*$F$56,($Z$56)/($G$56-$H$56)*(100-(2*N$74*($T$4/$X$4)+2*$L83*($V$4/$X$4)))+$Z$56-($Z$56)/($G$56-$H$56)*$G$56)),-1) -> 75.6 | O83: =MAX(IF((100-(2*O$74*($T$4/$X$4)+2*$L83*($V$4/$X$4)))>=$F$56,($X$56-$Y$56)/(100-$F$56)*(100-(2*O$74*($T$4/$X$4)+2*$L83*($V$4/$X$4)))+$X$56-($X$56-$Y$56)/(100-$F$56)*100,IF((100-(2*O$74*($T$4/$X$4)+2*$L83*($V$4/$X$4)))>=$G$56,($Y$56-$Z$56)/($F$56-$G$56)*(100-(2*O$74*($T$4/$X$4)+2*$L83*($V$4/$X$4)))+$Y$56-($Y$56-$Z$56)/($F$56-$G$56)*$F$56,($Z$56)/($G$56-$H$56)*(100-(2*O$74*($T$4/$X$4)+2*$L83*($V$4/$X$4)))+$Z$56-($Z$56)/($G$56-$H$56)*$G$56)),-1) -> 71.1 | P83: =MAX(IF((100-(2*P$74*($T$4/$X$4)+2*$L83*($V$4/$X$4)))>=$F$56,($X$56-$Y$56)/(100-$F$56)*(100-(2*P$74*($T$4/$X$4)+2*$L83*($V$4/$X$4)))+$X$56-($X$56-$Y$56)/(100-$F$56)*100,IF((100-(2*P$74*($T$4/$X$4)+2*$L83*($V$4/$X$4)))>=$G$56,($Y$56-$Z$56)/($F$56-$G$56)*(100-(2*P$74*($T$4/$X$4)+2*$L83*($V$4/$X$4)))+$Y$56-($Y$56-$Z$56)/($F$56-$G$56)*$F$56,($Z$56)/($G$56-$H$56)*(100-(2*P$74*($T$4/$X$4)+2*$L83*($V$4/$X$4)))+$Z$56-($Z$56)/($G$56-$H$56)*$G$56)),-1) -> 66.6 | Q83: =MAX(IF((100-(2*Q$74*($T$4/$X$4)+2*$L83*($V$4/$X$4)))>=$F$56,($X$56-$Y$56)/(100-$F$56)*(100-(2*Q$74*($T$4/$X$4)+2*$L83*($V$4/$X$4)))+$X$56-($X$56-$Y$56)/(100-$F$56)*100,IF((100-(2*Q$74*($T$4/$X$4)+2*$L83*($V$4/$X$4)))>=$G$56,($Y$56-$Z$56)/($F$56-$G$56)*(100-(2*Q$74*($T$4/$X$4)+2*$L83*($V$4/$X$4)))+$Y$56-($Y$56-$Z$56)/($F$56-$G$56)*$F$56,($Z$56)/($G$56-$H$56)*(100-(2*Q$74*($T$4/$X$4)+2*$L83*($V$4/$X$4)))+$Z$56-($Z$56)/($G$56-$H$56)*$G$56)),-1) -> 62.1 | R83: =MAX(IF((100-(2*R$74*($T$4/$X$4)+2*$L83*($V$4/$X$4)))>=$F$56,($X$56-$Y$56)/(100-$F$56)*(100-(2*R$74*($T$4/$X$4)+2*$L83*($V$4/$X$4)))+$X$56-($X$56-$Y$56)/(100-$F$56)*100,IF((100-(2*R$74*($T$4/$X$4)+2*$L83*($V$4/$X$4)))>=$G$56,($Y$56-$Z$56)/($F$56-$G$56)*(100-(2*R$74*($T$4/$X$4)+2*$L83*($V$4/$X$4)))+$Y$56-($Y$56-$Z$56)/($F$56-$G$56)*$F$56,($Z$56)/($G$56-$H$56)*(100-(2*R$74*($T$4/$X$4)+2*$L83*($V$4/$X$4)))+$Z$56-($Z$56)/($G$56-$H$56)*$G$56)),-1) -> 57.6 | S83: =MAX(IF((100-(2*S$74*($T$4/$X$4)+2*$L83*($V$4/$X$4)))>=$F$56,($X$56-$Y$56)/(100-$F$56)*(100-(2*S$74*($T$4/$X$4)+2*$L83*($V$4/$X$4)))+$X$56-($X$56-$Y$56)/(100-$F$56)*100,IF((100-(2*S$74*($T$4/$X$4)+2*$L83*($V$4/$X$4)))>=$G$56,($Y$56-$Z$56)/($F$56-$G$56)*(100-(2*S$74*($T$4/$X$4)+2*$L83*($V$4/$X$4)))+$Y$56-($Y$56-$Z$56)/($F$56-$G$56)*$F$56,($Z$56)/($G$56-$H$56)*(100-(2*S$74*($T$4/$X$4)+2*$L83*($V$4/$X$4)))+$Z$56-($Z$56)/($G$56-$H$56)*$G$56)),-1) -> 53.1 | T83: =MAX(IF((100-(2*T$74*($T$4/$X$4)+2*$L83*($V$4/$X$4)))>=$F$56,($X$56-$Y$56)/(100-$F$56)*(100-(2*T$74*($T$4/$X$4)+2*$L83*($V$4/$X$4)))+$X$56-($X$56-$Y$56)/(100-$F$56)*100,IF((100-(2*T$74*($T$4/$X$4)+2*$L83*($V$4/$X$4)))>=$G$56,($Y$56-$Z$56)/($F$56-$G$56)*(100-(2*T$74*($T$4/$X$4)+2*$L83*($V$4/$X$4)))+$Y$56-($Y$56-$Z$56)/($F$56-$G$56)*$F$56,($Z$56)/($G$56-$H$56)*(100-(2*T$74*($T$4/$X$4)+2*$L83*($V$4/$X$4)))+$Z$56-($Z$56)/($G$56-$H$56)*$G$56)),-1) -> 48.6 | ... AH83: =MAX(IF((100-(2*AH$74*($T$4/$X$4)+2*$L83*($V$4/$X$4)))>=$F$56,($X$56-$Y$56)/(100-$F$56)*(100-(2*AH$74*($T$4/$X$4)+2*$L83*($V$4/$X$4)))+$X$56-($X$56-$Y$56)/(100-$F$56)*100,IF((100-(2*AH$74*($T$4/$X$4)+2*$L83*($V$4/$X$4)))>=$G$56,($Y$56-$Z$56)/($F$56-$G$56)*(100-(2*AH$74*($T$4/$X$4)+2*$L83*($V$4/$X$4)))+$Y$56-($Y$56-$Z$56)/($F$56-$G$56)*$F$56,($Z$56)/($G$56-$H$56)*(100-(2*AH$74*($T$4/$X$4)+2*$L83*($V$4/$X$4)))+$Z$56-($Z$56)/($G$56-$H$56)*$G$56)),-1) -> -1
L84: 9 | M84: =MAX(IF((100-(2*M$74*($T$4/$X$4)+2*$L84*($V$4/$X$4)))>=$F$56,($X$56-$Y$56)/(100-$F$56)*(100-(2*M$74*($T$4/$X$4)+2*$L84*($V$4/$X$4)))+$X$56-($X$56-$Y$56)/(100-$F$56)*100,IF((100-(2*M$74*($T$4/$X$4)+2*$L84*($V$4/$X$4)))>=$G$56,($Y$56-$Z$56)/($F$56-$G$56)*(100-(2*M$74*($T$4/$X$4)+2*$L84*($V$4/$X$4)))+$Y$56-($Y$56-$Z$56)/($F$56-$G$56)*$F$56,($Z$56)/($G$56-$H$56)*(100-(2*M$74*($T$4/$X$4)+2*$L84*($V$4/$X$4)))+$Z$56-($Z$56)/($G$56-$H$56)*$G$56)),-1) -> 76.05 | N84: =MAX(IF((100-(2*N$74*($T$4/$X$4)+2*$L84*($V$4/$X$4)))>=$F$56,($X$56-$Y$56)/(100-$F$56)*(100-(2*N$74*($T$4/$X$4)+2*$L84*($V$4/$X$4)))+$X$56-($X$56-$Y$56)/(100-$F$56)*100,IF((100-(2*N$74*($T$4/$X$4)+2*$L84*($V$4/$X$4)))>=$G$56,($Y$56-$Z$56)/($F$56-$G$56)*(100-(2*N$74*($T$4/$X$4)+2*$L84*($V$4/$X$4)))+$Y$56-($Y$56-$Z$56)/($F$56-$G$56)*$F$56,($Z$56)/($G$56-$H$56)*(100-(2*N$74*($T$4/$X$4)+2*$L84*($V$4/$X$4)))+$Z$56-($Z$56)/($G$56-$H$56)*$G$56)),-1) -> 71.55 | O84: =MAX(IF((100-(2*O$74*($T$4/$X$4)+2*$L84*($V$4/$X$4)))>=$F$56,($X$56-$Y$56)/(100-$F$56)*(100-(2*O$74*($T$4/$X$4)+2*$L84*($V$4/$X$4)))+$X$56-($X$56-$Y$56)/(100-$F$56)*100,IF((100-(2*O$74*($T$4/$X$4)+2*$L84*($V$4/$X$4)))>=$G$56,($Y$56-$Z$56)/($F$56-$G$56)*(100-(2*O$74*($T$4/$X$4)+2*$L84*($V$4/$X$4)))+$Y$56-($Y$56-$Z$56)/($F$56-$G$56)*$F$56,($Z$56)/($G$56-$H$56)*(100-(2*O$74*($T$4/$X$4)+2*$L84*($V$4/$X$4)))+$Z$56-($Z$56)/($G$56-$H$56)*$G$56)),-1) -> 67.05 | P84: =MAX(IF((100-(2*P$74*($T$4/$X$4)+2*$L84*($V$4/$X$4)))>=$F$56,($X$56-$Y$56)/(100-$F$56)*(100-(2*P$74*($T$4/$X$4)+2*$L84*($V$4/$X$4)))+$X$56-($X$56-$Y$56)/(100-$F$56)*100,IF((100-(2*P$74*($T$4/$X$4)+2*$L84*($V$4/$X$4)))>=$G$56,($Y$56-$Z$56)/($F$56-$G$56)*(100-(2*P$74*($T$4/$X$4)+2*$L84*($V$4/$X$4)))+$Y$56-($Y$56-$Z$56)/($F$56-$G$56)*$F$56,($Z$56)/($G$56-$H$56)*(100-(2*P$74*($T$4/$X$4)+2*$L84*($V$4/$X$4)))+$Z$56-($Z$56)/($G$56-$H$56)*$G$56)),-1) -> 62.55 | Q84: =MAX(IF((100-(2*Q$74*($T$4/$X$4)+2*$L84*($V$4/$X$4)))>=$F$56,($X$56-$Y$56)/(100-$F$56)*(100-(2*Q$74*($T$4/$X$4)+2*$L84*($V$4/$X$4)))+$X$56-($X$56-$Y$56)/(100-$F$56)*100,IF((100-(2*Q$74*($T$4/$X$4)+2*$L84*($V$4/$X$4)))>=$G$56,($Y$56-$Z$56)/($F$56-$G$56)*(100-(2*Q$74*($T$4/$X$4)+2*$L84*($V$4/$X$4)))+$Y$56-($Y$56-$Z$56)/($F$56-$G$56)*$F$56,($Z$56)/($G$56-$H$56)*(100-(2*Q$74*($T$4/$X$4)+2*$L84*($V$4/$X$4)))+$Z$56-($Z$56)/($G$56-$H$56)*$G$56)),-1) -> 58.05 | R84: =MAX(IF((100-(2*R$74*($T$4/$X$4)+2*$L84*($V$4/$X$4)))>=$F$56,($X$56-$Y$56)/(100-$F$56)*(100-(2*R$74*($T$4/$X$4)+2*$L84*($V$4/$X$4)))+$X$56-($X$56-$Y$56)/(100-$F$56)*100,IF((100-(2*R$74*($T$4/$X$4)+2*$L84*($V$4/$X$4)))>=$G$56,($Y$56-$Z$56)/($F$56-$G$56)*(100-(2*R$74*($T$4/$X$4)+2*$L84*($V$4/$X$4)))+$Y$56-($Y$56-$Z$56)/($F$56-$G$56)*$F$56,($Z$56)/($G$56-$H$56)*(100-(2*R$74*($T$4/$X$4)+2*$L84*($V$4/$X$4)))+$Z$56-($Z$56)/($G$56-$H$56)*$G$56)),-1) -> 53.55 | S84: =MAX(IF((100-(2*S$74*($T$4/$X$4)+2*$L84*($V$4/$X$4)))>=$F$56,($X$56-$Y$56)/(100-$F$56)*(100-(2*S$74*($T$4/$X$4)+2*$L84*($V$4/$X$4)))+$X$56-($X$56-$Y$56)/(100-$F$56)*100,IF((100-(2*S$74*($T$4/$X$4)+2*$L84*($V$4/$X$4)))>=$G$56,($Y$56-$Z$56)/($F$56-$G$56)*(100-(2*S$74*($T$4/$X$4)+2*$L84*($V$4/$X$4)))+$Y$56-($Y$56-$Z$56)/($F$56-$G$56)*$F$56,($Z$56)/($G$56-$H$56)*(100-(2*S$74*($T$4/$X$4)+2*$L84*($V$4/$X$4)))+$Z$56-($Z$56)/($G$56-$H$56)*$G$56)),-1) -> 49.05 | T84: =MAX(IF((100-(2*T$74*($T$4/$X$4)+2*$L84*($V$4/$X$4)))>=$F$56,($X$56-$Y$56)/(100-$F$56)*(100-(2*T$74*($T$4/$X$4)+2*$L84*($V$4/$X$4)))+$X$56-($X$56-$Y$56)/(100-$F$56)*100,IF((100-(2*T$74*($T$4/$X$4)+2*$L84*($V$4/$X$4)))>=$G$56,($Y$56-$Z$56)/($F$56-$G$56)*(100-(2*T$74*($T$4/$X$4)+2*$L84*($V$4/$X$4)))+$Y$56-($Y$56-$Z$56)/($F$56-$G$56)*$F$56,($Z$56)/($G$56-$H$56)*(100-(2*T$74*($T$4/$X$4)+2*$L84*($V$4/$X$4)))+$Z$56-($Z$56)/($G$56-$H$56)*$G$56)),-1) -> 44.1 | ... AH84: =MAX(IF((100-(2*AH$74*($T$4/$X$4)+2*$L84*($V$4/$X$4)))>=$F$56,($X$56-$Y$56)/(100-$F$56)*(100-(2*AH$74*($T$4/$X$4)+2*$L84*($V$4/$X$4)))+$X$56-($X$56-$Y$56)/(100-$F$56)*100,IF((100-(2*AH$74*($T$4/$X$4)+2*$L84*($V$4/$X$4)))>=$G$56,($Y$56-$Z$56)/($F$56-$G$56)*(100-(2*AH$74*($T$4/$X$4)+2*$L84*($V$4/$X$4)))+$Y$56-($Y$56-$Z$56)/($F$56-$G$56)*$F$56,($Z$56)/($G$56-$H$56)*(100-(2*AH$74*($T$4/$X$4)+2*$L84*($V$4/$X$4)))+$Z$56-($Z$56)/($G$56-$H$56)*$G$56)),-1) -> -1
L85: 10 | M85: =MAX(IF((100-(2*M$74*($T$4/$X$4)+2*$L85*($V$4/$X$4)))>=$F$56,($X$56-$Y$56)/(100-$F$56)*(100-(2*M$74*($T$4/$X$4)+2*$L85*($V$4/$X$4)))+$X$56-($X$56-$Y$56)/(100-$F$56)*100,IF((100-(2*M$74*($T$4/$X$4)+2*$L85*($V$4/$X$4)))>=$G$56,($Y$56-$Z$56)/($F$56-$G$56)*(100-(2*M$74*($T$4/$X$4)+2*$L85*($V$4/$X$4)))+$Y$56-($Y$56-$Z$56)/($F$56-$G$56)*$F$56,($Z$56)/($G$56-$H$56)*(100-(2*M$74*($T$4/$X$4)+2*$L85*($V$4/$X$4)))+$Z$56-($Z$56)/($G$56-$H$56)*$G$56)),-1) -> 72 | N85: =MAX(IF((100-(2*N$74*($T$4/$X$4)+2*$L85*($V$4/$X$4)))>=$F$56,($X$56-$Y$56)/(100-$F$56)*(100-(2*N$74*($T$4/$X$4)+2*$L85*($V$4/$X$4)))+$X$56-($X$56-$Y$56)/(100-$F$56)*100,IF((100-(2*N$74*($T$4/$X$4)+2*$L85*($V$4/$X$4)))>=$G$56,($Y$56-$Z$56)/($F$56-$G$56)*(100-(2*N$74*($T$4/$X$4)+2*$L85*($V$4/$X$4)))+$Y$56-($Y$56-$Z$56)/($F$56-$G$56)*$F$56,($Z$56)/($G$56-$H$56)*(100-(2*N$74*($T$4/$X$4)+2*$L85*($V$4/$X$4)))+$Z$56-($Z$56)/($G$56-$H$56)*$G$56)),-1) -> 67.5 | O85: =MAX(IF((100-(2*O$74*($T$4/$X$4)+2*$L85*($V$4/$X$4)))>=$F$56,($X$56-$Y$56)/(100-$F$56)*(100-(2*O$74*($T$4/$X$4)+2*$L85*($V$4/$X$4)))+$X$56-($X$56-$Y$56)/(100-$F$56)*100,IF((100-(2*O$74*($T$4/$X$4)+2*$L85*($V$4/$X$4)))>=$G$56,($Y$56-$Z$56)/($F$56-$G$56)*(100-(2*O$74*($T$4/$X$4)+2*$L85*($V$4/$X$4)))+$Y$56-($Y$56-$Z$56)/($F$56-$G$56)*$F$56,($Z$56)/($G$56-$H$56)*(100-(2*O$74*($T$4/$X$4)+2*$L85*($V$4/$X$4)))+$Z$56-($Z$56)/($G$56-$H$56)*$G$56)),-1) -> 63 | P85: =MAX(IF((100-(2*P$74*($T$4/$X$4)+2*$L85*($V$4/$X$4)))>=$F$56,($X$56-$Y$56)/(100-$F$56)*(100-(2*P$74*($T$4/$X$4)+2*$L85*($V$4/$X$4)))+$X$56-($X$56-$Y$56)/(100-$F$56)*100,IF((100-(2*P$74*($T$4/$X$4)+2*$L85*($V$4/$X$4)))>=$G$56,($Y$56-$Z$56)/($F$56-$G$56)*(100-(2*P$74*($T$4/$X$4)+2*$L85*($V$4/$X$4)))+$Y$56-($Y$56-$Z$56)/($F$56-$G$56)*$F$56,($Z$56)/($G$56-$H$56)*(100-(2*P$74*($T$4/$X$4)+2*$L85*($V$4/$X$4)))+$Z$56-($Z$56)/($G$56-$H$56)*$G$56)),-1) -> 58.5 | Q85: =MAX(IF((100-(2*Q$74*($T$4/$X$4)+2*$L85*($V$4/$X$4)))>=$F$56,($X$56-$Y$56)/(100-$F$56)*(100-(2*Q$74*($T$4/$X$4)+2*$L85*($V$4/$X$4)))+$X$56-($X$56-$Y$56)/(100-$F$56)*100,IF((100-(2*Q$74*($T$4/$X$4)+2*$L85*($V$4/$X$4)))>=$G$56,($Y$56-$Z$56)/($F$56-$G$56)*(100-(2*Q$74*($T$4/$X$4)+2*$L85*($V$4/$X$4)))+$Y$56-($Y$56-$Z$56)/($F$56-$G$56)*$F$56,($Z$56)/($G$56-$H$56)*(100-(2*Q$74*($T$4/$X$4)+2*$L85*($V$4/$X$4)))+$Z$56-($Z$56)/($G$56-$H$56)*$G$56)),-1) -> 54 | R85: =MAX(IF((100-(2*R$74*($T$4/$X$4)+2*$L85*($V$4/$X$4)))>=$F$56,($X$56-$Y$56)/(100-$F$56)*(100-(2*R$74*($T$4/$X$4)+2*$L85*($V$4/$X$4)))+$X$56-($X$56-$Y$56)/(100-$F$56)*100,IF((100-(2*R$74*($T$4/$X$4)+2*$L85*($V$4/$X$4)))>=$G$56,($Y$56-$Z$56)/($F$56-$G$56)*(100-(2*R$74*($T$4/$X$4)+2*$L85*($V$4/$X$4)))+$Y$56-($Y$56-$Z$56)/($F$56-$G$56)*$F$56,($Z$56)/($G$56-$H$56)*(100-(2*R$74*($T$4/$X$4)+2*$L85*($V$4/$X$4)))+$Z$56-($Z$56)/($G$56-$H$56)*$G$56)),-1) -> 49.5 | S85: =MAX(IF((100-(2*S$74*($T$4/$X$4)+2*$L85*($V$4/$X$4)))>=$F$56,($X$56-$Y$56)/(100-$F$56)*(100-(2*S$74*($T$4/$X$4)+2*$L85*($V$4/$X$4)))+$X$56-($X$56-$Y$56)/(100-$F$56)*100,IF((100-(2*S$74*($T$4/$X$4)+2*$L85*($V$4/$X$4)))>=$G$56,($Y$56-$Z$56)/($F$56-$G$56)*(100-(2*S$74*($T$4/$X$4)+2*$L85*($V$4/$X$4)))+$Y$56-($Y$56-$Z$56)/($F$56-$G$56)*$F$56,($Z$56)/($G$56-$H$56)*(100-(2*S$74*($T$4/$X$4)+2*$L85*($V$4/$X$4)))+$Z$56-($Z$56)/($G$56-$H$56)*$G$56)),-1) -> 45 | T85: =MAX(IF((100-(2*T$74*($T$4/$X$4)+2*$L85*($V$4/$X$4)))>=$F$56,($X$56-$Y$56)/(100-$F$56)*(100-(2*T$74*($T$4/$X$4)+2*$L85*($V$4/$X$4)))+$X$56-($X$56-$Y$56)/(100-$F$56)*100,IF((100-(2*T$74*($T$4/$X$4)+2*$L85*($V$4/$X$4)))>=$G$56,($Y$56-$Z$56)/($F$56-$G$56)*(100-(2*T$74*($T$4/$X$4)+2*$L85*($V$4/$X$4)))+$Y$56-($Y$56-$Z$56)/($F$56-$G$56)*$F$56,($Z$56)/($G$56-$H$56)*(100-(2*T$74*($T$4/$X$4)+2*$L85*($V$4/$X$4)))+$Z$56-($Z$56)/($G$56-$H$56)*$G$56)),-1) -> 36 | ... AH85: =MAX(IF((100-(2*AH$74*($T$4/$X$4)+2*$L85*($V$4/$X$4)))>=$F$56,($X$56-$Y$56)/(100-$F$56)*(100-(2*AH$74*($T$4/$X$4)+2*$L85*($V$4/$X$4)))+$X$56-($X$56-$Y$56)/(100-$F$56)*100,IF((100-(2*AH$74*($T$4/$X$4)+2*$L85*($V$4/$X$4)))>=$G$56,($Y$56-$Z$56)/($F$56-$G$56)*(100-(2*AH$74*($T$4/$X$4)+2*$L85*($V$4/$X$4)))+$Y$56-($Y$56-$Z$56)/($F$56-$G$56)*$F$56,($Z$56)/($G$56-$H$56)*(100-(2*AH$74*($T$4/$X$4)+2*$L85*($V$4/$X$4)))+$Z$56-($Z$56)/($G$56-$H$56)*$G$56)),-1) -> -1
L86: 11 | M86: =MAX(IF((100-(2*M$74*($T$4/$X$4)+2*$L86*($V$4/$X$4)))>=$F$56,($X$56-$Y$56)/(100-$F$56)*(100-(2*M$74*($T$4/$X$4)+2*$L86*($V$4/$X$4)))+$X$56-($X$56-$Y$56)/(100-$F$56)*100,IF((100-(2*M$74*($T$4/$X$4)+2*$L86*($V$4/$X$4)))>=$G$56,($Y$56-$Z$56)/($F$56-$G$56)*(100-(2*M$74*($T$4/$X$4)+2*$L86*($V$4/$X$4)))+$Y$56-($Y$56-$Z$56)/($F$56-$G$56)*$F$56,($Z$56)/($G$56-$H$56)*(100-(2*M$74*($T$4/$X$4)+2*$L86*($V$4/$X$4)))+$Z$56-($Z$56)/($G$56-$H$56)*$G$56)),-1) -> 67.95 | N86: =MAX(IF((100-(2*N$74*($T$4/$X$4)+2*$L86*($V$4/$X$4)))>=$F$56,($X$56-$Y$56)/(100-$F$56)*(100-(2*N$74*($T$4/$X$4)+2*$L86*($V$4/$X$4)))+$X$56-($X$56-$Y$56)/(100-$F$56)*100,IF((100-(2*N$74*($T$4/$X$4)+2*$L86*($V$4/$X$4)))>=$G$56,($Y$56-$Z$56)/($F$56-$G$56)*(100-(2*N$74*($T$4/$X$4)+2*$L86*($V$4/$X$4)))+$Y$56-($Y$56-$Z$56)/($F$56-$G$56)*$F$56,($Z$56)/($G$56-$H$56)*(100-(2*N$74*($T$4/$X$4)+2*$L86*($V$4/$X$4)))+$Z$56-($Z$56)/($G$56-$H$56)*$G$56)),-1) -> 63.45 | O86: =MAX(IF((100-(2*O$74*($T$4/$X$4)+2*$L86*($V$4/$X$4)))>=$F$56,($X$56-$Y$56)/(100-$F$56)*(100-(2*O$74*($T$4/$X$4)+2*$L86*($V$4/$X$4)))+$X$56-($X$56-$Y$56)/(100-$F$56)*100,IF((100-(2*O$74*($T$4/$X$4)+2*$L86*($V$4/$X$4)))>=$G$56,($Y$56-$Z$56)/($F$56-$G$56)*(100-(2*O$74*($T$4/$X$4)+2*$L86*($V$4/$X$4)))+$Y$56-($Y$56-$Z$56)/($F$56-$G$56)*$F$56,($Z$56)/($G$56-$H$56)*(100-(2*O$74*($T$4/$X$4)+2*$L86*($V$4/$X$4)))+$Z$56-($Z$56)/($G$56-$H$56)*$G$56)),-1) -> 58.95 | P86: =MAX(IF((100-(2*P$74*($T$4/$X$4)+2*$L86*($V$4/$X$4)))>=$F$56,($X$56-$Y$56)/(100-$F$56)*(100-(2*P$74*($T$4/$X$4)+2*$L86*($V$4/$X$4)))+$X$56-($X$56-$Y$56)/(100-$F$56)*100,IF((100-(2*P$74*($T$4/$X$4)+2*$L86*($V$4/$X$4)))>=$G$56,($Y$56-$Z$56)/($F$56-$G$56)*(100-(2*P$74*($T$4/$X$4)+2*$L86*($V$4/$X$4)))+$Y$56-($Y$56-$Z$56)/($F$56-$G$56)*$F$56,($Z$56)/($G$56-$H$56)*(100-(2*P$74*($T$4/$X$4)+2*$L86*($V$4/$X$4)))+$Z$56-($Z$56)/($G$56-$H$56)*$G$56)),-1) -> 54.45 | Q86: =MAX(IF((100-(2*Q$74*($T$4/$X$4)+2*$L86*($V$4/$X$4)))>=$F$56,($X$56-$Y$56)/(100-$F$56)*(100-(2*Q$74*($T$4/$X$4)+2*$L86*($V$4/$X$4)))+$X$56-($X$56-$Y$56)/(100-$F$56)*100,IF((100-(2*Q$74*($T$4/$X$4)+2*$L86*($V$4/$X$4)))>=$G$56,($Y$56-$Z$56)/($F$56-$G$56)*(100-(2*Q$74*($T$4/$X$4)+2*$L86*($V$4/$X$4)))+$Y$56-($Y$56-$Z$56)/($F$56-$G$56)*$F$56,($Z$56)/($G$56-$H$56)*(100-(2*Q$74*($T$4/$X$4)+2*$L86*($V$4/$X$4)))+$Z$56-($Z$56)/($G$56-$H$56)*$G$56)),-1) -> 49.95 | R86: =MAX(IF((100-(2*R$74*($T$4/$X$4)+2*$L86*($V$4/$X$4)))>=$F$56,($X$56-$Y$56)/(100-$F$56)*(100-(2*R$74*($T$4/$X$4)+2*$L86*($V$4/$X$4)))+$X$56-($X$56-$Y$56)/(100-$F$56)*100,IF((100-(2*R$74*($T$4/$X$4)+2*$L86*($V$4/$X$4)))>=$G$56,($Y$56-$Z$56)/($F$56-$G$56)*(100-(2*R$74*($T$4/$X$4)+2*$L86*($V$4/$X$4)))+$Y$56-($Y$56-$Z$56)/($F$56-$G$56)*$F$56,($Z$56)/($G$56-$H$56)*(100-(2*R$74*($T$4/$X$4)+2*$L86*($V$4/$X$4)))+$Z$56-($Z$56)/($G$56-$H$56)*$G$56)),-1) -> 45.45 | S86: =MAX(IF((100-(2*S$74*($T$4/$X$4)+2*$L86*($V$4/$X$4)))>=$F$56,($X$56-$Y$56)/(100-$F$56)*(100-(2*S$74*($T$4/$X$4)+2*$L86*($V$4/$X$4)))+$X$56-($X$56-$Y$56)/(100-$F$56)*100,IF((100-(2*S$74*($T$4/$X$4)+2*$L86*($V$4/$X$4)))>=$G$56,($Y$56-$Z$56)/($F$56-$G$56)*(100-(2*S$74*($T$4/$X$4)+2*$L86*($V$4/$X$4)))+$Y$56-($Y$56-$Z$56)/($F$56-$G$56)*$F$56,($Z$56)/($G$56-$H$56)*(100-(2*S$74*($T$4/$X$4)+2*$L86*($V$4/$X$4)))+$Z$56-($Z$56)/($G$56-$H$56)*$G$56)),-1) -> 36.9 | T86: =MAX(IF((100-(2*T$74*($T$4/$X$4)+2*$L86*($V$4/$X$4)))>=$F$56,($X$56-$Y$56)/(100-$F$56)*(100-(2*T$74*($T$4/$X$4)+2*$L86*($V$4/$X$4)))+$X$56-($X$56-$Y$56)/(100-$F$56)*100,IF((100-(2*T$74*($T$4/$X$4)+2*$L86*($V$4/$X$4)))>=$G$56,($Y$56-$Z$56)/($F$56-$G$56)*(100-(2*T$74*($T$4/$X$4)+2*$L86*($V$4/$X$4)))+$Y$56-($Y$56-$Z$56)/($F$56-$G$56)*$F$56,($Z$56)/($G$56-$H$56)*(100-(2*T$74*($T$4/$X$4)+2*$L86*($V$4/$X$4)))+$Z$56-($Z$56)/($G$56-$H$56)*$G$56)),-1) -> 27.9 | ... AH86: =MAX(IF((100-(2*AH$74*($T$4/$X$4)+2*$L86*($V$4/$X$4)))>=$F$56,($X$56-$Y$56)/(100-$F$56)*(100-(2*AH$74*($T$4/$X$4)+2*$L86*($V$4/$X$4)))+$X$56-($X$56-$Y$56)/(100-$F$56)*100,IF((100-(2*AH$74*($T$4/$X$4)+2*$L86*($V$4/$X$4)))>=$G$56,($Y$56-$Z$56)/($F$56-$G$56)*(100-(2*AH$74*($T$4/$X$4)+2*$L86*($V$4/$X$4)))+$Y$56-($Y$56-$Z$56)/($F$56-$G$56)*$F$56,($Z$56)/($G$56-$H$56)*(100-(2*AH$74*($T$4/$X$4)+2*$L86*($V$4/$X$4)))+$Z$56-($Z$56)/($G$56-$H$56)*$G$56)),-1) -> -1
L87: 12 | M87: =MAX(IF((100-(2*M$74*($T$4/$X$4)+2*$L87*($V$4/$X$4)))>=$F$56,($X$56-$Y$56)/(100-$F$56)*(100-(2*M$74*($T$4/$X$4)+2*$L87*($V$4/$X$4)))+$X$56-($X$56-$Y$56)/(100-$F$56)*100,IF((100-(2*M$74*($T$4/$X$4)+2*$L87*($V$4/$X$4)))>=$G$56,($Y$56-$Z$56)/($F$56-$G$56)*(100-(2*M$74*($T$4/$X$4)+2*$L87*($V$4/$X$4)))+$Y$56-($Y$56-$Z$56)/($F$56-$G$56)*$F$56,($Z$56)/($G$56-$H$56)*(100-(2*M$74*($T$4/$X$4)+2*$L87*($V$4/$X$4)))+$Z$56-($Z$56)/($G$56-$H$56)*$G$56)),-1) -> 63.9 | N87: =MAX(IF((100-(2*N$74*($T$4/$X$4)+2*$L87*($V$4/$X$4)))>=$F$56,($X$56-$Y$56)/(100-$F$56)*(100-(2*N$74*($T$4/$X$4)+2*$L87*($V$4/$X$4)))+$X$56-($X$56-$Y$56)/(100-$F$56)*100,IF((100-(2*N$74*($T$4/$X$4)+2*$L87*($V$4/$X$4)))>=$G$56,($Y$56-$Z$56)/($F$56-$G$56)*(100-(2*N$74*($T$4/$X$4)+2*$L87*($V$4/$X$4)))+$Y$56-($Y$56-$Z$56)/($F$56-$G$56)*$F$56,($Z$56)/($G$56-$H$56)*(100-(2*N$74*($T$4/$X$4)+2*$L87*($V$4/$X$4)))+$Z$56-($Z$56)/($G$56-$H$56)*$G$56)),-1) -> 59.4 | O87: =MAX(IF((100-(2*O$74*($T$4/$X$4)+2*$L87*($V$4/$X$4)))>=$F$56,($X$56-$Y$56)/(100-$F$56)*(100-(2*O$74*($T$4/$X$4)+2*$L87*($V$4/$X$4)))+$X$56-($X$56-$Y$56)/(100-$F$56)*100,IF((100-(2*O$74*($T$4/$X$4)+2*$L87*($V$4/$X$4)))>=$G$56,($Y$56-$Z$56)/($F$56-$G$56)*(100-(2*O$74*($T$4/$X$4)+2*$L87*($V$4/$X$4)))+$Y$56-($Y$56-$Z$56)/($F$56-$G$56)*$F$56,($Z$56)/($G$56-$H$56)*(100-(2*O$74*($T$4/$X$4)+2*$L87*($V$4/$X$4)))+$Z$56-($Z$56)/($G$56-$H$56)*$G$56)),-1) -> 54.9 | P87: =MAX(IF((100-(2*P$74*($T$4/$X$4)+2*$L87*($V$4/$X$4)))>=$F$56,($X$56-$Y$56)/(100-$F$56)*(100-(2*P$74*($T$4/$X$4)+2*$L87*($V$4/$X$4)))+$X$56-($X$56-$Y$56)/(100-$F$56)*100,IF((100-(2*P$74*($T$4/$X$4)+2*$L87*($V$4/$X$4)))>=$G$56,($Y$56-$Z$56)/($F$56-$G$56)*(100-(2*P$74*($T$4/$X$4)+2*$L87*($V$4/$X$4)))+$Y$56-($Y$56-$Z$56)/($F$56-$G$56)*$F$56,($Z$56)/($G$56-$H$56)*(100-(2*P$74*($T$4/$X$4)+2*$L87*($V$4/$X$4)))+$Z$56-($Z$56)/($G$56-$H$56)*$G$56)),-1) -> 50.4 | Q87: =MAX(IF((100-(2*Q$74*($T$4/$X$4)+2*$L87*($V$4/$X$4)))>=$F$56,($X$56-$Y$56)/(100-$F$56)*(100-(2*Q$74*($T$4/$X$4)+2*$L87*($V$4/$X$4)))+$X$56-($X$56-$Y$56)/(100-$F$56)*100,IF((100-(2*Q$74*($T$4/$X$4)+2*$L87*($V$4/$X$4)))>=$G$56,($Y$56-$Z$56)/($F$56-$G$56)*(100-(2*Q$74*($T$4/$X$4)+2*$L87*($V$4/$X$4)))+$Y$56-($Y$56-$Z$56)/($F$56-$G$56)*$F$56,($Z$56)/($G$56-$H$56)*(100-(2*Q$74*($T$4/$X$4)+2*$L87*($V$4/$X$4)))+$Z$56-($Z$56)/($G$56-$H$56)*$G$56)),-1) -> 45.9 | R87: =MAX(IF((100-(2*R$74*($T$4/$X$4)+2*$L87*($V$4/$X$4)))>=$F$56,($X$56-$Y$56)/(100-$F$56)*(100-(2*R$74*($T$4/$X$4)+2*$L87*($V$4/$X$4)))+$X$56-($X$56-$Y$56)/(100-$F$56)*100,IF((100-(2*R$74*($T$4/$X$4)+2*$L87*($V$4/$X$4)))>=$G$56,($Y$56-$Z$56)/($F$56-$G$56)*(100-(2*R$74*($T$4/$X$4)+2*$L87*($V$4/$X$4)))+$Y$56-($Y$56-$Z$56)/($F$56-$G$56)*$F$56,($Z$56)/($G$56-$H$56)*(100-(2*R$74*($T$4/$X$4)+2*$L87*($V$4/$X$4)))+$Z$56-($Z$56)/($G$56-$H$56)*$G$56)),-1) -> 37.8 | S87: =MAX(IF((100-(2*S$74*($T$4/$X$4)+2*$L87*($V$4/$X$4)))>=$F$56,($X$56-$Y$56)/(100-$F$56)*(100-(2*S$74*($T$4/$X$4)+2*$L87*($V$4/$X$4)))+$X$56-($X$56-$Y$56)/(100-$F$56)*100,IF((100-(2*S$74*($T$4/$X$4)+2*$L87*($V$4/$X$4)))>=$G$56,($Y$56-$Z$56)/($F$56-$G$56)*(100-(2*S$74*($T$4/$X$4)+2*$L87*($V$4/$X$4)))+$Y$56-($Y$56-$Z$56)/($F$56-$G$56)*$F$56,($Z$56)/($G$56-$H$56)*(100-(2*S$74*($T$4/$X$4)+2*$L87*($V$4/$X$4)))+$Z$56-($Z$56)/($G$56-$H$56)*$G$56)),-1) -> 28.8 | T87: =MAX(IF((100-(2*T$74*($T$4/$X$4)+2*$L87*($V$4/$X$4)))>=$F$56,($X$56-$Y$56)/(100-$F$56)*(100-(2*T$74*($T$4/$X$4)+2*$L87*($V$4/$X$4)))+$X$56-($X$56-$Y$56)/(100-$F$56)*100,IF((100-(2*T$74*($T$4/$X$4)+2*$L87*($V$4/$X$4)))>=$G$56,($Y$56-$Z$56)/($F$56-$G$56)*(100-(2*T$74*($T$4/$X$4)+2*$L87*($V$4/$X$4)))+$Y$56-($Y$56-$Z$56)/($F$56-$G$56)*$F$56,($Z$56)/($G$56-$H$56)*(100-(2*T$74*($T$4/$X$4)+2*$L87*($V$4/$X$4)))+$Z$56-($Z$56)/($G$56-$H$56)*$G$56)),-1) -> 19.8 | ... AH87: =MAX(IF((100-(2*AH$74*($T$4/$X$4)+2*$L87*($V$4/$X$4)))>=$F$56,($X$56-$Y$56)/(100-$F$56)*(100-(2*AH$74*($T$4/$X$4)+2*$L87*($V$4/$X$4)))+$X$56-($X$56-$Y$56)/(100-$F$56)*100,IF((100-(2*AH$74*($T$4/$X$4)+2*$L87*($V$4/$X$4)))>=$G$56,($Y$56-$Z$56)/($F$56-$G$56)*(100-(2*AH$74*($T$4/$X$4)+2*$L87*($V$4/$X$4)))+$Y$56-($Y$56-$Z$56)/($F$56-$G$56)*$F$56,($Z$56)/($G$56-$H$56)*(100-(2*AH$74*($T$4/$X$4)+2*$L87*($V$4/$X$4)))+$Z$56-($Z$56)/($G$56-$H$56)*$G$56)),-1) -> -1
L88: 13 | M88: =MAX(IF((100-(2*M$74*($T$4/$X$4)+2*$L88*($V$4/$X$4)))>=$F$56,($X$56-$Y$56)/(100-$F$56)*(100-(2*M$74*($T$4/$X$4)+2*$L88*($V$4/$X$4)))+$X$56-($X$56-$Y$56)/(100-$F$56)*100,IF((100-(2*M$74*($T$4/$X$4)+2*$L88*($V$4/$X$4)))>=$G$56,($Y$56-$Z$56)/($F$56-$G$56)*(100-(2*M$74*($T$4/$X$4)+2*$L88*($V$4/$X$4)))+$Y$56-($Y$56-$Z$56)/($F$56-$G$56)*$F$56,($Z$56)/($G$56-$H$56)*(100-(2*M$74*($T$4/$X$4)+2*$L88*($V$4/$X$4)))+$Z$56-($Z$56)/($G$56-$H$56)*$G$56)),-1) -> 59.85 | N88: =MAX(IF((100-(2*N$74*($T$4/$X$4)+2*$L88*($V$4/$X$4)))>=$F$56,($X$56-$Y$56)/(100-$F$56)*(100-(2*N$74*($T$4/$X$4)+2*$L88*($V$4/$X$4)))+$X$56-($X$56-$Y$56)/(100-$F$56)*100,IF((100-(2*N$74*($T$4/$X$4)+2*$L88*($V$4/$X$4)))>=$G$56,($Y$56-$Z$56)/($F$56-$G$56)*(100-(2*N$74*($T$4/$X$4)+2*$L88*($V$4/$X$4)))+$Y$56-($Y$56-$Z$56)/($F$56-$G$56)*$F$56,($Z$56)/($G$56-$H$56)*(100-(2*N$74*($T$4/$X$4)+2*$L88*($V$4/$X$4)))+$Z$56-($Z$56)/($G$56-$H$56)*$G$56)),-1) -> 55.35 | O88: =MAX(IF((100-(2*O$74*($T$4/$X$4)+2*$L88*($V$4/$X$4)))>=$F$56,($X$56-$Y$56)/(100-$F$56)*(100-(2*O$74*($T$4/$X$4)+2*$L88*($V$4/$X$4)))+$X$56-($X$56-$Y$56)/(100-$F$56)*100,IF((100-(2*O$74*($T$4/$X$4)+2*$L88*($V$4/$X$4)))>=$G$56,($Y$56-$Z$56)/($F$56-$G$56)*(100-(2*O$74*($T$4/$X$4)+2*$L88*($V$4/$X$4)))+$Y$56-($Y$56-$Z$56)/($F$56-$G$56)*$F$56,($Z$56)/($G$56-$H$56)*(100-(2*O$74*($T$4/$X$4)+2*$L88*($V$4/$X$4)))+$Z$56-($Z$56)/($G$56-$H$56)*$G$56)),-1) -> 50.85 | P88: =MAX(IF((100-(2*P$74*($T$4/$X$4)+2*$L88*($V$4/$X$4)))>=$F$56,($X$56-$Y$56)/(100-$F$56)*(100-(2*P$74*($T$4/$X$4)+2*$L88*($V$4/$X$4)))+$X$56-($X$56-$Y$56)/(100-$F$56)*100,IF((100-(2*P$74*($T$4/$X$4)+2*$L88*($V$4/$X$4)))>=$G$56,($Y$56-$Z$56)/($F$56-$G$56)*(100-(2*P$74*($T$4/$X$4)+2*$L88*($V$4/$X$4)))+$Y$56-($Y$56-$Z$56)/($F$56-$G$56)*$F$56,($Z$56)/($G$56-$H$56)*(100-(2*P$74*($T$4/$X$4)+2*$L88*($V$4/$X$4)))+$Z$56-($Z$56)/($G$56-$H$56)*$G$56)),-1) -> 46.35 | Q88: =MAX(IF((100-(2*Q$74*($T$4/$X$4)+2*$L88*($V$4/$X$4)))>=$F$56,($X$56-$Y$56)/(100-$F$56)*(100-(2*Q$74*($T$4/$X$4)+2*$L88*($V$4/$X$4)))+$X$56-($X$56-$Y$56)/(100-$F$56)*100,IF((100-(2*Q$74*($T$4/$X$4)+2*$L88*($V$4/$X$4)))>=$G$56,($Y$56-$Z$56)/($F$56-$G$56)*(100-(2*Q$74*($T$4/$X$4)+2*$L88*($V$4/$X$4)))+$Y$56-($Y$56-$Z$56)/($F$56-$G$56)*$F$56,($Z$56)/($G$56-$H$56)*(100-(2*Q$74*($T$4/$X$4)+2*$L88*($V$4/$X$4)))+$Z$56-($Z$56)/($G$56-$H$56)*$G$56)),-1) -> 38.7 | R88: =MAX(IF((100-(2*R$74*($T$4/$X$4)+2*$L88*($V$4/$X$4)))>=$F$56,($X$56-$Y$56)/(100-$F$56)*(100-(2*R$74*($T$4/$X$4)+2*$L88*($V$4/$X$4)))+$X$56-($X$56-$Y$56)/(100-$F$56)*100,IF((100-(2*R$74*($T$4/$X$4)+2*$L88*($V$4/$X$4)))>=$G$56,($Y$56-$Z$56)/($F$56-$G$56)*(100-(2*R$74*($T$4/$X$4)+2*$L88*($V$4/$X$4)))+$Y$56-($Y$56-$Z$56)/($F$56-$G$56)*$F$56,($Z$56)/($G$56-$H$56)*(100-(2*R$74*($T$4/$X$4)+2*$L88*($V$4/$X$4)))+$Z$56-($Z$56)/($G$56-$H$56)*$G$56)),-1) -> 29.7 | S88: =MAX(IF((100-(2*S$74*($T$4/$X$4)+2*$L88*($V$4/$X$4)))>=$F$56,($X$56-$Y$56)/(100-$F$56)*(100-(2*S$74*($T$4/$X$4)+2*$L88*($V$4/$X$4)))+$X$56-($X$56-$Y$56)/(100-$F$56)*100,IF((100-(2*S$74*($T$4/$X$4)+2*$L88*($V$4/$X$4)))>=$G$56,($Y$56-$Z$56)/($F$56-$G$56)*(100-(2*S$74*($T$4/$X$4)+2*$L88*($V$4/$X$4)))+$Y$56-($Y$56-$Z$56)/($F$56-$G$56)*$F$56,($Z$56)/($G$56-$H$56)*(100-(2*S$74*($T$4/$X$4)+2*$L88*($V$4/$X$4)))+$Z$56-($Z$56)/($G$56-$H$56)*$G$56)),-1) -> 20.7 | T88: =MAX(IF((100-(2*T$74*($T$4/$X$4)+2*$L88*($V$4/$X$4)))>=$F$56,($X$56-$Y$56)/(100-$F$56)*(100-(2*T$74*($T$4/$X$4)+2*$L88*($V$4/$X$4)))+$X$56-($X$56-$Y$56)/(100-$F$56)*100,IF((100-(2*T$74*($T$4/$X$4)+2*$L88*($V$4/$X$4)))>=$G$56,($Y$56-$Z$56)/($F$56-$G$56)*(100-(2*T$74*($T$4/$X$4)+2*$L88*($V$4/$X$4)))+$Y$56-($Y$56-$Z$56)/($F$56-$G$56)*$F$56,($Z$56)/($G$56-$H$56)*(100-(2*T$74*($T$4/$X$4)+2*$L88*($V$4/$X$4)))+$Z$56-($Z$56)/($G$56-$H$56)*$G$56)),-1) -> 11.7 | ... AH88: =MAX(IF((100-(2*AH$74*($T$4/$X$4)+2*$L88*($V$4/$X$4)))>=$F$56,($X$56-$Y$56)/(100-$F$56)*(100-(2*AH$74*($T$4/$X$4)+2*$L88*($V$4/$X$4)))+$X$56-($X$56-$Y$56)/(100-$F$56)*100,IF((100-(2*AH$74*($T$4/$X$4)+2*$L88*($V$4/$X$4)))>=$G$56,($Y$56-$Z$56)/($F$56-$G$56)*(100-(2*AH$74*($T$4/$X$4)+2*$L88*($V$4/$X$4)))+$Y$56-($Y$56-$Z$56)/($F$56-$G$56)*$F$56,($Z$56)/($G$56-$H$56)*(100-(2*AH$74*($T$4/$X$4)+2*$L88*($V$4/$X$4)))+$Z$56-($Z$56)/($G$56-$H$56)*$G$56)),-1) -> -1
L89: 14 | M89: =MAX(IF((100-(2*M$74*($T$4/$X$4)+2*$L89*($V$4/$X$4)))>=$F$56,($X$56-$Y$56)/(100-$F$56)*(100-(2*M$74*($T$4/$X$4)+2*$L89*($V$4/$X$4)))+$X$56-($X$56-$Y$56)/(100-$F$56)*100,IF((100-(2*M$74*($T$4/$X$4)+2*$L89*($V$4/$X$4)))>=$G$56,($Y$56-$Z$56)/($F$56-$G$56)*(100-(2*M$74*($T$4/$X$4)+2*$L89*($V$4/$X$4)))+$Y$56-($Y$56-$Z$56)/($F$56-$G$56)*$F$56,($Z$56)/($G$56-$H$56)*(100-(2*M$74*($T$4/$X$4)+2*$L89*($V$4/$X$4)))+$Z$56-($Z$56)/($G$56-$H$56)*$G$56)),-1) -> 55.8 | N89: =MAX(IF((100-(2*N$74*($T$4/$X$4)+2*$L89*($V$4/$X$4)))>=$F$56,($X$56-$Y$56)/(100-$F$56)*(100-(2*N$74*($T$4/$X$4)+2*$L89*($V$4/$X$4)))+$X$56-($X$56-$Y$56)/(100-$F$56)*100,IF((100-(2*N$74*($T$4/$X$4)+2*$L89*($V$4/$X$4)))>=$G$56,($Y$56-$Z$56)/($F$56-$G$56)*(100-(2*N$74*($T$4/$X$4)+2*$L89*($V$4/$X$4)))+$Y$56-($Y$56-$Z$56)/($F$56-$G$56)*$F$56,($Z$56)/($G$56-$H$56)*(100-(2*N$74*($T$4/$X$4)+2*$L89*($V$4/$X$4)))+$Z$56-($Z$56)/($G$56-$H$56)*$G$56)),-1) -> 51.3 | O89: =MAX(IF((100-(2*O$74*($T$4/$X$4)+2*$L89*($V$4/$X$4)))>=$F$56,($X$56-$Y$56)/(100-$F$56)*(100-(2*O$74*($T$4/$X$4)+2*$L89*($V$4/$X$4)))+$X$56-($X$56-$Y$56)/(100-$F$56)*100,IF((100-(2*O$74*($T$4/$X$4)+2*$L89*($V$4/$X$4)))>=$G$56,($Y$56-$Z$56)/($F$56-$G$56)*(100-(2*O$74*($T$4/$X$4)+2*$L89*($V$4/$X$4)))+$Y$56-($Y$56-$Z$56)/($F$56-$G$56)*$F$56,($Z$56)/($G$56-$H$56)*(100-(2*O$74*($T$4/$X$4)+2*$L89*($V$4/$X$4)))+$Z$56-($Z$56)/($G$56-$H$56)*$G$56)),-1) -> 46.8 | P89: =MAX(IF((100-(2*P$74*($T$4/$X$4)+2*$L89*($V$4/$X$4)))>=$F$56,($X$56-$Y$56)/(100-$F$56)*(100-(2*P$74*($T$4/$X$4)+2*$L89*($V$4/$X$4)))+$X$56-($X$56-$Y$56)/(100-$F$56)*100,IF((100-(2*P$74*($T$4/$X$4)+2*$L89*($V$4/$X$4)))>=$G$56,($Y$56-$Z$56)/($F$56-$G$56)*(100-(2*P$74*($T$4/$X$4)+2*$L89*($V$4/$X$4)))+$Y$56-($Y$56-$Z$56)/($F$56-$G$56)*$F$56,($Z$56)/($G$56-$H$56)*(100-(2*P$74*($T$4/$X$4)+2*$L89*($V$4/$X$4)))+$Z$56-($Z$56)/($G$56-$H$56)*$G$56)),-1) -> 39.6 | Q89: =MAX(IF((100-(2*Q$74*($T$4/$X$4)+2*$L89*($V$4/$X$4)))>=$F$56,($X$56-$Y$56)/(100-$F$56)*(100-(2*Q$74*($T$4/$X$4)+2*$L89*($V$4/$X$4)))+$X$56-($X$56-$Y$56)/(100-$F$56)*100,IF((100-(2*Q$74*($T$4/$X$4)+2*$L89*($V$4/$X$4)))>=$G$56,($Y$56-$Z$56)/($F$56-$G$56)*(100-(2*Q$74*($T$4/$X$4)+2*$L89*($V$4/$X$4)))+$Y$56-($Y$56-$Z$56)/($F$56-$G$56)*$F$56,($Z$56)/($G$56-$H$56)*(100-(2*Q$74*($T$4/$X$4)+2*$L89*($V$4/$X$4)))+$Z$56-($Z$56)/($G$56-$H$56)*$G$56)),-1) -> 30.6 | R89: =MAX(IF((100-(2*R$74*($T$4/$X$4)+2*$L89*($V$4/$X$4)))>=$F$56,($X$56-$Y$56)/(100-$F$56)*(100-(2*R$74*($T$4/$X$4)+2*$L89*($V$4/$X$4)))+$X$56-($X$56-$Y$56)/(100-$F$56)*100,IF((100-(2*R$74*($T$4/$X$4)+2*$L89*($V$4/$X$4)))>=$G$56,($Y$56-$Z$56)/($F$56-$G$56)*(100-(2*R$74*($T$4/$X$4)+2*$L89*($V$4/$X$4)))+$Y$56-($Y$56-$Z$56)/($F$56-$G$56)*$F$56,($Z$56)/($G$56-$H$56)*(100-(2*R$74*($T$4/$X$4)+2*$L89*($V$4/$X$4)))+$Z$56-($Z$56)/($G$56-$H$56)*$G$56)),-1) -> 21.6 | S89: =MAX(IF((100-(2*S$74*($T$4/$X$4)+2*$L89*($V$4/$X$4)))>=$F$56,($X$56-$Y$56)/(100-$F$56)*(100-(2*S$74*($T$4/$X$4)+2*$L89*($V$4/$X$4)))+$X$56-($X$56-$Y$56)/(100-$F$56)*100,IF((100-(2*S$74*($T$4/$X$4)+2*$L89*($V$4/$X$4)))>=$G$56,($Y$56-$Z$56)/($F$56-$G$56)*(100-(2*S$74*($T$4/$X$4)+2*$L89*($V$4/$X$4)))+$Y$56-($Y$56-$Z$56)/($F$56-$G$56)*$F$56,($Z$56)/($G$56-$H$56)*(100-(2*S$74*($T$4/$X$4)+2*$L89*($V$4/$X$4)))+$Z$56-($Z$56)/($G$56-$H$56)*$G$56)),-1) -> 12.6 | T89: =MAX(IF((100-(2*T$74*($T$4/$X$4)+2*$L89*($V$4/$X$4)))>=$F$56,($X$56-$Y$56)/(100-$F$56)*(100-(2*T$74*($T$4/$X$4)+2*$L89*($V$4/$X$4)))+$X$56-($X$56-$Y$56)/(100-$F$56)*100,IF((100-(2*T$74*($T$4/$X$4)+2*$L89*($V$4/$X$4)))>=$G$56,($Y$56-$Z$56)/($F$56-$G$56)*(100-(2*T$74*($T$4/$X$4)+2*$L89*($V$4/$X$4)))+$Y$56-($Y$56-$Z$56)/($F$56-$G$56)*$F$56,($Z$56)/($G$56-$H$56)*(100-(2*T$74*($T$4/$X$4)+2*$L89*($V$4/$X$4)))+$Z$56-($Z$56)/($G$56-$H$56)*$G$56)),-1) -> 3.6 | ... AH89: =MAX(IF((100-(2*AH$74*($T$4/$X$4)+2*$L89*($V$4/$X$4)))>=$F$56,($X$56-$Y$56)/(100-$F$56)*(100-(2*AH$74*($T$4/$X$4)+2*$L89*($V$4/$X$4)))+$X$56-($X$56-$Y$56)/(100-$F$56)*100,IF((100-(2*AH$74*($T$4/$X$4)+2*$L89*($V$4/$X$4)))>=$G$56,($Y$56-$Z$56)/($F$56-$G$56)*(100-(2*AH$74*($T$4/$X$4)+2*$L89*($V$4/$X$4)))+$Y$56-($Y$56-$Z$56)/($F$56-$G$56)*$F$56,($Z$56)/($G$56-$H$56)*(100-(2*AH$74*($T$4/$X$4)+2*$L89*($V$4/$X$4)))+$Z$56-($Z$56)/($G$56-$H$56)*$G$56)),-1) -> -1
L90: 15 | M90: =MAX(IF((100-(2*M$74*($T$4/$X$4)+2*$L90*($V$4/$X$4)))>=$F$56,($X$56-$Y$56)/(100-$F$56)*(100-(2*M$74*($T$4/$X$4)+2*$L90*($V$4/$X$4)))+$X$56-($X$56-$Y$56)/(100-$F$56)*100,IF((100-(2*M$74*($T$4/$X$4)+2*$L90*($V$4/$X$4)))>=$G$56,($Y$56-$Z$56)/($F$56-$G$56)*(100-(2*M$74*($T$4/$X$4)+2*$L90*($V$4/$X$4)))+$Y$56-($Y$56-$Z$56)/($F$56-$G$56)*$F$56,($Z$56)/($G$56-$H$56)*(100-(2*M$74*($T$4/$X$4)+2*$L90*($V$4/$X$4)))+$Z$56-($Z$56)/($G$56-$H$56)*$G$56)),-1) -> 51.75 | N90: =MAX(IF((100-(2*N$74*($T$4/$X$4)+2*$L90*($V$4/$X$4)))>=$F$56,($X$56-$Y$56)/(100-$F$56)*(100-(2*N$74*($T$4/$X$4)+2*$L90*($V$4/$X$4)))+$X$56-($X$56-$Y$56)/(100-$F$56)*100,IF((100-(2*N$74*($T$4/$X$4)+2*$L90*($V$4/$X$4)))>=$G$56,($Y$56-$Z$56)/($F$56-$G$56)*(100-(2*N$74*($T$4/$X$4)+2*$L90*($V$4/$X$4)))+$Y$56-($Y$56-$Z$56)/($F$56-$G$56)*$F$56,($Z$56)/($G$56-$H$56)*(100-(2*N$74*($T$4/$X$4)+2*$L90*($V$4/$X$4)))+$Z$56-($Z$56)/($G$56-$H$56)*$G$56)),-1) -> 47.25 | O90: =MAX(IF((100-(2*O$74*($T$4/$X$4)+2*$L90*($V$4/$X$4)))>=$F$56,($X$56-$Y$56)/(100-$F$56)*(100-(2*O$74*($T$4/$X$4)+2*$L90*($V$4/$X$4)))+$X$56-($X$56-$Y$56)/(100-$F$56)*100,IF((100-(2*O$74*($T$4/$X$4)+2*$L90*($V$4/$X$4)))>=$G$56,($Y$56-$Z$56)/($F$56-$G$56)*(100-(2*O$74*($T$4/$X$4)+2*$L90*($V$4/$X$4)))+$Y$56-($Y$56-$Z$56)/($F$56-$G$56)*$F$56,($Z$56)/($G$56-$H$56)*(100-(2*O$74*($T$4/$X$4)+2*$L90*($V$4/$X$4)))+$Z$56-($Z$56)/($G$56-$H$56)*$G$56)),-1) -> 40.5 | P90: =MAX(IF((100-(2*P$74*($T$4/$X$4)+2*$L90*($V$4/$X$4)))>=$F$56,($X$56-$Y$56)/(100-$F$56)*(100-(2*P$74*($T$4/$X$4)+2*$L90*($V$4/$X$4)))+$X$56-($X$56-$Y$56)/(100-$F$56)*100,IF((100-(2*P$74*($T$4/$X$4)+2*$L90*($V$4/$X$4)))>=$G$56,($Y$56-$Z$56)/($F$56-$G$56)*(100-(2*P$74*($T$4/$X$4)+2*$L90*($V$4/$X$4)))+$Y$56-($Y$56-$Z$56)/($F$56-$G$56)*$F$56,($Z$56)/($G$56-$H$56)*(100-(2*P$74*($T$4/$X$4)+2*$L90*($V$4/$X$4)))+$Z$56-($Z$56)/($G$56-$H$56)*$G$56)),-1) -> 31.5 | Q90: =MAX(IF((100-(2*Q$74*($T$4/$X$4)+2*$L90*($V$4/$X$4)))>=$F$56,($X$56-$Y$56)/(100-$F$56)*(100-(2*Q$74*($T$4/$X$4)+2*$L90*($V$4/$X$4)))+$X$56-($X$56-$Y$56)/(100-$F$56)*100,IF((100-(2*Q$74*($T$4/$X$4)+2*$L90*($V$4/$X$4)))>=$G$56,($Y$56-$Z$56)/($F$56-$G$56)*(100-(2*Q$74*($T$4/$X$4)+2*$L90*($V$4/$X$4)))+$Y$56-($Y$56-$Z$56)/($F$56-$G$56)*$F$56,($Z$56)/($G$56-$H$56)*(100-(2*Q$74*($T$4/$X$4)+2*$L90*($V$4/$X$4)))+$Z$56-($Z$56)/($G$56-$H$56)*$G$56)),-1) -> 22.5 | R90: =MAX(IF((100-(2*R$74*($T$4/$X$4)+2*$L90*($V$4/$X$4)))>=$F$56,($X$56-$Y$56)/(100-$F$56)*(100-(2*R$74*($T$4/$X$4)+2*$L90*($V$4/$X$4)))+$X$56-($X$56-$Y$56)/(100-$F$56)*100,IF((100-(2*R$74*($T$4/$X$4)+2*$L90*($V$4/$X$4)))>=$G$56,($Y$56-$Z$56)/($F$56-$G$56)*(100-(2*R$74*($T$4/$X$4)+2*$L90*($V$4/$X$4)))+$Y$56-($Y$56-$Z$56)/($F$56-$G$56)*$F$56,($Z$56)/($G$56-$H$56)*(100-(2*R$74*($T$4/$X$4)+2*$L90*($V$4/$X$4)))+$Z$56-($Z$56)/($G$56-$H$56)*$G$56)),-1) -> 13.5 | S90: =MAX(IF((100-(2*S$74*($T$4/$X$4)+2*$L90*($V$4/$X$4)))>=$F$56,($X$56-$Y$56)/(100-$F$56)*(100-(2*S$74*($T$4/$X$4)+2*$L90*($V$4/$X$4)))+$X$56-($X$56-$Y$56)/(100-$F$56)*100,IF((100-(2*S$74*($T$4/$X$4)+2*$L90*($V$4/$X$4)))>=$G$56,($Y$56-$Z$56)/($F$56-$G$56)*(100-(2*S$74*($T$4/$X$4)+2*$L90*($V$4/$X$4)))+$Y$56-($Y$56-$Z$56)/($F$56-$G$56)*$F$56,($Z$56)/($G$56-$H$56)*(100-(2*S$74*($T$4/$X$4)+2*$L90*($V$4/$X$4)))+$Z$56-($Z$56)/($G$56-$H$56)*$G$56)),-1) -> 4.5 | T90: =MAX(IF((100-(2*T$74*($T$4/$X$4)+2*$L90*($V$4/$X$4)))>=$F$56,($X$56-$Y$56)/(100-$F$56)*(100-(2*T$74*($T$4/$X$4)+2*$L90*($V$4/$X$4)))+$X$56-($X$56-$Y$56)/(100-$F$56)*100,IF((100-(2*T$74*($T$4/$X$4)+2*$L90*($V$4/$X$4)))>=$G$56,($Y$56-$Z$56)/($F$56-$G$56)*(100-(2*T$74*($T$4/$X$4)+2*$L90*($V$4/$X$4)))+$Y$56-($Y$56-$Z$56)/($F$56-$G$56)*$F$56,($Z$56)/($G$56-$H$56)*(100-(2*T$74*($T$4/$X$4)+2*$L90*($V$4/$X$4)))+$Z$56-($Z$56)/($G$56-$H$56)*$G$56)),-1) -> -1 | ... AH90: =MAX(IF((100-(2*AH$74*($T$4/$X$4)+2*$L90*($V$4/$X$4)))>=$F$56,($X$56-$Y$56)/(100-$F$56)*(100-(2*AH$74*($T$4/$X$4)+2*$L90*($V$4/$X$4)))+$X$56-($X$56-$Y$56)/(100-$F$56)*100,IF((100-(2*AH$74*($T$4/$X$4)+2*$L90*($V$4/$X$4)))>=$G$56,($Y$56-$Z$56)/($F$56-$G$56)*(100-(2*AH$74*($T$4/$X$4)+2*$L90*($V$4/$X$4)))+$Y$56-($Y$56-$Z$56)/($F$56-$G$56)*$F$56,($Z$56)/($G$56-$H$56)*(100-(2*AH$74*($T$4/$X$4)+2*$L90*($V$4/$X$4)))+$Z$56-($Z$56)/($G$56-$H$56)*$G$56)),-1) -> -1
... L96: 21 | M96: =MAX(IF((100-(2*M$74*($T$4/$X$4)+2*$L96*($V$4/$X$4)))>=$F$56,($X$56-$Y$56)/(100-$F$56)*(100-(2*M$74*($T$4/$X$4)+2*$L96*($V$4/$X$4)))+$X$56-($X$56-$Y$56)/(100-$F$56)*100,IF((100-(2*M$74*($T$4/$X$4)+2*$L96*($V$4/$X$4)))>=$G$56,($Y$56-$Z$56)/($F$56-$G$56)*(100-(2*M$74*($T$4/$X$4)+2*$L96*($V$4/$X$4)))+$Y$56-($Y$56-$Z$56)/($F$56-$G$56)*$F$56,($Z$56)/($G$56-$H$56)*(100-(2*M$74*($T$4/$X$4)+2*$L96*($V$4/$X$4)))+$Z$56-($Z$56)/($G$56-$H$56)*$G$56)),-1) -> 9.9 | N96: =MAX(IF((100-(2*N$74*($T$4/$X$4)+2*$L96*($V$4/$X$4)))>=$F$56,($X$56-$Y$56)/(100-$F$56)*(100-(2*N$74*($T$4/$X$4)+2*$L96*($V$4/$X$4)))+$X$56-($X$56-$Y$56)/(100-$F$56)*100,IF((100-(2*N$74*($T$4/$X$4)+2*$L96*($V$4/$X$4)))>=$G$56,($Y$56-$Z$56)/($F$56-$G$56)*(100-(2*N$74*($T$4/$X$4)+2*$L96*($V$4/$X$4)))+$Y$56-($Y$56-$Z$56)/($F$56-$G$56)*$F$56,($Z$56)/($G$56-$H$56)*(100-(2*N$74*($T$4/$X$4)+2*$L96*($V$4/$X$4)))+$Z$56-($Z$56)/($G$56-$H$56)*$G$56)),-1) -> 0.9 | O96: =MAX(IF((100-(2*O$74*($T$4/$X$4)+2*$L96*($V$4/$X$4)))>=$F$56,($X$56-$Y$56)/(100-$F$56)*(100-(2*O$74*($T$4/$X$4)+2*$L96*($V$4/$X$4)))+$X$56-($X$56-$Y$56)/(100-$F$56)*100,IF((100-(2*O$74*($T$4/$X$4)+2*$L96*($V$4/$X$4)))>=$G$56,($Y$56-$Z$56)/($F$56-$G$56)*(100-(2*O$74*($T$4/$X$4)+2*$L96*($V$4/$X$4)))+$Y$56-($Y$56-$Z$56)/($F$56-$G$56)*$F$56,($Z$56)/($G$56-$H$56)*(100-(2*O$74*($T$4/$X$4)+2*$L96*($V$4/$X$4)))+$Z$56-($Z$56)/($G$56-$H$56)*$G$56)),-1) -> -1 | P96: =MAX(IF((100-(2*P$74*($T$4/$X$4)+2*$L96*($V$4/$X$4)))>=$F$56,($X$56-$Y$56)/(100-$F$56)*(100-(2*P$74*($T$4/$X$4)+2*$L96*($V$4/$X$4)))+$X$56-($X$56-$Y$56)/(100-$F$56)*100,IF((100-(2*P$74*($T$4/$X$4)+2*$L96*($V$4/$X$4)))>=$G$56,($Y$56-$Z$56)/($F$56-$G$56)*(100-(2*P$74*($T$4/$X$4)+2*$L96*($V$4/$X$4)))+$Y$56-($Y$56-$Z$56)/($F$56-$G$56)*$F$56,($Z$56)/($G$56-$H$56)*(100-(2*P$74*($T$4/$X$4)+2*$L96*($V$4/$X$4)))+$Z$56-($Z$56)/($G$56-$H$56)*$G$56)),-1) -> -1 | Q96: =MAX(IF((100-(2*Q$74*($T$4/$X$4)+2*$L96*($V$4/$X$4)))>=$F$56,($X$56-$Y$56)/(100-$F$56)*(100-(2*Q$74*($T$4/$X$4)+2*$L96*($V$4/$X$4)))+$X$56-($X$56-$Y$56)/(100-$F$56)*100,IF((100-(2*Q$74*($T$4/$X$4)+2*$L96*($V$4/$X$4)))>=$G$56,($Y$56-$Z$56)/($F$56-$G$56)*(100-(2*Q$74*($T$4/$X$4)+2*$L96*($V$4/$X$4)))+$Y$56-($Y$56-$Z$56)/($F$56-$G$56)*$F$56,($Z$56)/($G$56-$H$56)*(100-(2*Q$74*($T$4/$X$4)+2*$L96*($V$4/$X$4)))+$Z$56-($Z$56)/($G$56-$H$56)*$G$56)),-1) -> -1 | R96: =MAX(IF((100-(2*R$74*($T$4/$X$4)+2*$L96*($V$4/$X$4)))>=$F$56,($X$56-$Y$56)/(100-$F$56)*(100-(2*R$74*($T$4/$X$4)+2*$L96*($V$4/$X$4)))+$X$56-($X$56-$Y$56)/(100-$F$56)*100,IF((100-(2*R$74*($T$4/$X$4)+2*$L96*($V$4/$X$4)))>=$G$56,($Y$56-$Z$56)/($F$56-$G$56)*(100-(2*R$74*($T$4/$X$4)+2*$L96*($V$4/$X$4)))+$Y$56-($Y$56-$Z$56)/($F$56-$G$56)*$F$56,($Z$56)/($G$56-$H$56)*(100-(2*R$74*($T$4/$X$4)+2*$L96*($V$4/$X$4)))+$Z$56-($Z$56)/($G$56-$H$56)*$G$56)),-1) -> -1 | S96: =MAX(IF((100-(2*S$74*($T$4/$X$4)+2*$L96*($V$4/$X$4)))>=$F$56,($X$56-$Y$56)/(100-$F$56)*(100-(2*S$74*($T$4/$X$4)+2*$L96*($V$4/$X$4)))+$X$56-($X$56-$Y$56)/(100-$F$56)*100,IF((100-(2*S$74*($T$4/$X$4)+2*$L96*($V$4/$X$4)))>=$G$56,($Y$56-$Z$56)/($F$56-$G$56)*(100-(2*S$74*($T$4/$X$4)+2*$L96*($V$4/$X$4)))+$Y$56-($Y$56-$Z$56)/($F$56-$G$56)*$F$56,($Z$56)/($G$56-$H$56)*(100-(2*S$74*($T$4/$X$4)+2*$L96*($V$4/$X$4)))+$Z$56-($Z$56)/($G$56-$H$56)*$G$56)),-1) -> -1 | T96: =MAX(IF((100-(2*T$74*($T$4/$X$4)+2*$L96*($V$4/$X$4)))>=$F$56,($X$56-$Y$56)/(100-$F$56)*(100-(2*T$74*($T$4/$X$4)+2*$L96*($V$4/$X$4)))+$X$56-($X$56-$Y$56)/(100-$F$56)*100,IF((100-(2*T$74*($T$4/$X$4)+2*$L96*($V$4/$X$4)))>=$G$56,($Y$56-$Z$56)/($F$56-$G$56)*(100-(2*T$74*($T$4/$X$4)+2*$L96*($V$4/$X$4)))+$Y$56-($Y$56-$Z$56)/($F$56-$G$56)*$F$56,($Z$56)/($G$56-$H$56)*(100-(2*T$74*($T$4/$X$4)+2*$L96*($V$4/$X$4)))+$Z$56-($Z$56)/($G$56-$H$56)*$G$56)),-1) -> -1 | ... AH96: =MAX(IF((100-(2*AH$74*($T$4/$X$4)+2*$L96*($V$4/$X$4)))>=$F$56,($X$56-$Y$56)/(100-$F$56)*(100-(2*AH$74*($T$4/$X$4)+2*$L96*($V$4/$X$4)))+$X$56-($X$56-$Y$56)/(100-$F$56)*100,IF((100-(2*AH$74*($T$4/$X$4)+2*$L96*($V$4/$X$4)))>=$G$56,($Y$56-$Z$56)/($F$56-$G$56)*(100-(2*AH$74*($T$4/$X$4)+2*$L96*($V$4/$X$4)))+$Y$56-($Y$56-$Z$56)/($F$56-$G$56)*$F$56,($Z$56)/($G$56-$H$56)*(100-(2*AH$74*($T$4/$X$4)+2*$L96*($V$4/$X$4)))+$Z$56-($Z$56)/($G$56-$H$56)*$G$56)),-1) -> -1

Sheet RC tree_sample name
B1: 4EG lab report template - Reject characterisation
B2: V25.2 (07.02.2025)
A4: =MID(CELL("dateiname",A1),SEARCH("]",CELL("dateiname",A1))+1,31) -> #VALUE! | E4: Please add sample code in spreadsheet name (grey bar below)
A6: reject absent | R6: Fragmentation | S6: Unfragmented | T6: Partly fragmented | U6: Completly fragmented
S7: Original cut size pieces | T7: Medium pieces (size > 1 cm in one dimension), sharp edges | U7: Granular pieces (size <= 1 cm in one dimension), no sharp edges.
A8: Reject characterisation (for coarse reject) | R8: Amount | S8: Significant (S)
A9: Cellulose fibres and flakes | C9: S | D9: Barrier coating | F9: Adhesives | H9: Metallised film | J9: Metal / Aluminium | L9: Mix (paper and non-paper) | N9: S | O9: Others (textiles, inks/varnish) | R9: (optional) | S9: Extensive quantity, relevant in Part I and III
A10: Single fibres | D10: Unfragmented | F10: Unfragmented | H10: Unfragmented | J10: Unfragmented | L10: Loose fibres | O10: To be defined
A11: Flakes | D11: Partly fragmented | F11: Partly fragmented | H11: Partly fragmented | J11: Partly fragmented | L11: Attached fibres | O11: Textiles
A12: Partly disintegrated sample material | D12: Completly fragmented | F12: Completly fragmented | H12: Completly fragmented | J12: Completly fragmented | L12: Encapsulated fibres | O12: Inks
A13: Not disintegrated sample material | D13: Rolled | O13: Foam
A14: additional comments:
A15: reject absent
A16: Reject characterisation (for fine reject)
A17: Cellulose fibres and flakes | C17: S | D17: Barrier coating | F17: Adhesives | H17: Metallised film | J17: Metal / Aluminium | L17: Mix (paper and non-paper) | N17: S | O17: Others (textiles, inks/varnish)
A18: Single fibres | D18: Unfragmented | F18: Unfragmented | H18: Unfragmented | J18: Unfragmented | L18: Loose fibres | O18: To be defined
A19: Flakes | D19: Partly fragmented | F19: Partly fragmented | H19: Partly fragmented | J19: Partly fragmented | L19: Attached fibres | O19: Textiles
A20: Partly disintegrated sample material | D20: Completly fragmented | F20: Completly fragmented | H20: Completly fragmented | J20: Completly fragmented | L20: Encapsulated fibres | O20: Inks
A21: Not disintegrated sample material | D21: Rolled | O21: Foam
A22: additional comments:

Sheet Results database
B1: 4EG lab report template - Part III Method - Results Summary
B2: V25.2 (07.02.2025)
A4: Filled automatically | W4: To be filled manually | Y4: Filled automatically
G5: Disintegration time | H5: Evaporation residue | I5: COD | J5: Coarse reject | K5: Fine reject | L5: Total screening reject | M5: Sheet adhesion test | Q5: Visual Impurities | U5: Macrostickies | W5: Reject characterisation | Z5: Ash content ISO 1762 | AA5: Tensile index DIN EN ISO 1924-2:2009-05
A6: Sample | B6: generic description | C6: Lab | D6: Test Date | E6: agregate | F6: consistency | M6: AC | O6: AF | Q6: AC | S6: AF | U6: Total area | V6: Area =< 2000 µm | W6: CR | X6: FR | Y6: Coarse reject quality (CRQ)
F7: % | G7: (min) | H7: (g/kg packaging) | I7: (gO2/kg packaging) | J7: (%) | K7: (%) | L7: (%) | M7: Level | N7: Description | O7: Level | P7: Description | Q7: Level | R7: Description | S7: Level | T7: Description | U7: (mm2/kg) | V7: (mm2/kg) | W7: Description | X7: Description | Y7: Level | Z7: (%) | AA7: (Nm/g)
A8: ='Results_sample name'!D17 -> 0 | B8: ='Results_sample name'!D24 -> 0 | C8: ='General information'!D8 -> 0 | D8: ='Results_sample name'!D16 -> 0 | E8: ='Results_sample name'!D86 -> lab disintegrator | F8: ='Results_sample name'!M69 -> 2.5 | G8: 10 | H8: ='Results_sample name'!D49 | I8: ='Results_sample name'!D51 -> 0 | J8: ='Results_sample name'!D32 -> 0 | K8: ='Results_sample name'!D39 -> #DIV/0! | L8: =J8+K8*0.9 -> #DIV/0! | M8: ='Results_sample name'!D34 -> 0 | N8: ='Results_sample name'!D121 -> 0 | O8: ='Results_sample name'!D41 -> 0 | P8: ='Results_sample name'!D163 -> 0 | Q8: ='Results_sample name'!D35 -> 0 | R8: ='Results_sample name'!D125 -> 0 | S8: ='Results_sample name'!D42 -> 0 | T8: ='Results_sample name'!D167 -> 0 | U8: ='Results_sample name'!D54 -> #DIV/0! | V8: ='Results_sample name'!D55 -> #DIV/0! | Y8: ='Results_sample name'!D36 -> 0 | Z8: ='Results_sample name'!D45 -> 0 | AA8: ='Results_sample name'!D46 -> #DIV/0!

Sheet Data sheet Part III
D1: In case of problems for filling this datasheet, please contact 4evergreen sample hub: samplehub4eg@ptspaper.de
B2: OPTIONAL TECHNICAL DATA SHEET TO BE FILLED BY THE PROVIDER (only necessary for whitebox approach)
E3: V25.2 (07.02.2025)
B4: Brown marked --> just information
B5: Yellow marked --> Drop-Down-List
B6: Blue coloured --> Calculated values
B7: Empty white cells, black coloured --> for your entry
B9: All repulpable rejects | C9: =SUM(I33+I46+I59+I72) -> #DIV/0!
B10: Recyclable rejects (%) | C10: =100%-C9 -> #DIV/0!
B12: Composition of the sample
B13: Component | C13: Description (further examples: board, plastic lids, alu lids and seals, straws and wrappers) | D13: Component weight (air dry) | E13: Unit | F13: Relative share from the entire sample [%]
B14: A | C14: Board | E14: g/m2 (grammage) | F14: =D14/$D$18 -> #DIV/0! | G14: =IF(E14="g/piece (absolut weight)",IF(D14=D33,"","check absolute weight"), "") | H14: g/piece (absolut weight) | I14: g/m2 (grammage)
B15: B | C15: Non Board | E15: g/piece (absolut weight) | F15: =D15/$D$18 -> #DIV/0! | G15: =IF(E15="g/piece (absolut weight)",IF(D15=E46,"","check absolute weight"), "")
B16: C | F16: =D16/$D$18 -> #DIV/0! | G16: =IF(E16="g/piece (absolut weight)",IF(D16=E59,"","check absolute weight"), "")
B17: D | F17: =D17/$D$18 -> #DIV/0! | G17: =IF(E17="g/piece (absolut weight)",IF(D17=E72,"","check absolute weight"), "")
B18: All | C18: Total | D18: =SUM(D14:D17) -> 0 | F18: =SUM(F14:F17) -> #DIV/0!
B20: Components
B21: =B14 -> A | C21: =C14 -> Board | D21: =IF(E14="g/piece (absolut weight)", "fill collum E!", "fill column D!") -> fill column D! | F21: Proportion of the basic material composition | I21: Features
B22: Layer number (from outside to inside) | C22: Material (this information is optional) | D22: Surface weight [g/m2] | E22: Absolute weight [g/piece] | F22: Absolute weight [g/piece] | G22: Share of single element [%] | H22: Share of total sample [%] | I22: Repulpable? (this information is mandatory) | J22: Water soluble? (this information is optional)
B23: 1 | C23: A | F23: =IF(ISBLANK(D23), E23, D23/$D$33*$D$14) -> 0 | G23: =F23/$F$33 -> #DIV/0! | H23: =F23/$D$18 -> #DIV/0! | L23: yes | M23: no
B24: 2 | C24: B | F24: =IF(ISBLANK(D24), E24, D24/$D$33*$D$14) -> 0 | G24: =F24/$F$33 -> #DIV/0! | H24: =F24/$D$18 -> #DIV/0!
B25: 3 | C25: C | F25: =IF(ISBLANK(D25), E25, D25/$D$33*$D$14) -> 0 | G25: =F25/$F$33 -> #DIV/0! | H25: =F25/$D$18 -> #DIV/0! | I25: yes
B26: 4 | C26: D | F26: =IF(ISBLANK(D26), E26, D26/$D$33*$D$14) -> 0 | G26: =F26/$F$33 -> #DIV/0! | H26: =F26/$D$18 -> #DIV/0!
B27: 5 | C27: E | F27: =IF(ISBLANK(D27), E27, D27/$D$33*$D$14) -> 0 | G27: =F27/$F$33 -> #DIV/0! | H27: =F27/$D$18 -> #DIV/0!
B28: 6
B29: 7
B30: 8
B31: 9
B32: 10
B33: All | C33: Total | D33: =SUM(D23:D32) -> 0 | E33: =SUM(E23:E32) -> 0 | F33: =SUM(F23:F32) -> 0 | G33: =F33/$F$33 -> #DIV/0! | H33: =F33/$D$18 -> #DIV/0! | I33: =SUMIF(I23:I27,"yes",H23:H27) -> #DIV/0!
B34: =B15 -> B | C34: =C15 -> Non Board | D34: =IF(E26="g/piece (absolut weight)", "fill collum E!", "fill column D!") -> fill column D! | F34: Proportion of the basic material composition | I34: Features
B35: Layer number (from outside to inside) | C35: Material (this information is optional) | D35: Surface weight [g/m2] | E35: Absolute weight [g/piece] | F35: Absolute weight [g/piece] | G35: Share of single element [%] | H35: Share of total sample [%] | I35: Repulpable? (this information is mandatory) | J35: Water soluble? (this information is optional)
B36: 1 | F36: =IF(ISBLANK(D36), E36, D36/$D$46*$D$15) -> 0 | G36: =F36/$F$46 -> #DIV/0! | H36: =F36/$D$18 -> #DIV/0!
B37: 2 | F37: =IF(ISBLANK(D37), E37, D37/$D$46*$D$15) -> 0 | G37: =F37/$F$46 -> #DIV/0! | H37: =F37/$D$18 -> #DIV/0!
B38: 3 | F38: =IF(ISBLANK(D38), E38, D38/$D$46*$D$15) -> 0 | G38: =F38/$F$46 -> #DIV/0! | H38: =F38/$D$18 -> #DIV/0!
B39: 4 | F39: =IF(ISBLANK(D39), E39, D39/$D$46*$D$15) -> 0 | G39: =F39/$F$46 -> #DIV/0! | H39: =F39/$D$18 -> #DIV/0!
B40: 5 | G40: =F40/$F$46 -> #DIV/0! | H40: =F40/$D$18 -> #DIV/0!
B41: 6 | G41: =F41/$F$46 -> #DIV/0!
B42: 7 | G42: =F42/$F$46 -> #DIV/0!
B43: 8 | G43: =F43/$F$46 -> #DIV/0!
B44: 9 | G44: =F44/$F$46 -> #DIV/0!
B45: 10 | G45: =F45/$F$46 -> #DIV/0!
B46: All | C46: Total | D46: =SUM(D36:D45) -> 0 | E46: =SUM(E36:E45) -> 0 | F46: =SUM(F36:F45) -> 0 | G46: =F46/$F$46 -> #DIV/0! | H46: =F46/$D$18 -> #DIV/0! | I46: =SUMIF(I36:I40,"yes",H36:H40) -> 0
B47: =B16 -> C | C47: =C16 -> 0 | D47: =IF(E39="g/piece (absolut weight)", "fill collum E!", "fill column D!") -> fill column D! | F47: Proportion of the basic material composition | I47: Features
B48: Layer number (from outside to inside) | C48: Material (this information is optional) | D48: Surface weight [g/m2] | E48: Absolute weight [g/piece] | F48: Absolute weight [g/piece] | G48: Share of single element [%] | H48: Share of total sample [%] | I48: Repulpable? (this information is mandatory) | J48: Water soluble? (this information is optional)
B49: 1 | F49: =IF(ISBLANK(D49), E49, D49/$D$59*$D$16) -> 0 | G49: =F49/$F$59 -> #DIV/0! | H49: =F49/$D$18 -> #DIV/0!
B50: 2 | F50: =IF(ISBLANK(D50), E50, D50/$D$59*$D$16) -> 0 | G50: =F50/$F$59 -> #DIV/0! | H50: =F50/$D$18 -> #DIV/0!
B51: 3 | F51: =IF(ISBLANK(D51), E51, D51/$D$59*$D$16) -> 0 | G51: =F51/$F$59 -> #DIV/0! | H51: =F51/$D$18 -> #DIV/0!
B52: 4 | F52: =IF(ISBLANK(D52), E52, D52/$D$59*$D$16) -> 0 | G52: =F52/$F$59 -> #DIV/0! | H52: =F52/$D$18 -> #DIV/0!
B53: 5 | F53: =IF(ISBLANK(D53), E53, D53/$D$59*$D$16) -> 0 | G53: =F53/$F$59 -> #DIV/0! | H53: =F53/$D$18 -> #DIV/0!
B54: 6 | F54: =IF(ISBLANK(D54), E54, D54/$D$59*$D$16) -> 0 | G54: =F54/$F$59 -> #DIV/0!
B55: 7 | F55: =IF(ISBLANK(D55), E55, D55/$D$59*$D$16) -> 0 | G55: =F55/$F$59 -> #DIV/0!
B56: 8 | F56: =IF(ISBLANK(D56), E56, D56/$D$59*$D$16) -> 0 | G56: =F56/$F$59 -> #DIV/0!
B57: 9 | F57: =IF(ISBLANK(D57), E57, D57/$D$59*$D$16) -> 0 | G57: =F57/$F$59 -> #DIV/0!
B58: 10 | F58: =IF(ISBLANK(D58), E58, D58/$D$59*$D$16) -> 0 | G58: =F58/$F$59 -> #DIV/0!
B59: All | C59: Total | D59: =SUM(D49:D58) -> 0 | E59: =SUM(E49:E58) -> 0 | F59: =SUM(F49:F58) -> 0 | G59: =F59/$F$59 -> #DIV/0! | H59: =F59/$D$18 -> #DIV/0! | I59: =SUMIF(I49:I53,"yes",H49:H53) -> 0
B60: =B17 -> D | C60: =C17 -> 0 | D60: =IF(E52="g/piece (absolut weight)", "fill collum E!", "fill column D!") -> fill column D! | F60: Proportion of the basic material composition | I60: Features
B61: Layer number (from outside to inside) | C61: Material (this information is optional) | D61: Surface weight [g/m2] | E61: Absolute weight [g/piece] | F61: Absolute weight [g/piece] | G61: Share of single element [%] | H61: Share of total sample [%] | I61: Repulpable? (this information is mandatory) | J61: Water soluble? (this information is optional)
B62: 1 | F62: =IF(ISBLANK(D62), E62, D62/$D$72*$D$15) -> 0 | G62: =F62/$F$72 -> #DIV/0! | H62: =F62/$D$18 -> #DIV/0!
B63: 2 | F63: =IF(ISBLANK(D63), E63, D63/$D$72*$D$15) -> 0 | G63: =F63/$F$72 -> #DIV/0! | H63: =F63/$D$18 -> #DIV/0!
B64: 3 | F64: =IF(ISBLANK(D64), E64, D64/$D$72*$D$15) -> 0 | G64: =F64/$F$72 -> #DIV/0! | H64: =F64/$D$18 -> #DIV/0!
B65: 4 | F65: =IF(ISBLANK(D65), E65, D65/$D$72*$D$15) -> 0 | G65: =F65/$F$72 -> #DIV/0! | H65: =F65/$D$18 -> #DIV/0!
B66: 5 | F66: =IF(ISBLANK(D66), E66, D66/$D$72*$D$15) -> 0 | G66: =F66/$F$72 -> #DIV/0! | H66: =F66/$D$18 -> #DIV/0!
B67: 6 | F67: =IF(ISBLANK(D67), E67, D67/$D$72*$D$15) -> 0 | G67: =F67/$F$72 -> #DIV/0!
B68: 7 | F68: =IF(ISBLANK(D68), E68, D68/$D$72*$D$15) -> 0 | G68: =F68/$F$72 -> #DIV/0!
B69: 8 | F69: =IF(ISBLANK(D69), E69, D69/$D$72*$D$15) -> 0 | G69: =F69/$F$72 -> #DIV/0!
B70: 9 | F70: =IF(ISBLANK(D70), E70, D70/$D$72*$D$15) -> 0 | G70: =F70/$F$72 -> #DIV/0!
B71: 10 | F71: =IF(ISBLANK(D71), E71, D71/$D$72*$D$15) -> 0 | G71: =F71/$F$72 -> #DIV/0!
B72: All | C72: Total | D72: =SUM(D62:D71) -> 0 | E72: =SUM(E62:E71) -> 0 | F72: =SUM(F62:F71) -> 0 | G72: =F72/$F$72 -> #DIV/0! | H72: =F72/$D$18 -> #DIV/0! | I72: =SUMIF(I62:I66,"yes",H62:H66) -> 0

Sheet Results_ x min
B1: 4EG lab report template - Part III Method - Results with further disintegration times (OPTIONAL)
B2: V25.2 (07.02.2025)
B4: =MID(CELL("dateiname",A1),SEARCH("]",CELL("dateiname",A1))+1,31) -> #VALUE! | E4: Please add disintegration time in spreadsheet name (grey bar below)
B6: Brown marked --> just information
B7: Yellow marked --> Drop-Down-List
B8: Blue coloured --> Calculated values
B9: Empty white cells, black coloured --> for your entry
B10: Blue coloured and underlined --> Hyper links
B12: General information
B14: Sample receipt | C14: date
B15: Sample preparation | C15: date
B16: Lab test | C16: date
B17: Sample number | C17: text
B18: Optional tests | C18: text | G18: none | H18: ER | I18: COD | J18: Macrostickies | K18: Disintegration curve
B19: Deviations from the method | C19: text
B20: Type of product | C20: list | G20: semi-finished | H20: finished
B21: Artifical ageing (3d, 60°C) | C21: list | G21: no | H21: yes
B22: Type of sample preparation | C22: list | G22: simple | H22: complex
B23: Dry removed components (Plastic lid, metal parts, textile parts) | C23: list | G23: no | H23: yes
B24: Generic description of the sample | C24: text
B25: Sample data sheet available | C25: list | G25: no | H25: yes
B26: Recyclable rejects | C26: % | E26: Click to go to data sheet Part III
B27: polyAl recycling | C27: list | G27: no | H27: yes
B29: Results summary (filled automatically)
B31: Coarse reject determination
B32: Coarse reject (incl. dry removed components) | C32: % | D32: =D103 -> 0
B33: Coarse reject characterisation | C33: link | D33: Click to go to reject charaterisation tree
B34: sheet adhesion test (accept coarse screening) | C34: link | D34: =D118 -> 0
B35: visual apperance test (accept coarse screening) | C35: link | D35: =D121 -> 0
B36: coarse reject quality level | C36: text | D36: =D105 -> 0
B38: Fine reject determination
B39: Fine reject (related to total product) | C39: % | D39: =D138 -> #DIV/0!
B40: Fine reject characterisation | C40: link | D40: Click to go to reject charaterisation tree
B41: sheet adhesion test (accept fine screening) | C41: link | D41: =D158 -> 0
B42: visual apperance test (accept fine screening) | C42: link | D42: =D161 -> 0
B44: Pulp quality
B45: Ash content | C45: % | D45: =D128 -> 0
B46: Tensile index | C46: (Nm/g) | D46: =G155 -> 0
B48: Dissolved and colloidal substances (optional)
B49: Evaporation residue of the sample (related to total product) | C49: g/kg Packaging | D49: =D173
B50: Chemical oxygen demand (optional)
B51: Chemical oxygen demand - COD (related to total product) | C51: gO2/kg Packaging | D51: =D182 -> 0
B53: Macrostickies analysis (optional)
B54: Total area of macrostickies 150 - 200000 (µm) | C54: mm²/kg | D54: =D193 -> #DIV/0!
B55: Area of macrostickies with equivalent diameter <= 2000 µm | C55: mm²/kg | D55: =D192 -> #DIV/0!
B57: Detailed Results
B59: Sample preparation | C59: # | D59: weight (air-dry) | E59: content (air-dry) | F59: content (oven-dry) | G59: dry removed? | H59: content without dry removed | I59: sample input weight (air-dry) | K59: Weighing of 50 ± 1 g oven dry | L59: water input weight | M59: consistency of sample input
B60: Components | D60: g | E60: % | F60: % | G60: yes? | H60: g | I60: g | K60: g air-dry | L60: g | M60: %
C61: A | E61: =IF(ISBLANK(D61),"",D61/$D$69) | F61: =E61*E75 -> #VALUE! | H61: =IF(G61="yes",0,E61/(1-D$71)) -> #VALUE! | I61: =IF(ISBLANK(D61),"",H61*$H$70/$E75) | J61: Copy the formula from column H (sample input weight) for each additional component
C62: B | E62: =IF(ISBLANK(D62),"",D62/$D$69) | F62: =E62*E76 -> #VALUE! | H62: =IF(G62="yes",0,E62/(1-D$71)) -> #VALUE! | I62: =IF(ISBLANK(D62),"",H62*$H$70/$E76) | J62: Copy the formula from column H (sample input weight) for each additional component
C63: C | E63: =IF(ISBLANK(D63),"",D63/$D$69) | I63: =IF(ISBLANK(D63),"",H63*$H$70/$E77) | K63: =I63
C64: D | E64: =IF(ISBLANK(D64),"",D64/$D$69) | H64: =IF(ISBLANK(D64),"",IF(G64="ja",0,E64/D$71)) | I64: =IF(ISBLANK(D64),"",H64*$H$70/$E78) | K64: =I64
C65: E | E65: =IF(ISBLANK(D65),"",D65/$D$69) | H65: =IF(ISBLANK(D65),"",IF(G65="ja",0,E65/D$71)) | I65: =IF(ISBLANK(D65),"",H65*$H$70/$E79) | K65: =I65
C66: F | E66: =IF(ISBLANK(D66),"",D66/$D$69) | H66: =IF(ISBLANK(D66),"",IF(G66="ja",0,E66/D$71)) | I66: =IF(ISBLANK(D66),"",H66*$H$70/$E80) | K66: =I66
C67: G | E67: =IF(ISBLANK(D67),"",D67/$D$69) | H67: =IF(ISBLANK(D67),"",IF(G67="ja",0,E67/D$71)) | I67: =IF(ISBLANK(D67),"",H67*$H$70/$E81) | K67: =I67
C68: H | E68: =IF(ISBLANK(D68),"",D68/$D$69) | H68: =IF(ISBLANK(D68),"",IF(G68="ja",0,E68/D$71)) | I68: =IF(ISBLANK(D68),"",H68*$H$70/$E82) | K68: =I68
B69: Total | D69: =SUM(D61:D68) -> 0 | E69: =SUM(E61:E68) -> 0 | G69: =SUMIF(G61:G68,"yes",F61:F68) -> 0 | H69: =SUM(H61:H68) -> #VALUE! | I69: =SUM(I61:I68) -> 0 | K69: =SUM(K61:K68) -> 0 | L69: =IF(ISBLANK(D62),((K69*E75)/2.5)*100-K69,IF(ISBLANK(D63),((K69*(E75*H61+E76*H62)/2.5)*100-K69),IF(ISBLANK(D64),((K69*(E75*H61+E76*H62+E77*H63)/2.5)*100-K69),IF(ISBLANK(D65),((K69*(E75*H61+E76*H62+E77*H63+E78*H64)/2.5)*100-K69),IF(ISBLANK(D66),((K69*(E75*H61+E76*H62+E77*H63+E78*H64+E79*H65)/2.5)*100-K69),IF(ISBLANK(D67),((K69*(E75*H61+E76*H62+E77*H63+E78*H64+E79*H65+E80*H66)/2.5)*100-K69),IF(ISBLANK(D68),((K69*(E75*H61+E76*H62+E77*H63+E78*H64+E79*H65+E80*H66+E81*H67)/2.5)*100-K69),(K69*(E75*H61+E76*H62+E77*H63+E78*H64+E79*H65+E80*H66+E81*H67+E82*H68)/2.5)*100-K69))))))) -> #VALUE! | M69: 2.5
H70: 50 | I70: g oven dry
B71: Content of dry removed components | C71: % | D71: =G69 -> 0
B73: Dry matter content of sample (without dry removed components) | C73: DM 1 | D73: DM 2 | E73: Mean DM
C74: % | D74: % | E74: %
B75: A | E75: =IF(ISBLANK(C75),"",AVERAGE(C75:D75))
B76: B | E76: =IF(ISBLANK(C76),"",AVERAGE(C76:D76))
B77: =IF(ISBLANK(B63),"",B63) | E77: =IF(ISBLANK(C77),"",AVERAGE(C77:D77))
B78: =IF(ISBLANK(B64),"",B64) | E78: =IF(ISBLANK(C78),"",AVERAGE(C78:D78))
B79: =IF(ISBLANK(B65),"",B65) | E79: =IF(ISBLANK(C79),"",AVERAGE(C79:D79))
B80: =IF(ISBLANK(B66),"",B66) | E80: =IF(ISBLANK(C80),"",AVERAGE(C80:D80))
B81: =IF(ISBLANK(B67),"",B67) | E81: =IF(ISBLANK(C81),"",AVERAGE(C81:D81))
B82: =IF(ISBLANK(B68),"",B68) | E82: =IF(ISBLANK(C82),"",AVERAGE(C82:D82))
B83: Dry content (average) | C83: =AVERAGE(C75:C82) -> #DIV/0! | D83: =AVERAGE(D75:D82) -> #DIV/0! | E83: =AVERAGE(E75:E82) -> #DIV/0!
E84: Removal of certain disturbing non-fibre/non-paper components, e.g. lid, cap, …
B85: Disintegraton ( acc. ISO 5263-1)
B86: Disintegration device | C86: text | D86: lab disintegrator
B87: Disintegration time (min) | C87: list | F87: 2 | G87: 5 | H87: 20
B88: Foaming | C88: list | F88: no | G88: yes
B89: Turbidity of filtrat | C89: list | F89: no | G89: yes
B90: Further dsintegration times, which? (min) | C90: text | F90: 2 | G90: 5 | H90: 20
B92: Comments regarding disintegration, e.g. turbidity colour, foaming
B96: Coarse screening
B97: input weight (oven-dry) | C97: g | D97: 50
B98: photographic documentation - coarse screening | C98: reminder
B99: coarse reject weight (oven-dry) | C99: g
B100: coarse reject | C100: % | D100: =D99/D97 -> 0
B101: accept coarse screening weight (oven-dry) | C101: g | D101: =D97-D99 -> 50 | E101: input weight' minus 'coarse reject weight'
B102: coarse reject (related to total product) | C102: % | D102: =D100*(1-D71) -> 0
B103: Coarse reject (incl. dry removed components) | C103: % | D103: =D102+G69 -> 0
B104: Coarse reject characterisation | C104: link | D104: Click to go to reject charaterisation tree
B105: coarse reject quality level | C105: list | F105: level 1 | G105: level 2 | H105: level 3 | I105: level 4
B107: Stock concentration (accept coarse screening)
B108: input weight (oven-dry) | C108: g
B109: consistency | C109: %
B111: Sheet forming (accept coarse screening)
B112: weight of sheet AC1 (oven-dry) (optional) | C112: g
B113: weight of sheet AC2 (oven-dry) (optional) | C113: g
B114: weight of sheet AC3 (oven-dry) | C114: g
B115: weight of sheet AC4 (oven-dry) | C115: g
B117: 1st sheet adhesion test (accept coarse screening)
B118: sheet adhesion test (AC) | C118: list | F118: level 1 | G118: level 2 | H118: level 3
B119: description of level | C119: list | F119: absent | G119: partly present | H119: present
B120: 1st visual apperance test (accept coarse screening)
...

Sheet Result_ xx min
B1: 4EG lab report template - Part III Method - Results with further disintegration times (OPTIONAL)
B2: V25.2 (14.06.2026)
B4: =MID(CELL("dateiname",A1),SEARCH("]",CELL("dateiname",A1))+1,31) -> #VALUE! | E4: Please add disintegration time in spreadsheet name (grey bar below)
B6: Brown marked --> just information
B7: Yellow marked --> Drop-Down-List
B8: Blue coloured --> Calculated values
B9: Empty white cells, black coloured --> for your entry
B10: Blue coloured and underlined --> Hyper links
B12: General information
B14: Sample receipt | C14: date
B15: Sample preparation | C15: date
B16: Lab test | C16: date
B17: Sample number | C17: text
B18: Optional tests | C18: text | G18: none | H18: ER | I18: COD | J18: Macrostickies | K18: Disintegration curve
B19: Deviations from the method | C19: text
B20: Type of product | C20: list | G20: semi-finished | H20: finished
B21: Artifical ageing (3d, 60°C) | C21: list | G21: no | H21: yes
B22: Type of sample preparation | C22: list | G22: simple | H22: complex
B23: Dry removed components (Plastic lid, metal parts, textile parts) | C23: list | G23: no | H23: yes
B24: Generic description of the sample | C24: text
B25: Sample data sheet available | C25: list | G25: no | H25: yes
B26: Recyclable rejects | C26: % | E26: Click to go to data sheet Part III
B27: polyAl recycling | C27: list | G27: no | H27: yes
B29: Results summary (filled automatically)
B31: Coarse reject determination
B32: Coarse reject (incl. dry removed components) | C32: % | D32: =D103 -> 0
B33: Coarse reject characterisation | C33: link | D33: Click to go to reject charaterisation tree
B34: sheet adhesion test (accept coarse screening) | C34: link | D34: =D118 -> 0
B35: visual apperance test (accept coarse screening) | C35: link | D35: =D121 -> 0
B36: coarse reject quality level | C36: text | D36: =D105 -> 0
B38: Fine reject determination
B39: Fine reject (related to total product) | C39: % | D39: =D138 -> #DIV/0!
B40: Fine reject characterisation | C40: link | D40: Click to go to reject charaterisation tree
B41: sheet adhesion test (accept fine screening) | C41: link | D41: =D158 -> 0
B42: visual apperance test (accept fine screening) | C42: link | D42: =D161 -> 0
B44: Pulp quality
B45: Ash content | C45: % | D45: =D128 -> 0
B46: Tensile index | C46: (Nm/g) | D46: =G155 -> 0
B48: Dissolved and colloidal substances (optional)
B49: Evaporation residue of the sample (related to total product) | C49: g/kg Packaging | D49: =D173
B50: Chemical oxygen demand (optional)
B51: Chemical oxygen demand - COD (related to total product) | C51: gO2/kg Packaging | D51: =D182 -> 0
B53: Macrostickies analysis (optional)
B54: Total area of macrostickies 150 - 200000 (µm) | C54: mm²/kg | D54: =D193 -> #DIV/0!
B55: Area of macrostickies with equivalent diameter <= 2000 µm | C55: mm²/kg | D55: =D192 -> #DIV/0!
B57: Detailed Results
B59: Sample preparation | C59: # | D59: weight (air-dry) | E59: content (air-dry) | F59: content (oven-dry) | G59: dry removed? | H59: content without dry removed | I59: sample input weight (air-dry) | K59: Weighing of 50 ± 1 g oven dry | L59: water input weight | M59: consistency of sample input
B60: Components | D60: g | E60: % | F60: % | G60: yes? | H60: g | I60: g | K60: g air-dry | L60: g | M60: %
C61: A | E61: =IF(ISBLANK(D61),"",D61/$D$69) | F61: =E61*E75 -> #VALUE! | H61: =IF(G61="yes",0,E61/(1-D$71)) -> #VALUE! | I61: =IF(ISBLANK(D61),"",H61*$H$70/$E75) | J61: Copy the formula from column H (sample input weight) for each additional component
C62: B | E62: =IF(ISBLANK(D62),"",D62/$D$69) | F62: =E62*E76 -> #VALUE! | H62: =IF(G62="yes",0,E62/(1-D$71)) -> #VALUE! | I62: =IF(ISBLANK(D62),"",H62*$H$70/$E76) | J62: Copy the formula from column H (sample input weight) for each additional component
C63: C | E63: =IF(ISBLANK(D63),"",D63/$D$69) | I63: =IF(ISBLANK(D63),"",H63*$H$70/$E77) | K63: =I63
C64: D | E64: =IF(ISBLANK(D64),"",D64/$D$69) | H64: =IF(ISBLANK(D64),"",IF(G64="ja",0,E64/D$71)) | I64: =IF(ISBLANK(D64),"",H64*$H$70/$E78) | K64: =I64
C65: E | E65: =IF(ISBLANK(D65),"",D65/$D$69) | H65: =IF(ISBLANK(D65),"",IF(G65="ja",0,E65/D$71)) | I65: =IF(ISBLANK(D65),"",H65*$H$70/$E79) | K65: =I65
C66: F | E66: =IF(ISBLANK(D66),"",D66/$D$69) | H66: =IF(ISBLANK(D66),"",IF(G66="ja",0,E66/D$71)) | I66: =IF(ISBLANK(D66),"",H66*$H$70/$E80) | K66: =I66
C67: G | E67: =IF(ISBLANK(D67),"",D67/$D$69) | H67: =IF(ISBLANK(D67),"",IF(G67="ja",0,E67/D$71)) | I67: =IF(ISBLANK(D67),"",H67*$H$70/$E81) | K67: =I67
C68: H | E68: =IF(ISBLANK(D68),"",D68/$D$69) | H68: =IF(ISBLANK(D68),"",IF(G68="ja",0,E68/D$71)) | I68: =IF(ISBLANK(D68),"",H68*$H$70/$E82) | K68: =I68
B69: Total | D69: =SUM(D61:D68) -> 0 | E69: =SUM(E61:E68) -> 0 | G69: =SUMIF(G61:G68,"yes",F61:F68) -> 0 | H69: =SUM(H61:H68) -> #VALUE! | I69: =SUM(I61:I68) -> 0 | K69: =SUM(K61:K68) -> 0 | L69: =IF(ISBLANK(D62),((K69*E75)/2.5)*100-K69,IF(ISBLANK(D63),((K69*(E75*H61+E76*H62)/2.5)*100-K69),IF(ISBLANK(D64),((K69*(E75*H61+E76*H62+E77*H63)/2.5)*100-K69),IF(ISBLANK(D65),((K69*(E75*H61+E76*H62+E77*H63+E78*H64)/2.5)*100-K69),IF(ISBLANK(D66),((K69*(E75*H61+E76*H62+E77*H63+E78*H64+E79*H65)/2.5)*100-K69),IF(ISBLANK(D67),((K69*(E75*H61+E76*H62+E77*H63+E78*H64+E79*H65+E80*H66)/2.5)*100-K69),IF(ISBLANK(D68),((K69*(E75*H61+E76*H62+E77*H63+E78*H64+E79*H65+E80*H66+E81*H67)/2.5)*100-K69),(K69*(E75*H61+E76*H62+E77*H63+E78*H64+E79*H65+E80*H66+E81*H67+E82*H68)/2.5)*100-K69))))))) -> #VALUE! | M69: 2.5
H70: 50 | I70: g oven dry
B71: Content of dry removed components | C71: % | D71: =G69 -> 0
B73: Dry matter content of sample (without dry removed components) | C73: DM 1 | D73: DM 2 | E73: Mean DM
C74: % | D74: % | E74: %
B75: A | E75: =IF(ISBLANK(C75),"",AVERAGE(C75:D75))
B76: B | E76: =IF(ISBLANK(C76),"",AVERAGE(C76:D76))
B77: =IF(ISBLANK(B63),"",B63) | E77: =IF(ISBLANK(C77),"",AVERAGE(C77:D77))
B78: =IF(ISBLANK(B64),"",B64) | E78: =IF(ISBLANK(C78),"",AVERAGE(C78:D78))
B79: =IF(ISBLANK(B65),"",B65) | E79: =IF(ISBLANK(C79),"",AVERAGE(C79:D79))
B80: =IF(ISBLANK(B66),"",B66) | E80: =IF(ISBLANK(C80),"",AVERAGE(C80:D80))
B81: =IF(ISBLANK(B67),"",B67) | E81: =IF(ISBLANK(C81),"",AVERAGE(C81:D81))
B82: =IF(ISBLANK(B68),"",B68) | E82: =IF(ISBLANK(C82),"",AVERAGE(C82:D82))
B83: Dry content (average) | C83: =AVERAGE(C75:C82) -> #DIV/0! | D83: =AVERAGE(D75:D82) -> #DIV/0! | E83: =AVERAGE(E75:E82) -> #DIV/0!
E84: Removal of certain disturbing non-fibre/non-paper components, e.g. lid, cap, …
B85: Disintegraton ( acc. ISO 5263-1)
B86: Disintegration device | C86: text | D86: lab disintegrator
B87: Disintegration time (min) | C87: list | F87: 2 | G87: 5 | H87: 20
B88: Foaming | C88: list | F88: no | G88: yes
B89: Turbidity of filtrat | C89: list | F89: no | G89: yes
B90: Further dsintegration times, which? (min) | C90: text | F90: 2 | G90: 5 | H90: 20
B92: Comments regarding disintegration, e.g. turbidity colour, foaming
B96: Coarse screening
B97: input weight (oven-dry) | C97: g | D97: 50
B98: photographic documentation - coarse screening | C98: reminder
B99: coarse reject weight (oven-dry) | C99: g
B100: coarse reject | C100: % | D100: =D99/D97 -> 0
B101: accept coarse screening weight (oven-dry) | C101: g | D101: =D97-D99 -> 50 | E101: input weight' minus 'coarse reject weight'
B102: coarse reject (related to total product) | C102: % | D102: =D100*(1-D71) -> 0
B103: Coarse reject (incl. dry removed components) | C103: % | D103: =D102+G69 -> 0
B104: Coarse reject characterisation | C104: link | D104: Click to go to reject charaterisation tree
B105: coarse reject quality level | C105: list | F105: level 1 | G105: level 2 | H105: level 3 | I105: level 4
B107: Stock concentration (accept coarse screening)
B108: input weight (oven-dry) | C108: g
B109: consistency | C109: %
B111: Sheet forming (accept coarse screening)
B112: weight of sheet AC1 (oven-dry) (optional) | C112: g
B113: weight of sheet AC2 (oven-dry) (optional) | C113: g
B114: weight of sheet AC3 (oven-dry) | C114: g
B115: weight of sheet AC4 (oven-dry) | C115: g
B117: 1st sheet adhesion test (accept coarse screening)
B118: sheet adhesion test (AC) | C118: list | F118: level 1 | G118: level 2 | H118: level 3
B119: description of level | C119: list | F119: absent | G119: partly present | H119: present
B120: 1st visual apperance test (accept coarse screening)
...

Sheet List of changes
B1: 4EG Test protocol - List of Changes
B2: V25.2 (31.02.2025)
A4: Version | B4: Revision | C4: Author | D4: Change(s)
A5: V25.1 | B5: 45688 | C5: Vanessa Wortmann | D5: first version of the spreadsheet
A6: V25.2 | B6: 45695 | C6: Vanessa Wortmann | D6: tab Results_ sample name: correction on the FR calculation (D135). Water pH moved to the disintegration section (B91). Temperature in which the ph was measured added (B92).
