Workbook
Name Test: #REF!

Sheet Lab information
B1: 4EG lab report template - Part I - Conventional recycling process - Lab Information
B2: V25.2 (07.02.2025)
B7: General Information
B8: Institute: | C8: text
B9: Contact person: | C9: text
B10: Date of the test: | C10: date
B11: Sample number: | C11: text
B13: Aggregates
B14: Type of Somerville Fractionator | C14: text
B15: Type of board carriers (brand) | C15: text
B16: Type of paper cover sheet (brand) | C16: text
B17: Type of filter (brand) | C17: text
B18: Type of the image analysing system (brand) | C18: text
B19: Thickener used for the fine screening accept | C19: list | F19: no | G19: yes
B20: Type of Thickener | C20: text

Sheet Results_sample name
B1: 4EG lab report template - Part I - Conventional recycling process - Results
B2: V25.2 (14.06.2026)
B4: =MID(CELL("dateiname",A1),SEARCH("]",CELL("dateiname",A1))+1,31) -> #VALUE! | E4: Please add sample code in spreadsheet name (grey bar below)
B6: Brown marked --> just information
B7: Yellow marked --> Drop-Down-List
B8: Blue coloured --> Calculated values
B9: Empty white cells, black coloured --> for your entry
B10: Blue coloured and underlined --> Hyper links
B12: General information
B14: Sample receipt | C14: date
B15: Sample preparation | C15: date
B16: Lab test | C16: date
B17: Sample number | C17: text
B18: Optional tests | C18: text | G18: none | H18: COD | I18: Macrostickies
B19: Deviations from the method | C19: text
B20: Type of product | C20: list | G20: semi-finished | H20: finished
B21: Artifical ageing (3d, 60°C) | C21: list | G21: no | H21: yes
B22: Type of sample preparation | C22: list | G22: simple | H22: complex
B23: Dry removed components (Plastic lid, metal parts, textile parts) | C23: list | G23: no | H23: yes
B24: Generic description of the sample | C24: text
B25: Sample data sheet available | C25: list | G25: no | H25: yes
B27: Results summary (filled automatically)
B29: Coarse reject determination
B30: Coarse reject (incl. dry removed components) | C30: % | D30: =D97 -> 0
B31: Coarse reject characterisation | C31: link | D31: Click to go to reject charaterisation tree
B32: sheet adhesion test (accept coarse screening) | C32: link | D32: =D111 -> 0
B33: visual apperance test (accept coarse screening) | C33: link | D33: =D114 -> 0
B35: Fine reject determination
B36: Fine reject (related to total product) | C36: % | D36: =D125 -> #DIV/0!
B37: Fine reject characterisation | C37: link | D37: Click to go to reject charaterisation tree
B38: sheet adhesion test (accept fine screening) | C38: link | D38: =D135 -> 0
B39: visual apperance test (accept fine screening) | C39: link | D39: =D138 -> 0
B41: Dissolved and colloidal substances (optional)
B42: Evaporation residue of the sample (related to total product) | C42: g/kg Packaging | D42: =D150
B43: Chemical oxygen demand (optional)
B44: Chemical oxygen demand - COD (related to total product) | C44: gO2/kg Packaging | D44: =D158 -> 0
B46: Macrostickies analysis (optional)
B47: Total area of macrostickies 150 - 200000 (µm) | C47: mm²/kg | D47: =D169 -> #DIV/0!
B48: Area of macrostickies with equivalent diameter <= 2000 µm | C48: mm²/kg | D48: =D168 -> #DIV/0!
B50: Detailed Results
...

Sheet para
B1: Threshold | L1: Target | T1: Score | AD1: VI Score table | AG1: 90-100 | AH1: The method indicates that the packaging is expected not to pose any recyclability issues in the standard mill and is therefore considered Best in Class.
B2: CR1 | C2: CR2 | D2: FR1 | E2: FR2 | F2: Y1 | G2: Y2 | H2: Y3 | I2: VI | J2: SA | L2: CR | M2: FR | N2: Y | Q2: VI | R2: SA | T2: CR1 | U2: CR2 | V2: FR1 | W2: FR2 | X2: Y1 | Y2: Y2 | Z2: Y3 | AB2: SA | AD2: Level | AE2: Score | AG2: 70-89 | AH2: The method indicates that the packaging has minor recyclability issues that could have limited impact on the recyclability in the standard mill.
AD3: 1 | AE3: 0 | AG3: 50-69 | AH3: The method indicates that the packaging has some recyclability issues that affect the process in the standard mill and should therefore not be abundant.
A4: Category 1 | F4: 95 | G4: 85 | H4: 80 | I4: 4 | J4: 2 | N4: 100 | Q4: 1 | R4: 1 | T4: 50 | V4: 45 | X4: 100 | Y4: 90 | Z4: 45 | AB4: 0 | AD4: 2 | AE4: -5 | AG4: 0-49 | AH4: The method indicates that the packaging has some significant recyclability issues that have a significant impact on the process in the standard mill and should therefore be avoided when possible.
AD5: 3 | AE5: -15 | AG5: negative | AH5: The method indicates that the packaging has major recyclability issues which could stop the process at a standard mill and therefore are not suitable for this mill. It is recommended to evaluate this product with either Part II or III.
AD6: 4 | AE6: -30
AG8: level 1 (0 points) | AH8: Poses no visual quality issues.
AG9: level 2 (-5 points) | AH9: Poses minor visual quality issues that can be acceptable in the mix.
AG10: level 3 (-15 points) | AH10: Poses some visual quality issues that can be acceptable in the mix for certain types of production.
AG11: level 4 (-30 points) | AH11: Poses significant visual quality issues that can be problematic in the mix. Sample is at risk of receiving a KO in future revisions of the Evaluation Protocol*
AG14: level 1 (0 points) | AH14: Poses no adhesion issues.
AG15: level 2 (0 points) | AH15: Poses minor adhesion issues.
AG16: level 3 (KO) | AH16: Poses significant adhesion issues that have a significant impact on the process in the standard mill .
A55: Current Category | B55: Category 1 | AC55: check
A56: Current Parameters | B56: =SUMIF($A$4:$A$8,B55,B4:B8) -> 0 | C56: =SUMIF($A$4:$A$8,B55,C4:C8) -> 0 | D56: =SUMIF($A$4:$A$8,B55,D4:D8) -> 0 | E56: =SUMIF($A$4:$A$8,B55,E4:E8) -> 0 | F56: =SUMIF($A$4:$A$8,B55,F4:F8) -> 95 | G56: =SUMIF($A$4:$A$8,B55,G4:G8) -> 85 | H56: =SUMIF($A$4:$A$8,B55,H4:H8) -> 80 | I56: =SUMIF($A$4:$A$8,B55,I4:I8) -> 4 | J56: =SUMIF($A$4:$A$8,B55,J4:J8) -> 2 | L56: =SUMIF($A$4:$A$8,B55,L4:L8) -> 0 | M56: =SUMIF($A$4:$A$8,B55,M4:M8) -> 0 | N56: =SUMIF($A$4:$A$8,B55,N4:N8) -> 100 | O56: =SUMIF($A$4:$A$8,B55,O4:O8) -> 0 | P56: =SUMIF($A$4:$A$8,B55,P4:P8) -> 0 | Q56: =SUMIF($A$4:$A$8,B55,Q4:Q8) -> 1 | R56: =SUMIF($A$4:$A$8,B55,R4:R8) -> 1 | T56: =SUMIF($A$4:$A$8,B55,T4:T8) -> 50 | U56: =SUMIF($A$4:$A$8,B55,U4:U8) -> 0 | V56: =SUMIF($A$4:$A$8,B55,V4:V8) -> 45 | W56: =SUMIF($A$4:$A$8,B55,W4:W8) -> 0 | X56: =SUMIF($A$4:$A$8,B55,X4:X8) -> 100 | Y56: =SUMIF($A$4:$A$8,B55,Y4:Y8) -> 90 | Z56: =SUMIF($A$4:$A$8,B55,Z4:Z8) -> 45 | AB56: =SUMIF($A$4:$A$8,Test,AB4:AB8) -> 0 | AC56: =SUM(T56:AB56)-U56-W56 -> 330
B58: CR | C58: FR | D58: Yield | G58: VI | H58: SA | I58: Total
A59: Current Results | B59: =#REF! -> #REF! | C59: =#REF! -> #REF! | D59: =(100-($B$59+2*$C$59*($V$4/$X$4))) -> #REF! | G59: =#REF! -> #REF! | H59: =#REF! -> #REF! | M59: *correction factor calculation: | P59: "= 2* (FR points) / (max Y score))
A60: Current Scores Raw* | D60: =IF($D$59>=$F$56,($X$56-$Y$56)/(100-$F$56)*$D$59+$X$56-($X$56-$Y$56)/(100-$F$56)*100,IF($D$59>=$G$56,($Y$56-$Z$56)/($F$56-$G$56)*$D$59+$Y$56-($Y$56-$Z$56)/($F$56-$G$56)*$F$56,($Z$56)/($G$56-$H$56)*$D$59+$Z$56-($Z$56)/($G$56-$H$56)*$G$56)) -> #REF! | G60: =VLOOKUP(G59,AD3:AE6,2) -> #REF! | H60: =IF(H59>J56,"KO",0) -> #REF! | I60: =IF(H60="KO",MIN(-1,SUM(B60:G60)),SUM(B60:H60)) -> #REF!
A61: Current Scores Refined* | D61: =ROUND(IF(D60>X56,X56,IF(D60<-X56,-X56,D60)),0) -> #REF! | G61: =G60 -> #REF! | H61: =H60 -> #REF! | I61: =IF(H61="KO",MIN(-1,MAX(-100,SUM(B61:G61))),MAX(-100,SUM(B61:H61))) -> #REF! | J61: =HLOOKUP(I61,B64:F65,2) -> #REF!
A64: Assessment | B64: -100 | C64: 0 | D64: 51 | E64: 71 | F64: 91
B65: not suitable for Standard Mill | C65: Scoring… | D65: Scoring… | E65: Scoring… | F65: Scoring…
K69: Datapoint | L69: =100-D59 -> #REF! | M69: =D60 -> #REF! | N69: =G59 -> #REF! | O69: =G60 -> #REF!
A73: The index letter P stands for one of the parameters | K73: Proposal 1 | M73: x
A74: DSP is the Deinkability Score of the parameter P | M74: 0 | N74: 1 | O74: 2 | P74: 3 | Q74: 4 | R74: 5 | S74: 6 | T74: 7 | U74: 8 | V74: 9 | W74: 10 | X74: 11 | Y74: 12 | Z74: 13 | AA74: 14 | AB74: 15 | AC74: 16 | AD74: 17 | AE74: 18 | AF74: 19 | AG74: 20 | AH74: 21
A75: RP is the result of the parameter P | K75: y | L75: 0 | M75: =MAX(IF((100-(2*M$74*($T$4/$X$4)+2*$L75*($V$4/$X$4)))>=$F$56,($X$56-$Y$56)/(100-$F$56)*(100-(2*M$74*($T$4/$X$4)+2*$L75*($V$4/$X$4)))+$X$56-($X$56-$Y$56)/(100-$F$56)*100,IF((100-(2*M$74*($T$4/$X$4)+2*$L75*($V$4/$X$4)))>=$G$56,($Y$56-$Z$56)/($F$56-$G$56)*(100-(2*M$74*($T$4/$X$4)+2*$L75*($V$4/$X$4)))+$Y$56-($Y$56-$Z$56)/($F$56-$G$56)*$F$56,($Z$56)/($G$56-$H$56)*(100-(2*M$74*($T$4/$X$4)+2*$L75*($V$4/$X$4)))+$Z$56-($Z$56)/($G$56-$H$56)*$G$56)),-1) -> 100 | N75: =MAX(IF((100-(2*N$74*($T$4/$X$4)+2*$L75*($V$4/$X$4)))>=$F$56,($X$56-$Y$56)/(100-$F$56)*(100-(2*N$74*($T$4/$X$4)+2*$L75*($V$4/$X$4)))+$X$56-($X$56-$Y$56)/(100-$F$56)*100,IF((100-(2*N$74*($T$4/$X$4)+2*$L75*($V$4/$X$4)))>=$G$56,($Y$56-$Z$56)/($F$56-$G$56)*(100-(2*N$74*($T$4/$X$4)+2*$L75*($V$4/$X$4)))+$Y$56-($Y$56-$Z$56)/($F$56-$G$56)*$F$56,($Z$56)/($G$56-$H$56)*(100-(2*N$74*($T$4/$X$4)+2*$L75*($V$4/$X$4)))+$Z$56-($Z$56)/($G$56-$H$56)*$G$56)),-1) -> 98 | O75: =MAX(IF((100-(2*O$74*($T$4/$X$4)+2*$L75*($V$4/$X$4)))>=$F$56,($X$56-$Y$56)/(100-$F$56)*(100-(2*O$74*($T$4/$X$4)+2*$L75*($V$4/$X$4)))+$X$56-($X$56-$Y$56)/(100-$F$56)*100,IF((100-(2*O$74*($T$4/$X$4)+2*$L75*($V$4/$X$4)))>=$G$56,($Y$56-$Z$56)/($F$56-$G$56)*(100-(2*O$74*($T$4/$X$4)+2*$L75*($V$4/$X$4)))+$Y$56-($Y$56-$Z$56)/($F$56-$G$56)*$F$56,($Z$56)/($G$56-$H$56)*(100-(2*O$74*($T$4/$X$4)+2*$L75*($V$4/$X$4)))+$Z$56-($Z$56)/($G$56-$H$56)*$G$56)),-1) -> 96 | P75: =MAX(IF((100-(2*P$74*($T$4/$X$4)+2*$L75*($V$4/$X$4)))>=$F$56,($X$56-$Y$56)/(100-$F$56)*(100-(2*P$74*($T$4/$X$4)+2*$L75*($V$4/$X$4)))+$X$56-($X$56-$Y$56)/(100-$F$56)*100,IF((100-(2*P$74*($T$4/$X$4)+2*$L75*($V$4/$X$4)))>=$G$56,($Y$56-$Z$56)/($F$56-$G$56)*(100-(2*P$74*($T$4/$X$4)+2*$L75*($V$4/$X$4)))+$Y$56-($Y$56-$Z$56)/($F$56-$G$56)*$F$56,($Z$56)/($G$56-$H$56)*(100-(2*P$74*($T$4/$X$4)+2*$L75*($V$4/$X$4)))+$Z$56-($Z$56)/($G$56-$H$56)*$G$56)),-1) -> 94 | Q75: =MAX(IF((100-(2*Q$74*($T$4/$X$4)+2*$L75*($V$4/$X$4)))>=$F$56,($X$56-$Y$56)/(100-$F$56)*(100-(2*Q$74*($T$4/$X$4)+2*$L75*($V$4/$X$4)))+$X$56-($X$56-$Y$56)/(100-$F$56)*100,IF((100-(2*Q$74*($T$4/$X$4)+2*$L75*($V$4/$X$4)))>=$G$56,($Y$56-$Z$56)/($F$56-$G$56)*(100-(2*Q$74*($T$4/$X$4)+2*$L75*($V$4/$X$4)))+$Y$56-($Y$56-$Z$56)/($F$56-$G$56)*$F$56,($Z$56)/($G$56-$H$56)*(100-(2*Q$74*($T$4/$X$4)+2*$L75*($V$4/$X$4)))+$Z$56-($Z$56)/($G$56-$H$56)*$G$56)),-1) -> 92 | R75: =MAX(IF((100-(2*R$74*($T$4/$X$4)+2*$L75*($V$4/$X$4)))>=$F$56,($X$56-$Y$56)/(100-$F$56)*(100-(2*R$74*($T$4/$X$4)+2*$L75*($V$4/$X$4)))+$X$56-($X$56-$Y$56)/(100-$F$56)*100,IF((100-(2*R$74*($T$4/$X$4)+2*$L75*($V$4/$X$4)))>=$G$56,($Y$56-$Z$56)/($F$56-$G$56)*(100-(2*R$74*($T$4/$X$4)+2*$L75*($V$4/$X$4)))+$Y$56-($Y$56-$Z$56)/($F$56-$G$56)*$F$56,($Z$56)/($G$56-$H$56)*(100-(2*R$74*($T$4/$X$4)+2*$L75*($V$4/$X$4)))+$Z$56-($Z$56)/($G$56-$H$56)*$G$56)),-1) -> 90 | S75: =MAX(IF((100-(2*S$74*($T$4/$X$4)+2*$L75*($V$4/$X$4)))>=$F$56,($X$56-$Y$56)/(100-$F$56)*(100-(2*S$74*($T$4/$X$4)+2*$L75*($V$4/$X$4)))+$X$56-($X$56-$Y$56)/(100-$F$56)*100,IF((100-(2*S$74*($T$4/$X$4)+2*$L75*($V$4/$X$4)))>=$G$56,($Y$56-$Z$56)/($F$56-$G$56)*(100-(2*S$74*($T$4/$X$4)+2*$L75*($V$4/$X$4)))+$Y$56-($Y$56-$Z$56)/($F$56-$G$56)*$F$56,($Z$56)/($G$56-$H$56)*(100-(2*S$74*($T$4/$X$4)+2*$L75*($V$4/$X$4)))+$Z$56-($Z$56)/($G$56-$H$56)*$G$56)),-1) -> 85.5 | T75: =MAX(IF((100-(2*T$74*($T$4/$X$4)+2*$L75*($V$4/$X$4)))>=$F$56,($X$56-$Y$56)/(100-$F$56)*(100-(2*T$74*($T$4/$X$4)+2*$L75*($V$4/$X$4)))+$X$56-($X$56-$Y$56)/(100-$F$56)*100,IF((100-(2*T$74*($T$4/$X$4)+2*$L75*($V$4/$X$4)))>=$G$56,($Y$56-$Z$56)/($F$56-$G$56)*(100-(2*T$74*($T$4/$X$4)+2*$L75*($V$4/$X$4)))+$Y$56-($Y$56-$Z$56)/($F$56-$G$56)*$F$56,($Z$56)/($G$56-$H$56)*(100-(2*T$74*($T$4/$X$4)+2*$L75*($V$4/$X$4)))+$Z$56-($Z$56)/($G$56-$H$56)*$G$56)),-1) -> 81 | ... AH75: =MAX(IF((100-(2*AH$74*($T$4/$X$4)+2*$L75*($V$4/$X$4)))>=$F$56,($X$56-$Y$56)/(100-$F$56)*(100-(2*AH$74*($T$4/$X$4)+2*$L75*($V$4/$X$4)))+$X$56-($X$56-$Y$56)/(100-$F$56)*100,IF((100-(2*AH$74*($T$4/$X$4)+2*$L75*($V$4/$X$4)))>=$G$56,($Y$56-$Z$56)/($F$56-$G$56)*(100-(2*AH$74*($T$4/$X$4)+2*$L75*($V$4/$X$4)))+$Y$56-($Y$56-$Z$56)/($F$56-$G$56)*$F$56,($Z$56)/($G$56-$H$56)*(100-(2*AH$74*($T$4/$X$4)+2*$L75*($V$4/$X$4)))+$Z$56-($Z$56)/($G$56-$H$56)*$G$56)),-1) -> -1
A76: THP is the threshold value of the parameter P | L76: 1 | M76: =MAX(IF((100-(2*M$74*($T$4/$X$4)+2*$L76*($V$4/$X$4)))>=$F$56,($X$56-$Y$56)/(100-$F$56)*(100-(2*M$74*($T$4/$X$4)+2*$L76*($V$4/$X$4)))+$X$56-($X$56-$Y$56)/(100-$F$56)*100,IF((100-(2*M$74*($T$4/$X$4)+2*$L76*($V$4/$X$4)))>=$G$56,($Y$56-$Z$56)/($F$56-$G$56)*(100-(2*M$74*($T$4/$X$4)+2*$L76*($V$4/$X$4)))+$Y$56-($Y$56-$Z$56)/($F$56-$G$56)*$F$56,($Z$56)/($G$56-$H$56)*(100-(2*M$74*($T$4/$X$4)+2*$L76*($V$4/$X$4)))+$Z$56-($Z$56)/($G$56-$H$56)*$G$56)),-1) -> 98.2 | N76: =MAX(IF((100-(2*N$74*($T$4/$X$4)+2*$L76*($V$4/$X$4)))>=$F$56,($X$56-$Y$56)/(100-$F$56)*(100-(2*N$74*($T$4/$X$4)+2*$L76*($V$4/$X$4)))+$X$56-($X$56-$Y$56)/(100-$F$56)*100,IF((100-(2*N$74*($T$4/$X$4)+2*$L76*($V$4/$X$4)))>=$G$56,($Y$56-$Z$56)/($F$56-$G$56)*(100-(2*N$74*($T$4/$X$4)+2*$L76*($V$4/$X$4)))+$Y$56-($Y$56-$Z$56)/($F$56-$G$56)*$F$56,($Z$56)/($G$56-$H$56)*(100-(2*N$74*($T$4/$X$4)+2*$L76*($V$4/$X$4)))+$Z$56-($Z$56)/($G$56-$H$56)*$G$56)),-1) -> 96.2 | O76: =MAX(IF((100-(2*O$74*($T$4/$X$4)+2*$L76*($V$4/$X$4)))>=$F$56,($X$56-$Y$56)/(100-$F$56)*(100-(2*O$74*($T$4/$X$4)+2*$L76*($V$4/$X$4)))+$X$56-($X$56-$Y$56)/(100-$F$56)*100,IF((100-(2*O$74*($T$4/$X$4)+2*$L76*($V$4/$X$4)))>=$G$56,($Y$56-$Z$56)/($F$56-$G$56)*(100-(2*O$74*($T$4/$X$4)+2*$L76*($V$4/$X$4)))+$Y$56-($Y$56-$Z$56)/($F$56-$G$56)*$F$56,($Z$56)/($G$56-$H$56)*(100-(2*O$74*($T$4/$X$4)+2*$L76*($V$4/$X$4)))+$Z$56-($Z$56)/($G$56-$H$56)*$G$56)),-1) -> 94.2 | P76: =MAX(IF((100-(2*P$74*($T$4/$X$4)+2*$L76*($V$4/$X$4)))>=$F$56,($X$56-$Y$56)/(100-$F$56)*(100-(2*P$74*($T$4/$X$4)+2*$L76*($V$4/$X$4)))+$X$56-($X$56-$Y$56)/(100-$F$56)*100,IF((100-(2*P$74*($T$4/$X$4)+2*$L76*($V$4/$X$4)))>=$G$56,($Y$56-$Z$56)/($F$56-$G$56)*(100-(2*P$74*($T$4/$X$4)+2*$L76*($V$4/$X$4)))+$Y$56-($Y$56-$Z$56)/($F$56-$G$56)*$F$56,($Z$56)/($G$56-$H$56)*(100-(2*P$74*($T$4/$X$4)+2*$L76*($V$4/$X$4)))+$Z$56-($Z$56)/($G$56-$H$56)*$G$56)),-1) -> 92.2 | Q76: =MAX(IF((100-(2*Q$74*($T$4/$X$4)+2*$L76*($V$4/$X$4)))>=$F$56,($X$56-$Y$56)/(100-$F$56)*(100-(2*Q$74*($T$4/$X$4)+2*$L76*($V$4/$X$4)))+$X$56-($X$56-$Y$56)/(100-$F$56)*100,IF((100-(2*Q$74*($T$4/$X$4)+2*$L76*($V$4/$X$4)))>=$G$56,($Y$56-$Z$56)/($F$56-$G$56)*(100-(2*Q$74*($T$4/$X$4)+2*$L76*($V$4/$X$4)))+$Y$56-($Y$56-$Z$56)/($F$56-$G$56)*$F$56,($Z$56)/($G$56-$H$56)*(100-(2*Q$74*($T$4/$X$4)+2*$L76*($V$4/$X$4)))+$Z$56-($Z$56)/($G$56-$H$56)*$G$56)),-1) -> 90.2 | R76: =MAX(IF((100-(2*R$74*($T$4/$X$4)+2*$L76*($V$4/$X$4)))>=$F$56,($X$56-$Y$56)/(100-$F$56)*(100-(2*R$74*($T$4/$X$4)+2*$L76*($V$4/$X$4)))+$X$56-($X$56-$Y$56)/(100-$F$56)*100,IF((100-(2*R$74*($T$4/$X$4)+2*$L76*($V$4/$X$4)))>=$G$56,($Y$56-$Z$56)/($F$56-$G$56)*(100-(2*R$74*($T$4/$X$4)+2*$L76*($V$4/$X$4)))+$Y$56-($Y$56-$Z$56)/($F$56-$G$56)*$F$56,($Z$56)/($G$56-$H$56)*(100-(2*R$74*($T$4/$X$4)+2*$L76*($V$4/$X$4)))+$Z$56-($Z$56)/($G$56-$H$56)*$G$56)),-1) -> 85.95 | S76: =MAX(IF((100-(2*S$74*($T$4/$X$4)+2*$L76*($V$4/$X$4)))>=$F$56,($X$56-$Y$56)/(100-$F$56)*(100-(2*S$74*($T$4/$X$4)+2*$L76*($V$4/$X$4)))+$X$56-($X$56-$Y$56)/(100-$F$56)*100,IF((100-(2*S$74*($T$4/$X$4)+2*$L76*($V$4/$X$4)))>=$G$56,($Y$56-$Z$56)/($F$56-$G$56)*(100-(2*S$74*($T$4/$X$4)+2*$L76*($V$4/$X$4)))+$Y$56-($Y$56-$Z$56)/($F$56-$G$56)*$F$56,($Z$56)/($G$56-$H$56)*(100-(2*S$74*($T$4/$X$4)+2*$L76*($V$4/$X$4)))+$Z$56-($Z$56)/($G$56-$H$56)*$G$56)),-1) -> 81.45 | T76: =MAX(IF((100-(2*T$74*($T$4/$X$4)+2*$L76*($V$4/$X$4)))>=$F$56,($X$56-$Y$56)/(100-$F$56)*(100-(2*T$74*($T$4/$X$4)+2*$L76*($V$4/$X$4)))+$X$56-($X$56-$Y$56)/(100-$F$56)*100,IF((100-(2*T$74*($T$4/$X$4)+2*$L76*($V$4/$X$4)))>=$G$56,($Y$56-$Z$56)/($F$56-$G$56)*(100-(2*T$74*($T$4/$X$4)+2*$L76*($V$4/$X$4)))+$Y$56-($Y$56-$Z$56)/($F$56-$G$56)*$F$56,($Z$56)/($G$56-$H$56)*(100-(2*T$74*($T$4/$X$4)+2*$L76*($V$4/$X$4)))+$Z$56-($Z$56)/($G$56-$H$56)*$G$56)),-1) -> 76.95 | ... AH76: =MAX(IF((100-(2*AH$74*($T$4/$X$4)+2*$L76*($V$4/$X$4)))>=$F$56,($X$56-$Y$56)/(100-$F$56)*(100-(2*AH$74*($T$4/$X$4)+2*$L76*($V$4/$X$4)))+$X$56-($X$56-$Y$56)/(100-$F$56)*100,IF((100-(2*AH$74*($T$4/$X$4)+2*$L76*($V$4/$X$4)))>=$G$56,($Y$56-$Z$56)/($F$56-$G$56)*(100-(2*AH$74*($T$4/$X$4)+2*$L76*($V$4/$X$4)))+$Y$56-($Y$56-$Z$56)/($F$56-$G$56)*$F$56,($Z$56)/($G$56-$H$56)*(100-(2*AH$74*($T$4/$X$4)+2*$L76*($V$4/$X$4)))+$Z$56-($Z$56)/($G$56-$H$56)*$G$56)),-1) -> -1
A77: TP is the target value of the parameter P | L77: 2 | M77: =MAX(IF((100-(2*M$74*($T$4/$X$4)+2*$L77*($V$4/$X$4)))>=$F$56,($X$56-$Y$56)/(100-$F$56)*(100-(2*M$74*($T$4/$X$4)+2*$L77*($V$4/$X$4)))+$X$56-($X$56-$Y$56)/(100-$F$56)*100,IF((100-(2*M$74*($T$4/$X$4)+2*$L77*($V$4/$X$4)))>=$G$56,($Y$56-$Z$56)/($F$56-$G$56)*(100-(2*M$74*($T$4/$X$4)+2*$L77*($V$4/$X$4)))+$Y$56-($Y$56-$Z$56)/($F$56-$G$56)*$F$56,($Z$56)/($G$56-$H$56)*(100-(2*M$74*($T$4/$X$4)+2*$L77*($V$4/$X$4)))+$Z$56-($Z$56)/($G$56-$H$56)*$G$56)),-1) -> 96.4 | N77: =MAX(IF((100-(2*N$74*($T$4/$X$4)+2*$L77*($V$4/$X$4)))>=$F$56,($X$56-$Y$56)/(100-$F$56)*(100-(2*N$74*($T$4/$X$4)+2*$L77*($V$4/$X$4)))+$X$56-($X$56-$Y$56)/(100-$F$56)*100,IF((100-(2*N$74*($T$4/$X$4)+2*$L77*($V$4/$X$4)))>=$G$56,($Y$56-$Z$56)/($F$56-$G$56)*(100-(2*N$74*($T$4/$X$4)+2*$L77*($V$4/$X$4)))+$Y$56-($Y$56-$Z$56)/($F$56-$G$56)*$F$56,($Z$56)/($G$56-$H$56)*(100-(2*N$74*($T$4/$X$4)+2*$L77*($V$4/$X$4)))+$Z$56-($Z$56)/($G$56-$H$56)*$G$56)),-1) -> 94.4 | O77: =MAX(IF((100-(2*O$74*($T$4/$X$4)+2*$L77*($V$4/$X$4)))>=$F$56,($X$56-$Y$56)/(100-$F$56)*(100-(2*O$74*($T$4/$X$4)+2*$L77*($V$4/$X$4)))+$X$56-($X$56-$Y$56)/(100-$F$56)*100,IF((100-(2*O$74*($T$4/$X$4)+2*$L77*($V$4/$X$4)))>=$G$56,($Y$56-$Z$56)/($F$56-$G$56)*(100-(2*O$74*($T$4/$X$4)+2*$L77*($V$4/$X$4)))+$Y$56-($Y$56-$Z$56)/($F$56-$G$56)*$F$56,($Z$56)/($G$56-$H$56)*(100-(2*O$74*($T$4/$X$4)+2*$L77*($V$4/$X$4)))+$Z$56-($Z$56)/($G$56-$H$56)*$G$56)),-1) -> 92.4 | P77: =MAX(IF((100-(2*P$74*($T$4/$X$4)+2*$L77*($V$4/$X$4)))>=$F$56,($X$56-$Y$56)/(100-$F$56)*(100-(2*P$74*($T$4/$X$4)+2*$L77*($V$4/$X$4)))+$X$56-($X$56-$Y$56)/(100-$F$56)*100,IF((100-(2*P$74*($T$4/$X$4)+2*$L77*($V$4/$X$4)))>=$G$56,($Y$56-$Z$56)/($F$56-$G$56)*(100-(2*P$74*($T$4/$X$4)+2*$L77*($V$4/$X$4)))+$Y$56-($Y$56-$Z$56)/($F$56-$G$56)*$F$56,($Z$56)/($G$56-$H$56)*(100-(2*P$74*($T$4/$X$4)+2*$L77*($V$4/$X$4)))+$Z$56-($Z$56)/($G$56-$H$56)*$G$56)),-1) -> 90.4 | Q77: =MAX(IF((100-(2*Q$74*($T$4/$X$4)+2*$L77*($V$4/$X$4)))>=$F$56,($X$56-$Y$56)/(100-$F$56)*(100-(2*Q$74*($T$4/$X$4)+2*$L77*($V$4/$X$4)))+$X$56-($X$56-$Y$56)/(100-$F$56)*100,IF((100-(2*Q$74*($T$4/$X$4)+2*$L77*($V$4/$X$4)))>=$G$56,($Y$56-$Z$56)/($F$56-$G$56)*(100-(2*Q$74*($T$4/$X$4)+2*$L77*($V$4/$X$4)))+$Y$56-($Y$56-$Z$56)/($F$56-$G$56)*$F$56,($Z$56)/($G$56-$H$56)*(100-(2*Q$74*($T$4/$X$4)+2*$L77*($V$4/$X$4)))+$Z$56-($Z$56)/($G$56-$H$56)*$G$56)),-1) -> 86.4 | R77: =MAX(IF((100-(2*R$74*($T$4/$X$4)+2*$L77*($V$4/$X$4)))>=$F$56,($X$56-$Y$56)/(100-$F$56)*(100-(2*R$74*($T$4/$X$4)+2*$L77*($V$4/$X$4)))+$X$56-($X$56-$Y$56)/(100-$F$56)*100,IF((100-(2*R$74*($T$4/$X$4)+2*$L77*($V$4/$X$4)))>=$G$56,($Y$56-$Z$56)/($F$56-$G$56)*(100-(2*R$74*($T$4/$X$4)+2*$L77*($V$4/$X$4)))+$Y$56-($Y$56-$Z$56)/($F$56-$G$56)*$F$56,($Z$56)/($G$56-$H$56)*(100-(2*R$74*($T$4/$X$4)+2*$L77*($V$4/$X$4)))+$Z$56-($Z$56)/($G$56-$H$56)*$G$56)),-1) -> 81.9 | S77: =MAX(IF((100-(2*S$74*($T$4/$X$4)+2*$L77*($V$4/$X$4)))>=$F$56,($X$56-$Y$56)/(100-$F$56)*(100-(2*S$74*($T$4/$X$4)+2*$L77*($V$4/$X$4)))+$X$56-($X$56-$Y$56)/(100-$F$56)*100,IF((100-(2*S$74*($T$4/$X$4)+2*$L77*($V$4/$X$4)))>=$G$56,($Y$56-$Z$56)/($F$56-$G$56)*(100-(2*S$74*($T$4/$X$4)+2*$L77*($V$4/$X$4)))+$Y$56-($Y$56-$Z$56)/($F$56-$G$56)*$F$56,($Z$56)/($G$56-$H$56)*(100-(2*S$74*($T$4/$X$4)+2*$L77*($V$4/$X$4)))+$Z$56-($Z$56)/($G$56-$H$56)*$G$56)),-1) -> 77.4 | T77: =MAX(IF((100-(2*T$74*($T$4/$X$4)+2*$L77*($V$4/$X$4)))>=$F$56,($X$56-$Y$56)/(100-$F$56)*(100-(2*T$74*($T$4/$X$4)+2*$L77*($V$4/$X$4)))+$X$56-($X$56-$Y$56)/(100-$F$56)*100,IF((100-(2*T$74*($T$4/$X$4)+2*$L77*($V$4/$X$4)))>=$G$56,($Y$56-$Z$56)/($F$56-$G$56)*(100-(2*T$74*($T$4/$X$4)+2*$L77*($V$4/$X$4)))+$Y$56-($Y$56-$Z$56)/($F$56-$G$56)*$F$56,($Z$56)/($G$56-$H$56)*(100-(2*T$74*($T$4/$X$4)+2*$L77*($V$4/$X$4)))+$Z$56-($Z$56)/($G$56-$H$56)*$G$56)),-1) -> 72.9 | ... AH77: =MAX(IF((100-(2*AH$74*($T$4/$X$4)+2*$L77*($V$4/$X$4)))>=$F$56,($X$56-$Y$56)/(100-$F$56)*(100-(2*AH$74*($T$4/$X$4)+2*$L77*($V$4/$X$4)))+$X$56-($X$56-$Y$56)/(100-$F$56)*100,IF((100-(2*AH$74*($T$4/$X$4)+2*$L77*($V$4/$X$4)))>=$G$56,($Y$56-$Z$56)/($F$56-$G$56)*(100-(2*AH$74*($T$4/$X$4)+2*$L77*($V$4/$X$4)))+$Y$56-($Y$56-$Z$56)/($F$56-$G$56)*$F$56,($Z$56)/($G$56-$H$56)*(100-(2*AH$74*($T$4/$X$4)+2*$L77*($V$4/$X$4)))+$Z$56-($Z$56)/($G$56-$H$56)*$G$56)),-1) -> -1
A78: MSP is the maximum score of the parameter P | L78: 3 | M78: =MAX(IF((100-(2*M$74*($T$4/$X$4)+2*$L78*($V$4/$X$4)))>=$F$56,($X$56-$Y$56)/(100-$F$56)*(100-(2*M$74*($T$4/$X$4)+2*$L78*($V$4/$X$4)))+$X$56-($X$56-$Y$56)/(100-$F$56)*100,IF((100-(2*M$74*($T$4/$X$4)+2*$L78*($V$4/$X$4)))>=$G$56,($Y$56-$Z$56)/($F$56-$G$56)*(100-(2*M$74*($T$4/$X$4)+2*$L78*($V$4/$X$4)))+$Y$56-($Y$56-$Z$56)/($F$56-$G$56)*$F$56,($Z$56)/($G$56-$H$56)*(100-(2*M$74*($T$4/$X$4)+2*$L78*($V$4/$X$4)))+$Z$56-($Z$56)/($G$56-$H$56)*$G$56)),-1) -> 94.6 | N78: =MAX(IF((100-(2*N$74*($T$4/$X$4)+2*$L78*($V$4/$X$4)))>=$F$56,($X$56-$Y$56)/(100-$F$56)*(100-(2*N$74*($T$4/$X$4)+2*$L78*($V$4/$X$4)))+$X$56-($X$56-$Y$56)/(100-$F$56)*100,IF((100-(2*N$74*($T$4/$X$4)+2*$L78*($V$4/$X$4)))>=$G$56,($Y$56-$Z$56)/($F$56-$G$56)*(100-(2*N$74*($T$4/$X$4)+2*$L78*($V$4/$X$4)))+$Y$56-($Y$56-$Z$56)/($F$56-$G$56)*$F$56,($Z$56)/($G$56-$H$56)*(100-(2*N$74*($T$4/$X$4)+2*$L78*($V$4/$X$4)))+$Z$56-($Z$56)/($G$56-$H$56)*$G$56)),-1) -> 92.6 | O78: =MAX(IF((100-(2*O$74*($T$4/$X$4)+2*$L78*($V$4/$X$4)))>=$F$56,($X$56-$Y$56)/(100-$F$56)*(100-(2*O$74*($T$4/$X$4)+2*$L78*($V$4/$X$4)))+$X$56-($X$56-$Y$56)/(100-$F$56)*100,IF((100-(2*O$74*($T$4/$X$4)+2*$L78*($V$4/$X$4)))>=$G$56,($Y$56-$Z$56)/($F$56-$G$56)*(100-(2*O$74*($T$4/$X$4)+2*$L78*($V$4/$X$4)))+$Y$56-($Y$56-$Z$56)/($F$56-$G$56)*$F$56,($Z$56)/($G$56-$H$56)*(100-(2*O$74*($T$4/$X$4)+2*$L78*($V$4/$X$4)))+$Z$56-($Z$56)/($G$56-$H$56)*$G$56)),-1) -> 90.6 | P78: =MAX(IF((100-(2*P$74*($T$4/$X$4)+2*$L78*($V$4/$X$4)))>=$F$56,($X$56-$Y$56)/(100-$F$56)*(100-(2*P$74*($T$4/$X$4)+2*$L78*($V$4/$X$4)))+$X$56-($X$56-$Y$56)/(100-$F$56)*100,IF((100-(2*P$74*($T$4/$X$4)+2*$L78*($V$4/$X$4)))>=$G$56,($Y$56-$Z$56)/($F$56-$G$56)*(100-(2*P$74*($T$4/$X$4)+2*$L78*($V$4/$X$4)))+$Y$56-($Y$56-$Z$56)/($F$56-$G$56)*$F$56,($Z$56)/($G$56-$H$56)*(100-(2*P$74*($T$4/$X$4)+2*$L78*($V$4/$X$4)))+$Z$56-($Z$56)/($G$56-$H$56)*$G$56)),-1) -> 86.85 | Q78: =MAX(IF((100-(2*Q$74*($T$4/$X$4)+2*$L78*($V$4/$X$4)))>=$F$56,($X$56-$Y$56)/(100-$F$56)*(100-(2*Q$74*($T$4/$X$4)+2*$L78*($V$4/$X$4)))+$X$56-($X$56-$Y$56)/(100-$F$56)*100,IF((100-(2*Q$74*($T$4/$X$4)+2*$L78*($V$4/$X$4)))>=$G$56,($Y$56-$Z$56)/($F$56-$G$56)*(100-(2*Q$74*($T$4/$X$4)+2*$L78*($V$4/$X$4)))+$Y$56-($Y$56-$Z$56)/($F$56-$G$56)*$F$56,($Z$56)/($G$56-$H$56)*(100-(2*Q$74*($T$4/$X$4)+2*$L78*($V$4/$X$4)))+$Z$56-($Z$56)/($G$56-$H$56)*$G$56)),-1) -> 82.35 | R78: =MAX(IF((100-(2*R$74*($T$4/$X$4)+2*$L78*($V$4/$X$4)))>=$F$56,($X$56-$Y$56)/(100-$F$56)*(100-(2*R$74*($T$4/$X$4)+2*$L78*($V$4/$X$4)))+$X$56-($X$56-$Y$56)/(100-$F$56)*100,IF((100-(2*R$74*($T$4/$X$4)+2*$L78*($V$4/$X$4)))>=$G$56,($Y$56-$Z$56)/($F$56-$G$56)*(100-(2*R$74*($T$4/$X$4)+2*$L78*($V$4/$X$4)))+$Y$56-($Y$56-$Z$56)/($F$56-$G$56)*$F$56,($Z$56)/($G$56-$H$56)*(100-(2*R$74*($T$4/$X$4)+2*$L78*($V$4/$X$4)))+$Z$56-($Z$56)/($G$56-$H$56)*$G$56)),-1) -> 77.85 | S78: =MAX(IF((100-(2*S$74*($T$4/$X$4)+2*$L78*($V$4/$X$4)))>=$F$56,($X$56-$Y$56)/(100-$F$56)*(100-(2*S$74*($T$4/$X$4)+2*$L78*($V$4/$X$4)))+$X$56-($X$56-$Y$56)/(100-$F$56)*100,IF((100-(2*S$74*($T$4/$X$4)+2*$L78*($V$4/$X$4)))>=$G$56,($Y$56-$Z$56)/($F$56-$G$56)*(100-(2*S$74*($T$4/$X$4)+2*$L78*($V$4/$X$4)))+$Y$56-($Y$56-$Z$56)/($F$56-$G$56)*$F$56,($Z$56)/($G$56-$H$56)*(100-(2*S$74*($T$4/$X$4)+2*$L78*($V$4/$X$4)))+$Z$56-($Z$56)/($G$56-$H$56)*$G$56)),-1) -> 73.35 | T78: =MAX(IF((100-(2*T$74*($T$4/$X$4)+2*$L78*($V$4/$X$4)))>=$F$56,($X$56-$Y$56)/(100-$F$56)*(100-(2*T$74*($T$4/$X$4)+2*$L78*($V$4/$X$4)))+$X$56-($X$56-$Y$56)/(100-$F$56)*100,IF((100-(2*T$74*($T$4/$X$4)+2*$L78*($V$4/$X$4)))>=$G$56,($Y$56-$Z$56)/($F$56-$G$56)*(100-(2*T$74*($T$4/$X$4)+2*$L78*($V$4/$X$4)))+$Y$56-($Y$56-$Z$56)/($F$56-$G$56)*$F$56,($Z$56)/($G$56-$H$56)*(100-(2*T$74*($T$4/$X$4)+2*$L78*($V$4/$X$4)))+$Z$56-($Z$56)/($G$56-$H$56)*$G$56)),-1) -> 68.85 | ... AH78: =MAX(IF((100-(2*AH$74*($T$4/$X$4)+2*$L78*($V$4/$X$4)))>=$F$56,($X$56-$Y$56)/(100-$F$56)*(100-(2*AH$74*($T$4/$X$4)+2*$L78*($V$4/$X$4)))+$X$56-($X$56-$Y$56)/(100-$F$56)*100,IF((100-(2*AH$74*($T$4/$X$4)+2*$L78*($V$4/$X$4)))>=$G$56,($Y$56-$Z$56)/($F$56-$G$56)*(100-(2*AH$74*($T$4/$X$4)+2*$L78*($V$4/$X$4)))+$Y$56-($Y$56-$Z$56)/($F$56-$G$56)*$F$56,($Z$56)/($G$56-$H$56)*(100-(2*AH$74*($T$4/$X$4)+2*$L78*($V$4/$X$4)))+$Z$56-($Z$56)/($G$56-$H$56)*$G$56)),-1) -> -1
L79: 4 | M79: =MAX(IF((100-(2*M$74*($T$4/$X$4)+2*$L79*($V$4/$X$4)))>=$F$56,($X$56-$Y$56)/(100-$F$56)*(100-(2*M$74*($T$4/$X$4)+2*$L79*($V$4/$X$4)))+$X$56-($X$56-$Y$56)/(100-$F$56)*100,IF((100-(2*M$74*($T$4/$X$4)+2*$L79*($V$4/$X$4)))>=$G$56,($Y$56-$Z$56)/($F$56-$G$56)*(100-(2*M$74*($T$4/$X$4)+2*$L79*($V$4/$X$4)))+$Y$56-($Y$56-$Z$56)/($F$56-$G$56)*$F$56,($Z$56)/($G$56-$H$56)*(100-(2*M$74*($T$4/$X$4)+2*$L79*($V$4/$X$4)))+$Z$56-($Z$56)/($G$56-$H$56)*$G$56)),-1) -> 92.8 | N79: =MAX(IF((100-(2*N$74*($T$4/$X$4)+2*$L79*($V$4/$X$4)))>=$F$56,($X$56-$Y$56)/(100-$F$56)*(100-(2*N$74*($T$4/$X$4)+2*$L79*($V$4/$X$4)))+$X$56-($X$56-$Y$56)/(100-$F$56)*100,IF((100-(2*N$74*($T$4/$X$4)+2*$L79*($V$4/$X$4)))>=$G$56,($Y$56-$Z$56)/($F$56-$G$56)*(100-(2*N$74*($T$4/$X$4)+2*$L79*($V$4/$X$4)))+$Y$56-($Y$56-$Z$56)/($F$56-$G$56)*$F$56,($Z$56)/($G$56-$H$56)*(100-(2*N$74*($T$4/$X$4)+2*$L79*($V$4/$X$4)))+$Z$56-($Z$56)/($G$56-$H$56)*$G$56)),-1) -> 90.8 | O79: =MAX(IF((100-(2*O$74*($T$4/$X$4)+2*$L79*($V$4/$X$4)))>=$F$56,($X$56-$Y$56)/(100-$F$56)*(100-(2*O$74*($T$4/$X$4)+2*$L79*($V$4/$X$4)))+$X$56-($X$56-$Y$56)/(100-$F$56)*100,IF((100-(2*O$74*($T$4/$X$4)+2*$L79*($V$4/$X$4)))>=$G$56,($Y$56-$Z$56)/($F$56-$G$56)*(100-(2*O$74*($T$4/$X$4)+2*$L79*($V$4/$X$4)))+$Y$56-($Y$56-$Z$56)/($F$56-$G$56)*$F$56,($Z$56)/($G$56-$H$56)*(100-(2*O$74*($T$4/$X$4)+2*$L79*($V$4/$X$4)))+$Z$56-($Z$56)/($G$56-$H$56)*$G$56)),-1) -> 87.3 | P79: =MAX(IF((100-(2*P$74*($T$4/$X$4)+2*$L79*($V$4/$X$4)))>=$F$56,($X$56-$Y$56)/(100-$F$56)*(100-(2*P$74*($T$4/$X$4)+2*$L79*($V$4/$X$4)))+$X$56-($X$56-$Y$56)/(100-$F$56)*100,IF((100-(2*P$74*($T$4/$X$4)+2*$L79*($V$4/$X$4)))>=$G$56,($Y$56-$Z$56)/($F$56-$G$56)*(100-(2*P$74*($T$4/$X$4)+2*$L79*($V$4/$X$4)))+$Y$56-($Y$56-$Z$56)/($F$56-$G$56)*$F$56,($Z$56)/($G$56-$H$56)*(100-(2*P$74*($T$4/$X$4)+2*$L79*($V$4/$X$4)))+$Z$56-($Z$56)/($G$56-$H$56)*$G$56)),-1) -> 82.8 | Q79: =MAX(IF((100-(2*Q$74*($T$4/$X$4)+2*$L79*($V$4/$X$4)))>=$F$56,($X$56-$Y$56)/(100-$F$56)*(100-(2*Q$74*($T$4/$X$4)+2*$L79*($V$4/$X$4)))+$X$56-($X$56-$Y$56)/(100-$F$56)*100,IF((100-(2*Q$74*($T$4/$X$4)+2*$L79*($V$4/$X$4)))>=$G$56,($Y$56-$Z$56)/($F$56-$G$56)*(100-(2*Q$74*($T$4/$X$4)+2*$L79*($V$4/$X$4)))+$Y$56-($Y$56-$Z$56)/($F$56-$G$56)*$F$56,($Z$56)/($G$56-$H$56)*(100-(2*Q$74*($T$4/$X$4)+2*$L79*($V$4/$X$4)))+$Z$56-($Z$56)/($G$56-$H$56)*$G$56)),-1) -> 78.3 | R79: =MAX(IF((100-(2*R$74*($T$4/$X$4)+2*$L79*($V$4/$X$4)))>=$F$56,($X$56-$Y$56)/(100-$F$56)*(100-(2*R$74*($T$4/$X$4)+2*$L79*($V$4/$X$4)))+$X$56-($X$56-$Y$56)/(100-$F$56)*100,IF((100-(2*R$74*($T$4/$X$4)+2*$L79*($V$4/$X$4)))>=$G$56,($Y$56-$Z$56)/($F$56-$G$56)*(100-(2*R$74*($T$4/$X$4)+2*$L79*($V$4/$X$4)))+$Y$56-($Y$56-$Z$56)/($F$56-$G$56)*$F$56,($Z$56)/($G$56-$H$56)*(100-(2*R$74*($T$4/$X$4)+2*$L79*($V$4/$X$4)))+$Z$56-($Z$56)/($G$56-$H$56)*$G$56)),-1) -> 73.8 | S79: =MAX(IF((100-(2*S$74*($T$4/$X$4)+2*$L79*($V$4/$X$4)))>=$F$56,($X$56-$Y$56)/(100-$F$56)*(100-(2*S$74*($T$4/$X$4)+2*$L79*($V$4/$X$4)))+$X$56-($X$56-$Y$56)/(100-$F$56)*100,IF((100-(2*S$74*($T$4/$X$4)+2*$L79*($V$4/$X$4)))>=$G$56,($Y$56-$Z$56)/($F$56-$G$56)*(100-(2*S$74*($T$4/$X$4)+2*$L79*($V$4/$X$4)))+$Y$56-($Y$56-$Z$56)/($F$56-$G$56)*$F$56,($Z$56)/($G$56-$H$56)*(100-(2*S$74*($T$4/$X$4)+2*$L79*($V$4/$X$4)))+$Z$56-($Z$56)/($G$56-$H$56)*$G$56)),-1) -> 69.3 | T79: =MAX(IF((100-(2*T$74*($T$4/$X$4)+2*$L79*($V$4/$X$4)))>=$F$56,($X$56-$Y$56)/(100-$F$56)*(100-(2*T$74*($T$4/$X$4)+2*$L79*($V$4/$X$4)))+$X$56-($X$56-$Y$56)/(100-$F$56)*100,IF((100-(2*T$74*($T$4/$X$4)+2*$L79*($V$4/$X$4)))>=$G$56,($Y$56-$Z$56)/($F$56-$G$56)*(100-(2*T$74*($T$4/$X$4)+2*$L79*($V$4/$X$4)))+$Y$56-($Y$56-$Z$56)/($F$56-$G$56)*$F$56,($Z$56)/($G$56-$H$56)*(100-(2*T$74*($T$4/$X$4)+2*$L79*($V$4/$X$4)))+$Z$56-($Z$56)/($G$56-$H$56)*$G$56)),-1) -> 64.8 | ... AH79: =MAX(IF((100-(2*AH$74*($T$4/$X$4)+2*$L79*($V$4/$X$4)))>=$F$56,($X$56-$Y$56)/(100-$F$56)*(100-(2*AH$74*($T$4/$X$4)+2*$L79*($V$4/$X$4)))+$X$56-($X$56-$Y$56)/(100-$F$56)*100,IF((100-(2*AH$74*($T$4/$X$4)+2*$L79*($V$4/$X$4)))>=$G$56,($Y$56-$Z$56)/($F$56-$G$56)*(100-(2*AH$74*($T$4/$X$4)+2*$L79*($V$4/$X$4)))+$Y$56-($Y$56-$Z$56)/($F$56-$G$56)*$F$56,($Z$56)/($G$56-$H$56)*(100-(2*AH$74*($T$4/$X$4)+2*$L79*($V$4/$X$4)))+$Z$56-($Z$56)/($G$56-$H$56)*$G$56)),-1) -> -1
L80: 5 | M80: =MAX(IF((100-(2*M$74*($T$4/$X$4)+2*$L80*($V$4/$X$4)))>=$F$56,($X$56-$Y$56)/(100-$F$56)*(100-(2*M$74*($T$4/$X$4)+2*$L80*($V$4/$X$4)))+$X$56-($X$56-$Y$56)/(100-$F$56)*100,IF((100-(2*M$74*($T$4/$X$4)+2*$L80*($V$4/$X$4)))>=$G$56,($Y$56-$Z$56)/($F$56-$G$56)*(100-(2*M$74*($T$4/$X$4)+2*$L80*($V$4/$X$4)))+$Y$56-($Y$56-$Z$56)/($F$56-$G$56)*$F$56,($Z$56)/($G$56-$H$56)*(100-(2*M$74*($T$4/$X$4)+2*$L80*($V$4/$X$4)))+$Z$56-($Z$56)/($G$56-$H$56)*$G$56)),-1) -> 91 | N80: =MAX(IF((100-(2*N$74*($T$4/$X$4)+2*$L80*($V$4/$X$4)))>=$F$56,($X$56-$Y$56)/(100-$F$56)*(100-(2*N$74*($T$4/$X$4)+2*$L80*($V$4/$X$4)))+$X$56-($X$56-$Y$56)/(100-$F$56)*100,IF((100-(2*N$74*($T$4/$X$4)+2*$L80*($V$4/$X$4)))>=$G$56,($Y$56-$Z$56)/($F$56-$G$56)*(100-(2*N$74*($T$4/$X$4)+2*$L80*($V$4/$X$4)))+$Y$56-($Y$56-$Z$56)/($F$56-$G$56)*$F$56,($Z$56)/($G$56-$H$56)*(100-(2*N$74*($T$4/$X$4)+2*$L80*($V$4/$X$4)))+$Z$56-($Z$56)/($G$56-$H$56)*$G$56)),-1) -> 87.75 | O80: =MAX(IF((100-(2*O$74*($T$4/$X$4)+2*$L80*($V$4/$X$4)))>=$F$56,($X$56-$Y$56)/(100-$F$56)*(100-(2*O$74*($T$4/$X$4)+2*$L80*($V$4/$X$4)))+$X$56-($X$56-$Y$56)/(100-$F$56)*100,IF((100-(2*O$74*($T$4/$X$4)+2*$L80*($V$4/$X$4)))>=$G$56,($Y$56-$Z$56)/($F$56-$G$56)*(100-(2*O$74*($T$4/$X$4)+2*$L80*($V$4/$X$4)))+$Y$56-($Y$56-$Z$56)/($F$56-$G$56)*$F$56,($Z$56)/($G$56-$H$56)*(100-(2*O$74*($T$4/$X$4)+2*$L80*($V$4/$X$4)))+$Z$56-($Z$56)/($G$56-$H$56)*$G$56)),-1) -> 83.25 | P80: =MAX(IF((100-(2*P$74*($T$4/$X$4)+2*$L80*($V$4/$X$4)))>=$F$56,($X$56-$Y$56)/(100-$F$56)*(100-(2*P$74*($T$4/$X$4)+2*$L80*($V$4/$X$4)))+$X$56-($X$56-$Y$56)/(100-$F$56)*100,IF((100-(2*P$74*($T$4/$X$4)+2*$L80*($V$4/$X$4)))>=$G$56,($Y$56-$Z$56)/($F$56-$G$56)*(100-(2*P$74*($T$4/$X$4)+2*$L80*($V$4/$X$4)))+$Y$56-($Y$56-$Z$56)/($F$56-$G$56)*$F$56,($Z$56)/($G$56-$H$56)*(100-(2*P$74*($T$4/$X$4)+2*$L80*($V$4/$X$4)))+$Z$56-($Z$56)/($G$56-$H$56)*$G$56)),-1) -> 78.75 | Q80: =MAX(IF((100-(2*Q$74*($T$4/$X$4)+2*$L80*($V$4/$X$4)))>=$F$56,($X$56-$Y$56)/(100-$F$56)*(100-(2*Q$74*($T$4/$X$4)+2*$L80*($V$4/$X$4)))+$X$56-($X$56-$Y$56)/(100-$F$56)*100,IF((100-(2*Q$74*($T$4/$X$4)+2*$L80*($V$4/$X$4)))>=$G$56,($Y$56-$Z$56)/($F$56-$G$56)*(100-(2*Q$74*($T$4/$X$4)+2*$L80*($V$4/$X$4)))+$Y$56-($Y$56-$Z$56)/($F$56-$G$56)*$F$56,($Z$56)/($G$56-$H$56)*(100-(2*Q$74*($T$4/$X$4)+2*$L80*($V$4/$X$4)))+$Z$56-($Z$56)/($G$56-$H$56)*$G$56)),-1) -> 74.25 | R80: =MAX(IF((100-(2*R$74*($T$4/$X$4)+2*$L80*($V$4/$X$4)))>=$F$56,($X$56-$Y$56)/(100-$F$56)*(100-(2*R$74*($T$4/$X$4)+2*$L80*($V$4/$X$4)))+$X$56-($X$56-$Y$56)/(100-$F$56)*100,IF((100-(2*R$74*($T$4/$X$4)+2*$L80*($V$4/$X$4)))>=$G$56,($Y$56-$Z$56)/($F$56-$G$56)*(100-(2*R$74*($T$4/$X$4)+2*$L80*($V$4/$X$4)))+$Y$56-($Y$56-$Z$56)/($F$56-$G$56)*$F$56,($Z$56)/($G$56-$H$56)*(100-(2*R$74*($T$4/$X$4)+2*$L80*($V$4/$X$4)))+$Z$56-($Z$56)/($G$56-$H$56)*$G$56)),-1) -> 69.75 | S80: =MAX(IF((100-(2*S$74*($T$4/$X$4)+2*$L80*($V$4/$X$4)))>=$F$56,($X$56-$Y$56)/(100-$F$56)*(100-(2*S$74*($T$4/$X$4)+2*$L80*($V$4/$X$4)))+$X$56-($X$56-$Y$56)/(100-$F$56)*100,IF((100-(2*S$74*($T$4/$X$4)+2*$L80*($V$4/$X$4)))>=$G$56,($Y$56-$Z$56)/($F$56-$G$56)*(100-(2*S$74*($T$4/$X$4)+2*$L80*($V$4/$X$4)))+$Y$56-($Y$56-$Z$56)/($F$56-$G$56)*$F$56,($Z$56)/($G$56-$H$56)*(100-(2*S$74*($T$4/$X$4)+2*$L80*($V$4/$X$4)))+$Z$56-($Z$56)/($G$56-$H$56)*$G$56)),-1) -> 65.25 | T80: =MAX(IF((100-(2*T$74*($T$4/$X$4)+2*$L80*($V$4/$X$4)))>=$F$56,($X$56-$Y$56)/(100-$F$56)*(100-(2*T$74*($T$4/$X$4)+2*$L80*($V$4/$X$4)))+$X$56-($X$56-$Y$56)/(100-$F$56)*100,IF((100-(2*T$74*($T$4/$X$4)+2*$L80*($V$4/$X$4)))>=$G$56,($Y$56-$Z$56)/($F$56-$G$56)*(100-(2*T$74*($T$4/$X$4)+2*$L80*($V$4/$X$4)))+$Y$56-($Y$56-$Z$56)/($F$56-$G$56)*$F$56,($Z$56)/($G$56-$H$56)*(100-(2*T$74*($T$4/$X$4)+2*$L80*($V$4/$X$4)))+$Z$56-($Z$56)/($G$56-$H$56)*$G$56)),-1) -> 60.75 | ... AH80: =MAX(IF((100-(2*AH$74*($T$4/$X$4)+2*$L80*($V$4/$X$4)))>=$F$56,($X$56-$Y$56)/(100-$F$56)*(100-(2*AH$74*($T$4/$X$4)+2*$L80*($V$4/$X$4)))+$X$56-($X$56-$Y$56)/(100-$F$56)*100,IF((100-(2*AH$74*($T$4/$X$4)+2*$L80*($V$4/$X$4)))>=$G$56,($Y$56-$Z$56)/($F$56-$G$56)*(100-(2*AH$74*($T$4/$X$4)+2*$L80*($V$4/$X$4)))+$Y$56-($Y$56-$Z$56)/($F$56-$G$56)*$F$56,($Z$56)/($G$56-$H$56)*(100-(2*AH$74*($T$4/$X$4)+2*$L80*($V$4/$X$4)))+$Z$56-($Z$56)/($G$56-$H$56)*$G$56)),-1) -> -1
L81: 6 | M81: =MAX(IF((100-(2*M$74*($T$4/$X$4)+2*$L81*($V$4/$X$4)))>=$F$56,($X$56-$Y$56)/(100-$F$56)*(100-(2*M$74*($T$4/$X$4)+2*$L81*($V$4/$X$4)))+$X$56-($X$56-$Y$56)/(100-$F$56)*100,IF((100-(2*M$74*($T$4/$X$4)+2*$L81*($V$4/$X$4)))>=$G$56,($Y$56-$Z$56)/($F$56-$G$56)*(100-(2*M$74*($T$4/$X$4)+2*$L81*($V$4/$X$4)))+$Y$56-($Y$56-$Z$56)/($F$56-$G$56)*$F$56,($Z$56)/($G$56-$H$56)*(100-(2*M$74*($T$4/$X$4)+2*$L81*($V$4/$X$4)))+$Z$56-($Z$56)/($G$56-$H$56)*$G$56)),-1) -> 88.2 | N81: =MAX(IF((100-(2*N$74*($T$4/$X$4)+2*$L81*($V$4/$X$4)))>=$F$56,($X$56-$Y$56)/(100-$F$56)*(100-(2*N$74*($T$4/$X$4)+2*$L81*($V$4/$X$4)))+$X$56-($X$56-$Y$56)/(100-$F$56)*100,IF((100-(2*N$74*($T$4/$X$4)+2*$L81*($V$4/$X$4)))>=$G$56,($Y$56-$Z$56)/($F$56-$G$56)*(100-(2*N$74*($T$4/$X$4)+2*$L81*($V$4/$X$4)))+$Y$56-($Y$56-$Z$56)/($F$56-$G$56)*$F$56,($Z$56)/($G$56-$H$56)*(100-(2*N$74*($T$4/$X$4)+2*$L81*($V$4/$X$4)))+$Z$56-($Z$56)/($G$56-$H$56)*$G$56)),-1) -> 83.7 | O81: =MAX(IF((100-(2*O$74*($T$4/$X$4)+2*$L81*($V$4/$X$4)))>=$F$56,($X$56-$Y$56)/(100-$F$56)*(100-(2*O$74*($T$4/$X$4)+2*$L81*($V$4/$X$4)))+$X$56-($X$56-$Y$56)/(100-$F$56)*100,IF((100-(2*O$74*($T$4/$X$4)+2*$L81*($V$4/$X$4)))>=$G$56,($Y$56-$Z$56)/($F$56-$G$56)*(100-(2*O$74*($T$4/$X$4)+2*$L81*($V$4/$X$4)))+$Y$56-($Y$56-$Z$56)/($F$56-$G$56)*$F$56,($Z$56)/($G$56-$H$56)*(100-(2*O$74*($T$4/$X$4)+2*$L81*($V$4/$X$4)))+$Z$56-($Z$56)/($G$56-$H$56)*$G$56)),-1) -> 79.2 | P81: =MAX(IF((100-(2*P$74*($T$4/$X$4)+2*$L81*($V$4/$X$4)))>=$F$56,($X$56-$Y$56)/(100-$F$56)*(100-(2*P$74*($T$4/$X$4)+2*$L81*($V$4/$X$4)))+$X$56-($X$56-$Y$56)/(100-$F$56)*100,IF((100-(2*P$74*($T$4/$X$4)+2*$L81*($V$4/$X$4)))>=$G$56,($Y$56-$Z$56)/($F$56-$G$56)*(100-(2*P$74*($T$4/$X$4)+2*$L81*($V$4/$X$4)))+$Y$56-($Y$56-$Z$56)/($F$56-$G$56)*$F$56,($Z$56)/($G$56-$H$56)*(100-(2*P$74*($T$4/$X$4)+2*$L81*($V$4/$X$4)))+$Z$56-($Z$56)/($G$56-$H$56)*$G$56)),-1) -> 74.7 | Q81: =MAX(IF((100-(2*Q$74*($T$4/$X$4)+2*$L81*($V$4/$X$4)))>=$F$56,($X$56-$Y$56)/(100-$F$56)*(100-(2*Q$74*($T$4/$X$4)+2*$L81*($V$4/$X$4)))+$X$56-($X$56-$Y$56)/(100-$F$56)*100,IF((100-(2*Q$74*($T$4/$X$4)+2*$L81*($V$4/$X$4)))>=$G$56,($Y$56-$Z$56)/($F$56-$G$56)*(100-(2*Q$74*($T$4/$X$4)+2*$L81*($V$4/$X$4)))+$Y$56-($Y$56-$Z$56)/($F$56-$G$56)*$F$56,($Z$56)/($G$56-$H$56)*(100-(2*Q$74*($T$4/$X$4)+2*$L81*($V$4/$X$4)))+$Z$56-($Z$56)/($G$56-$H$56)*$G$56)),-1) -> 70.2 | R81: =MAX(IF((100-(2*R$74*($T$4/$X$4)+2*$L81*($V$4/$X$4)))>=$F$56,($X$56-$Y$56)/(100-$F$56)*(100-(2*R$74*($T$4/$X$4)+2*$L81*($V$4/$X$4)))+$X$56-($X$56-$Y$56)/(100-$F$56)*100,IF((100-(2*R$74*($T$4/$X$4)+2*$L81*($V$4/$X$4)))>=$G$56,($Y$56-$Z$56)/($F$56-$G$56)*(100-(2*R$74*($T$4/$X$4)+2*$L81*($V$4/$X$4)))+$Y$56-($Y$56-$Z$56)/($F$56-$G$56)*$F$56,($Z$56)/($G$56-$H$56)*(100-(2*R$74*($T$4/$X$4)+2*$L81*($V$4/$X$4)))+$Z$56-($Z$56)/($G$56-$H$56)*$G$56)),-1) -> 65.7 | S81: =MAX(IF((100-(2*S$74*($T$4/$X$4)+2*$L81*($V$4/$X$4)))>=$F$56,($X$56-$Y$56)/(100-$F$56)*(100-(2*S$74*($T$4/$X$4)+2*$L81*($V$4/$X$4)))+$X$56-($X$56-$Y$56)/(100-$F$56)*100,IF((100-(2*S$74*($T$4/$X$4)+2*$L81*($V$4/$X$4)))>=$G$56,($Y$56-$Z$56)/($F$56-$G$56)*(100-(2*S$74*($T$4/$X$4)+2*$L81*($V$4/$X$4)))+$Y$56-($Y$56-$Z$56)/($F$56-$G$56)*$F$56,($Z$56)/($G$56-$H$56)*(100-(2*S$74*($T$4/$X$4)+2*$L81*($V$4/$X$4)))+$Z$56-($Z$56)/($G$56-$H$56)*$G$56)),-1) -> 61.2 | T81: =MAX(IF((100-(2*T$74*($T$4/$X$4)+2*$L81*($V$4/$X$4)))>=$F$56,($X$56-$Y$56)/(100-$F$56)*(100-(2*T$74*($T$4/$X$4)+2*$L81*($V$4/$X$4)))+$X$56-($X$56-$Y$56)/(100-$F$56)*100,IF((100-(2*T$74*($T$4/$X$4)+2*$L81*($V$4/$X$4)))>=$G$56,($Y$56-$Z$56)/($F$56-$G$56)*(100-(2*T$74*($T$4/$X$4)+2*$L81*($V$4/$X$4)))+$Y$56-($Y$56-$Z$56)/($F$56-$G$56)*$F$56,($Z$56)/($G$56-$H$56)*(100-(2*T$74*($T$4/$X$4)+2*$L81*($V$4/$X$4)))+$Z$56-($Z$56)/($G$56-$H$56)*$G$56)),-1) -> 56.7 | ... AH81: =MAX(IF((100-(2*AH$74*($T$4/$X$4)+2*$L81*($V$4/$X$4)))>=$F$56,($X$56-$Y$56)/(100-$F$56)*(100-(2*AH$74*($T$4/$X$4)+2*$L81*($V$4/$X$4)))+$X$56-($X$56-$Y$56)/(100-$F$56)*100,IF((100-(2*AH$74*($T$4/$X$4)+2*$L81*($V$4/$X$4)))>=$G$56,($Y$56-$Z$56)/($F$56-$G$56)*(100-(2*AH$74*($T$4/$X$4)+2*$L81*($V$4/$X$4)))+$Y$56-($Y$56-$Z$56)/($F$56-$G$56)*$F$56,($Z$56)/($G$56-$H$56)*(100-(2*AH$74*($T$4/$X$4)+2*$L81*($V$4/$X$4)))+$Z$56-($Z$56)/($G$56-$H$56)*$G$56)),-1) -> -1
L82: 7 | M82: =MAX(IF((100-(2*M$74*($T$4/$X$4)+2*$L82*($V$4/$X$4)))>=$F$56,($X$56-$Y$56)/(100-$F$56)*(100-(2*M$74*($T$4/$X$4)+2*$L82*($V$4/$X$4)))+$X$56-($X$56-$Y$56)/(100-$F$56)*100,IF((100-(2*M$74*($T$4/$X$4)+2*$L82*($V$4/$X$4)))>=$G$56,($Y$56-$Z$56)/($F$56-$G$56)*(100-(2*M$74*($T$4/$X$4)+2*$L82*($V$4/$X$4)))+$Y$56-($Y$56-$Z$56)/($F$56-$G$56)*$F$56,($Z$56)/($G$56-$H$56)*(100-(2*M$74*($T$4/$X$4)+2*$L82*($V$4/$X$4)))+$Z$56-($Z$56)/($G$56-$H$56)*$G$56)),-1) -> 84.15 | N82: =MAX(IF((100-(2*N$74*($T$4/$X$4)+2*$L82*($V$4/$X$4)))>=$F$56,($X$56-$Y$56)/(100-$F$56)*(100-(2*N$74*($T$4/$X$4)+2*$L82*($V$4/$X$4)))+$X$56-($X$56-$Y$56)/(100-$F$56)*100,IF((100-(2*N$74*($T$4/$X$4)+2*$L82*($V$4/$X$4)))>=$G$56,($Y$56-$Z$56)/($F$56-$G$56)*(100-(2*N$74*($T$4/$X$4)+2*$L82*($V$4/$X$4)))+$Y$56-($Y$56-$Z$56)/($F$56-$G$56)*$F$56,($Z$56)/($G$56-$H$56)*(100-(2*N$74*($T$4/$X$4)+2*$L82*($V$4/$X$4)))+$Z$56-($Z$56)/($G$56-$H$56)*$G$56)),-1) -> 79.65 | O82: =MAX(IF((100-(2*O$74*($T$4/$X$4)+2*$L82*($V$4/$X$4)))>=$F$56,($X$56-$Y$56)/(100-$F$56)*(100-(2*O$74*($T$4/$X$4)+2*$L82*($V$4/$X$4)))+$X$56-($X$56-$Y$56)/(100-$F$56)*100,IF((100-(2*O$74*($T$4/$X$4)+2*$L82*($V$4/$X$4)))>=$G$56,($Y$56-$Z$56)/($F$56-$G$56)*(100-(2*O$74*($T$4/$X$4)+2*$L82*($V$4/$X$4)))+$Y$56-($Y$56-$Z$56)/($F$56-$G$56)*$F$56,($Z$56)/($G$56-$H$56)*(100-(2*O$74*($T$4/$X$4)+2*$L82*($V$4/$X$4)))+$Z$56-($Z$56)/($G$56-$H$56)*$G$56)),-1) -> 75.15 | P82: =MAX(IF((100-(2*P$74*($T$4/$X$4)+2*$L82*($V$4/$X$4)))>=$F$56,($X$56-$Y$56)/(100-$F$56)*(100-(2*P$74*($T$4/$X$4)+2*$L82*($V$4/$X$4)))+$X$56-($X$56-$Y$56)/(100-$F$56)*100,IF((100-(2*P$74*($T$4/$X$4)+2*$L82*($V$4/$X$4)))>=$G$56,($Y$56-$Z$56)/($F$56-$G$56)*(100-(2*P$74*($T$4/$X$4)+2*$L82*($V$4/$X$4)))+$Y$56-($Y$56-$Z$56)/($F$56-$G$56)*$F$56,($Z$56)/($G$56-$H$56)*(100-(2*P$74*($T$4/$X$4)+2*$L82*($V$4/$X$4)))+$Z$56-($Z$56)/($G$56-$H$56)*$G$56)),-1) -> 70.65 | Q82: =MAX(IF((100-(2*Q$74*($T$4/$X$4)+2*$L82*($V$4/$X$4)))>=$F$56,($X$56-$Y$56)/(100-$F$56)*(100-(2*Q$74*($T$4/$X$4)+2*$L82*($V$4/$X$4)))+$X$56-($X$56-$Y$56)/(100-$F$56)*100,IF((100-(2*Q$74*($T$4/$X$4)+2*$L82*($V$4/$X$4)))>=$G$56,($Y$56-$Z$56)/($F$56-$G$56)*(100-(2*Q$74*($T$4/$X$4)+2*$L82*($V$4/$X$4)))+$Y$56-($Y$56-$Z$56)/($F$56-$G$56)*$F$56,($Z$56)/($G$56-$H$56)*(100-(2*Q$74*($T$4/$X$4)+2*$L82*($V$4/$X$4)))+$Z$56-($Z$56)/($G$56-$H$56)*$G$56)),-1) -> 66.15 | R82: =MAX(IF((100-(2*R$74*($T$4/$X$4)+2*$L82*($V$4/$X$4)))>=$F$56,($X$56-$Y$56)/(100-$F$56)*(100-(2*R$74*($T$4/$X$4)+2*$L82*($V$4/$X$4)))+$X$56-($X$56-$Y$56)/(100-$F$56)*100,IF((100-(2*R$74*($T$4/$X$4)+2*$L82*($V$4/$X$4)))>=$G$56,($Y$56-$Z$56)/($F$56-$G$56)*(100-(2*R$74*($T$4/$X$4)+2*$L82*($V$4/$X$4)))+$Y$56-($Y$56-$Z$56)/($F$56-$G$56)*$F$56,($Z$56)/($G$56-$H$56)*(100-(2*R$74*($T$4/$X$4)+2*$L82*($V$4/$X$4)))+$Z$56-($Z$56)/($G$56-$H$56)*$G$56)),-1) -> 61.65 | S82: =MAX(IF((100-(2*S$74*($T$4/$X$4)+2*$L82*($V$4/$X$4)))>=$F$56,($X$56-$Y$56)/(100-$F$56)*(100-(2*S$74*($T$4/$X$4)+2*$L82*($V$4/$X$4)))+$X$56-($X$56-$Y$56)/(100-$F$56)*100,IF((100-(2*S$74*($T$4/$X$4)+2*$L82*($V$4/$X$4)))>=$G$56,($Y$56-$Z$56)/($F$56-$G$56)*(100-(2*S$74*($T$4/$X$4)+2*$L82*($V$4/$X$4)))+$Y$56-($Y$56-$Z$56)/($F$56-$G$56)*$F$56,($Z$56)/($G$56-$H$56)*(100-(2*S$74*($T$4/$X$4)+2*$L82*($V$4/$X$4)))+$Z$56-($Z$56)/($G$56-$H$56)*$G$56)),-1) -> 57.15 | T82: =MAX(IF((100-(2*T$74*($T$4/$X$4)+2*$L82*($V$4/$X$4)))>=$F$56,($X$56-$Y$56)/(100-$F$56)*(100-(2*T$74*($T$4/$X$4)+2*$L82*($V$4/$X$4)))+$X$56-($X$56-$Y$56)/(100-$F$56)*100,IF((100-(2*T$74*($T$4/$X$4)+2*$L82*($V$4/$X$4)))>=$G$56,($Y$56-$Z$56)/($F$56-$G$56)*(100-(2*T$74*($T$4/$X$4)+2*$L82*($V$4/$X$4)))+$Y$56-($Y$56-$Z$56)/($F$56-$G$56)*$F$56,($Z$56)/($G$56-$H$56)*(100-(2*T$74*($T$4/$X$4)+2*$L82*($V$4/$X$4)))+$Z$56-($Z$56)/($G$56-$H$56)*$G$56)),-1) -> 52.65 | ... AH82: =MAX(IF((100-(2*AH$74*($T$4/$X$4)+2*$L82*($V$4/$X$4)))>=$F$56,($X$56-$Y$56)/(100-$F$56)*(100-(2*AH$74*($T$4/$X$4)+2*$L82*($V$4/$X$4)))+$X$56-($X$56-$Y$56)/(100-$F$56)*100,IF((100-(2*AH$74*($T$4/$X$4)+2*$L82*($V$4/$X$4)))>=$G$56,($Y$56-$Z$56)/($F$56-$G$56)*(100-(2*AH$74*($T$4/$X$4)+2*$L82*($V$4/$X$4)))+$Y$56-($Y$56-$Z$56)/($F$56-$G$56)*$F$56,($Z$56)/($G$56-$H$56)*(100-(2*AH$74*($T$4/$X$4)+2*$L82*($V$4/$X$4)))+$Z$56-($Z$56)/($G$56-$H$56)*$G$56)),-1) -> -1
L83: 8 | M83: =MAX(IF((100-(2*M$74*($T$4/$X$4)+2*$L83*($V$4/$X$4)))>=$F$56,($X$56-$Y$56)/(100-$F$56)*(100-(2*M$74*($T$4/$X$4)+2*$L83*($V$4/$X$4)))+$X$56-($X$56-$Y$56)/(100-$F$56)*100,IF((100-(2*M$74*($T$4/$X$4)+2*$L83*($V$4/$X$4)))>=$G$56,($Y$56-$Z$56)/($F$56-$G$56)*(100-(2*M$74*($T$4/$X$4)+2*$L83*($V$4/$X$4)))+$Y$56-($Y$56-$Z$56)/($F$56-$G$56)*$F$56,($Z$56)/($G$56-$H$56)*(100-(2*M$74*($T$4/$X$4)+2*$L83*($V$4/$X$4)))+$Z$56-($Z$56)/($G$56-$H$56)*$G$56)),-1) -> 80.1 | N83: =MAX(IF((100-(2*N$74*($T$4/$X$4)+2*$L83*($V$4/$X$4)))>=$F$56,($X$56-$Y$56)/(100-$F$56)*(100-(2*N$74*($T$4/$X$4)+2*$L83*($V$4/$X$4)))+$X$56-($X$56-$Y$56)/(100-$F$56)*100,IF((100-(2*N$74*($T$4/$X$4)+2*$L83*($V$4/$X$4)))>=$G$56,($Y$56-$Z$56)/($F$56-$G$56)*(100-(2*N$74*($T$4/$X$4)+2*$L83*($V$4/$X$4)))+$Y$56-($Y$56-$Z$56)/($F$56-$G$56)*$F$56,($Z$56)/($G$56-$H$56)*(100-(2*N$74*($T$4/$X$4)+2*$L83*($V$4/$X$4)))+$Z$56-($Z$56)/($G$56-$H$56)*$G$56)),-1) -> 75.6 | O83: =MAX(IF((100-(2*O$74*($T$4/$X$4)+2*$L83*($V$4/$X$4)))>=$F$56,($X$56-$Y$56)/(100-$F$56)*(100-(2*O$74*($T$4/$X$4)+2*$L83*($V$4/$X$4)))+$X$56-($X$56-$Y$56)/(100-$F$56)*100,IF((100-(2*O$74*($T$4/$X$4)+2*$L83*($V$4/$X$4)))>=$G$56,($Y$56-$Z$56)/($F$56-$G$56)*(100-(2*O$74*($T$4/$X$4)+2*$L83*($V$4/$X$4)))+$Y$56-($Y$56-$Z$56)/($F$56-$G$56)*$F$56,($Z$56)/($G$56-$H$56)*(100-(2*O$74*($T$4/$X$4)+2*$L83*($V$4/$X$4)))+$Z$56-($Z$56)/($G$56-$H$56)*$G$56)),-1) -> 71.1 | P83: =MAX(IF((100-(2*P$74*($T$4/$X$4)+2*$L83*($V$4/$X$4)))>=$F$56,($X$56-$Y$56)/(100-$F$56)*(100-(2*P$74*($T$4/$X$4)+2*$L83*($V$4/$X$4)))+$X$56-($X$56-$Y$56)/(100-$F$56)*100,IF((100-(2*P$74*($T$4/$X$4)+2*$L83*($V$4/$X$4)))>=$G$56,($Y$56-$Z$56)/($F$56-$G$56)*(100-(2*P$74*($T$4/$X$4)+2*$L83*($V$4/$X$4)))+$Y$56-($Y$56-$Z$56)/($F$56-$G$56)*$F$56,($Z$56)/($G$56-$H$56)*(100-(2*P$74*($T$4/$X$4)+2*$L83*($V$4/$X$4)))+$Z$56-($Z$56)/($G$56-$H$56)*$G$56)),-1) -> 66.6 | Q83: =MAX(IF((100-(2*Q$74*($T$4/$X$4)+2*$L83*($V$4/$X$4)))>=$F$56,($X$56-$Y$56)/(100-$F$56)*(100-(2*Q$74*($T$4/$X$4)+2*$L83*($V$4/$X$4)))+$X$56-($X$56-$Y$56)/(100-$F$56)*100,IF((100-(2*Q$74*($T$4/$X$4)+2*$L83*($V$4/$X$4)))>=$G$56,($Y$56-$Z$56)/($F$56-$G$56)*(100-(2*Q$74*($T$4/$X$4)+2*$L83*($V$4/$X$4)))+$Y$56-($Y$56-$Z$56)/($F$56-$G$56)*$F$56,($Z$56)/($G$56-$H$56)*(100-(2*Q$74*($T$4/$X$4)+2*$L83*($V$4/$X$4)))+$Z$56-($Z$56)/($G$56-$H$56)*$G$56)),-1) -> 62.1 | R83: =MAX(IF((100-(2*R$74*($T$4/$X$4)+2*$L83*($V$4/$X$4)))>=$F$56,($X$56-$Y$56)/(100-$F$56)*(100-(2*R$74*($T$4/$X$4)+2*$L83*($V$4/$X$4)))+$X$56-($X$56-$Y$56)/(100-$F$56)*100,IF((100-(2*R$74*($T$4/$X$4)+2*$L83*($V$4/$X$4)))>=$G$56,($Y$56-$Z$56)/($F$56-$G$56)*(100-(2*R$74*($T$4/$X$4)+2*$L83*($V$4/$X$4)))+$Y$56-($Y$56-$Z$56)/($F$56-$G$56)*$F$56,($Z$56)/($G$56-$H$56)*(100-(2*R$74*($T$4/$X$4)+2*$L83*($V$4/$X$4)))+$Z$56-($Z$56)/($G$56-$H$56)*$G$56)),-1) -> 57.6 | S83: =MAX(IF((100-(2*S$74*($T$4/$X$4)+2*$L83*($V$4/$X$4)))>=$F$56,($X$56-$Y$56)/(100-$F$56)*(100-(2*S$74*($T$4/$X$4)+2*$L83*($V$4/$X$4)))+$X$56-($X$56-$Y$56)/(100-$F$56)*100,IF((100-(2*S$74*($T$4/$X$4)+2*$L83*($V$4/$X$4)))>=$G$56,($Y$56-$Z$56)/($F$56-$G$56)*(100-(2*S$74*($T$4/$X$4)+2*$L83*($V$4/$X$4)))+$Y$56-($Y$56-$Z$56)/($F$56-$G$56)*$F$56,($Z$56)/($G$56-$H$56)*(100-(2*S$74*($T$4/$X$4)+2*$L83*($V$4/$X$4)))+$Z$56-($Z$56)/($G$56-$H$56)*$G$56)),-1) -> 53.1 | T83: =MAX(IF((100-(2*T$74*($T$4/$X$4)+2*$L83*($V$4/$X$4)))>=$F$56,($X$56-$Y$56)/(100-$F$56)*(100-(2*T$74*($T$4/$X$4)+2*$L83*($V$4/$X$4)))+$X$56-($X$56-$Y$56)/(100-$F$56)*100,IF((100-(2*T$74*($T$4/$X$4)+2*$L83*($V$4/$X$4)))>=$G$56,($Y$56-$Z$56)/($F$56-$G$56)*(100-(2*T$74*($T$4/$X$4)+2*$L83*($V$4/$X$4)))+$Y$56-($Y$56-$Z$56)/($F$56-$G$56)*$F$56,($Z$56)/($G$56-$H$56)*(100-(2*T$74*($T$4/$X$4)+2*$L83*($V$4/$X$4)))+$Z$56-($Z$56)/($G$56-$H$56)*$G$56)),-1) -> 48.6 | ... AH83: =MAX(IF((100-(2*AH$74*($T$4/$X$4)+2*$L83*($V$4/$X$4)))>=$F$56,($X$56-$Y$56)/(100-$F$56)*(100-(2*AH$74*($T$4/$X$4)+2*$L83*($V$4/$X$4)))+$X$56-($X$56-$Y$56)/(100-$F$56)*100,IF((100-(2*AH$74*($T$4/$X$4)+2*$L83*($V$4/$X$4)))>=$G$56,($Y$56-$Z$56)/($F$56-$G$56)*(100-(2*AH$74*($T$4/$X$4)+2*$L83*($V$4/$X$4)))+$Y$56-($Y$56-$Z$56)/($F$56-$G$56)*$F$56,($Z$56)/($G$56-$H$56)*(100-(2*AH$74*($T$4/$X$4)+2*$L83*($V$4/$X$4)))+$Z$56-($Z$56)/($G$56-$H$56)*$G$56)),-1) -> -1
L84: 9 | M84: =MAX(IF((100-(2*M$74*($T$4/$X$4)+2*$L84*($V$4/$X$4)))>=$F$56,($X$56-$Y$56)/(100-$F$56)*(100-(2*M$74*($T$4/$X$4)+2*$L84*($V$4/$X$4)))+$X$56-($X$56-$Y$56)/(100-$F$56)*100,IF((100-(2*M$74*($T$4/$X$4)+2*$L84*($V$4/$X$4)))>=$G$56,($Y$56-$Z$56)/($F$56-$G$56)*(100-(2*M$74*($T$4/$X$4)+2*$L84*($V$4/$X$4)))+$Y$56-($Y$56-$Z$56)/($F$56-$G$56)*$F$56,($Z$56)/($G$56-$H$56)*(100-(2*M$74*($T$4/$X$4)+2*$L84*($V$4/$X$4)))+$Z$56-($Z$56)/($G$56-$H$56)*$G$56)),-1) -> 76.05 | N84: =MAX(IF((100-(2*N$74*($T$4/$X$4)+2*$L84*($V$4/$X$4)))>=$F$56,($X$56-$Y$56)/(100-$F$56)*(100-(2*N$74*($T$4/$X$4)+2*$L84*($V$4/$X$4)))+$X$56-($X$56-$Y$56)/(100-$F$56)*100,IF((100-(2*N$74*($T$4/$X$4)+2*$L84*($V$4/$X$4)))>=$G$56,($Y$56-$Z$56)/($F$56-$G$56)*(100-(2*N$74*($T$4/$X$4)+2*$L84*($V$4/$X$4)))+$Y$56-($Y$56-$Z$56)/($F$56-$G$56)*$F$56,($Z$56)/($G$56-$H$56)*(100-(2*N$74*($T$4/$X$4)+2*$L84*($V$4/$X$4)))+$Z$56-($Z$56)/($G$56-$H$56)*$G$56)),-1) -> 71.55 | O84: =MAX(IF((100-(2*O$74*($T$4/$X$4)+2*$L84*($V$4/$X$4)))>=$F$56,($X$56-$Y$56)/(100-$F$56)*(100-(2*O$74*($T$4/$X$4)+2*$L84*($V$4/$X$4)))+$X$56-($X$56-$Y$56)/(100-$F$56)*100,IF((100-(2*O$74*($T$4/$X$4)+2*$L84*($V$4/$X$4)))>=$G$56,($Y$56-$Z$56)/($F$56-$G$56)*(100-(2*O$74*($T$4/$X$4)+2*$L84*($V$4/$X$4)))+$Y$56-($Y$56-$Z$56)/($F$56-$G$56)*$F$56,($Z$56)/($G$56-$H$56)*(100-(2*O$74*($T$4/$X$4)+2*$L84*($V$4/$X$4)))+$Z$56-($Z$56)/($G$56-$H$56)*$G$56)),-1) -> 67.05 | P84: =MAX(IF((100-(2*P$74*($T$4/$X$4)+2*$L84*($V$4/$X$4)))>=$F$56,($X$56-$Y$56)/(100-$F$56)*(100-(2*P$74*($T$4/$X$4)+2*$L84*($V$4/$X$4)))+$X$56-($X$56-$Y$56)/(100-$F$56)*100,IF((100-(2*P$74*($T$4/$X$4)+2*$L84*($V$4/$X$4)))>=$G$56,($Y$56-$Z$56)/($F$56-$G$56)*(100-(2*P$74*($T$4/$X$4)+2*$L84*($V$4/$X$4)))+$Y$56-($Y$56-$Z$56)/($F$56-$G$56)*$F$56,($Z$56)/($G$56-$H$56)*(100-(2*P$74*($T$4/$X$4)+2*$L84*($V$4/$X$4)))+$Z$56-($Z$56)/($G$56-$H$56)*$G$56)),-1) -> 62.55 | Q84: =MAX(IF((100-(2*Q$74*($T$4/$X$4)+2*$L84*($V$4/$X$4)))>=$F$56,($X$56-$Y$56)/(100-$F$56)*(100-(2*Q$74*($T$4/$X$4)+2*$L84*($V$4/$X$4)))+$X$56-($X$56-$Y$56)/(100-$F$56)*100,IF((100-(2*Q$74*($T$4/$X$4)+2*$L84*($V$4/$X$4)))>=$G$56,($Y$56-$Z$56)/($F$56-$G$56)*(100-(2*Q$74*($T$4/$X$4)+2*$L84*($V$4/$X$4)))+$Y$56-($Y$56-$Z$56)/($F$56-$G$56)*$F$56,($Z$56)/($G$56-$H$56)*(100-(2*Q$74*($T$4/$X$4)+2*$L84*($V$4/$X$4)))+$Z$56-($Z$56)/($G$56-$H$56)*$G$56)),-1) -> 58.05 | R84: =MAX(IF((100-(2*R$74*($T$4/$X$4)+2*$L84*($V$4/$X$4)))>=$F$56,($X$56-$Y$56)/(100-$F$56)*(100-(2*R$74*($T$4/$X$4)+2*$L84*($V$4/$X$4)))+$X$56-($X$56-$Y$56)/(100-$F$56)*100,IF((100-(2*R$74*($T$4/$X$4)+2*$L84*($V$4/$X$4)))>=$G$56,($Y$56-$Z$56)/($F$56-$G$56)*(100-(2*R$74*($T$4/$X$4)+2*$L84*($V$4/$X$4)))+$Y$56-($Y$56-$Z$56)/($F$56-$G$56)*$F$56,($Z$56)/($G$56-$H$56)*(100-(2*R$74*($T$4/$X$4)+2*$L84*($V$4/$X$4)))+$Z$56-($Z$56)/($G$56-$H$56)*$G$56)),-1) -> 53.55 | S84: =MAX(IF((100-(2*S$74*($T$4/$X$4)+2*$L84*($V$4/$X$4)))>=$F$56,($X$56-$Y$56)/(100-$F$56)*(100-(2*S$74*($T$4/$X$4)+2*$L84*($V$4/$X$4)))+$X$56-($X$56-$Y$56)/(100-$F$56)*100,IF((100-(2*S$74*($T$4/$X$4)+2*$L84*($V$4/$X$4)))>=$G$56,($Y$56-$Z$56)/($F$56-$G$56)*(100-(2*S$74*($T$4/$X$4)+2*$L84*($V$4/$X$4)))+$Y$56-($Y$56-$Z$56)/($F$56-$G$56)*$F$56,($Z$56)/($G$56-$H$56)*(100-(2*S$74*($T$4/$X$4)+2*$L84*($V$4/$X$4)))+$Z$56-($Z$56)/($G$56-$H$56)*$G$56)),-1) -> 49.05 | T84: =MAX(IF((100-(2*T$74*($T$4/$X$4)+2*$L84*($V$4/$X$4)))>=$F$56,($X$56-$Y$56)/(100-$F$56)*(100-(2*T$74*($T$4/$X$4)+2*$L84*($V$4/$X$4)))+$X$56-($X$56-$Y$56)/(100-$F$56)*100,IF((100-(2*T$74*($T$4/$X$4)+2*$L84*($V$4/$X$4)))>=$G$56,($Y$56-$Z$56)/($F$56-$G$56)*(100-(2*T$74*($T$4/$X$4)+2*$L84*($V$4/$X$4)))+$Y$56-($Y$56-$Z$56)/($F$56-$G$56)*$F$56,($Z$56)/($G$56-$H$56)*(100-(2*T$74*($T$4/$X$4)+2*$L84*($V$4/$X$4)))+$Z$56-($Z$56)/($G$56-$H$56)*$G$56)),-1) -> 44.1 | ... AH84: =MAX(IF((100-(2*AH$74*($T$4/$X$4)+2*$L84*($V$4/$X$4)))>=$F$56,($X$56-$Y$56)/(100-$F$56)*(100-(2*AH$74*($T$4/$X$4)+2*$L84*($V$4/$X$4)))+$X$56-($X$56-$Y$56)/(100-$F$56)*100,IF((100-(2*AH$74*($T$4/$X$4)+2*$L84*($V$4/$X$4)))>=$G$56,($Y$56-$Z$56)/($F$56-$G$56)*(100-(2*AH$74*($T$4/$X$4)+2*$L84*($V$4/$X$4)))+$Y$56-($Y$56-$Z$56)/($F$56-$G$56)*$F$56,($Z$56)/($G$56-$H$56)*(100-(2*AH$74*($T$4/$X$4)+2*$L84*($V$4/$X$4)))+$Z$56-($Z$56)/($G$56-$H$56)*$G$56)),-1) -> -1
L85: 10 | M85: =MAX(IF((100-(2*M$74*($T$4/$X$4)+2*$L85*($V$4/$X$4)))>=$F$56,($X$56-$Y$56)/(100-$F$56)*(100-(2*M$74*($T$4/$X$4)+2*$L85*($V$4/$X$4)))+$X$56-($X$56-$Y$56)/(100-$F$56)*100,IF((100-(2*M$74*($T$4/$X$4)+2*$L85*($V$4/$X$4)))>=$G$56,($Y$56-$Z$56)/($F$56-$G$56)*(100-(2*M$74*($T$4/$X$4)+2*$L85*($V$4/$X$4)))+$Y$56-($Y$56-$Z$56)/($F$56-$G$56)*$F$56,($Z$56)/($G$56-$H$56)*(100-(2*M$74*($T$4/$X$4)+2*$L85*($V$4/$X$4)))+$Z$56-($Z$56)/($G$56-$H$56)*$G$56)),-1) -> 72 | N85: =MAX(IF((100-(2*N$74*($T$4/$X$4)+2*$L85*($V$4/$X$4)))>=$F$56,($X$56-$Y$56)/(100-$F$56)*(100-(2*N$74*($T$4/$X$4)+2*$L85*($V$4/$X$4)))+$X$56-($X$56-$Y$56)/(100-$F$56)*100,IF((100-(2*N$74*($T$4/$X$4)+2*$L85*($V$4/$X$4)))>=$G$56,($Y$56-$Z$56)/($F$56-$G$56)*(100-(2*N$74*($T$4/$X$4)+2*$L85*($V$4/$X$4)))+$Y$56-($Y$56-$Z$56)/($F$56-$G$56)*$F$56,($Z$56)/($G$56-$H$56)*(100-(2*N$74*($T$4/$X$4)+2*$L85*($V$4/$X$4)))+$Z$56-($Z$56)/($G$56-$H$56)*$G$56)),-1) -> 67.5 | O85: =MAX(IF((100-(2*O$74*($T$4/$X$4)+2*$L85*($V$4/$X$4)))>=$F$56,($X$56-$Y$56)/(100-$F$56)*(100-(2*O$74*($T$4/$X$4)+2*$L85*($V$4/$X$4)))+$X$56-($X$56-$Y$56)/(100-$F$56)*100,IF((100-(2*O$74*($T$4/$X$4)+2*$L85*($V$4/$X$4)))>=$G$56,($Y$56-$Z$56)/($F$56-$G$56)*(100-(2*O$74*($T$4/$X$4)+2*$L85*($V$4/$X$4)))+$Y$56-($Y$56-$Z$56)/($F$56-$G$56)*$F$56,($Z$56)/($G$56-$H$56)*(100-(2*O$74*($T$4/$X$4)+2*$L85*($V$4/$X$4)))+$Z$56-($Z$56)/($G$56-$H$56)*$G$56)),-1) -> 63 | P85: =MAX(IF((100-(2*P$74*($T$4/$X$4)+2*$L85*($V$4/$X$4)))>=$F$56,($X$56-$Y$56)/(100-$F$56)*(100-(2*P$74*($T$4/$X$4)+2*$L85*($V$4/$X$4)))+$X$56-($X$56-$Y$56)/(100-$F$56)*100,IF((100-(2*P$74*($T$4/$X$4)+2*$L85*($V$4/$X$4)))>=$G$56,($Y$56-$Z$56)/($F$56-$G$56)*(100-(2*P$74*($T$4/$X$4)+2*$L85*($V$4/$X$4)))+$Y$56-($Y$56-$Z$56)/($F$56-$G$56)*$F$56,($Z$56)/($G$56-$H$56)*(100-(2*P$74*($T$4/$X$4)+2*$L85*($V$4/$X$4)))+$Z$56-($Z$56)/($G$56-$H$56)*$G$56)),-1) -> 58.5 | Q85: =MAX(IF((100-(2*Q$74*($T$4/$X$4)+2*$L85*($V$4/$X$4)))>=$F$56,($X$56-$Y$56)/(100-$F$56)*(100-(2*Q$74*($T$4/$X$4)+2*$L85*($V$4/$X$4)))+$X$56-($X$56-$Y$56)/(100-$F$56)*100,IF((100-(2*Q$74*($T$4/$X$4)+2*$L85*($V$4/$X$4)))>=$G$56,($Y$56-$Z$56)/($F$56-$G$56)*(100-(2*Q$74*($T$4/$X$4)+2*$L85*($V$4/$X$4)))+$Y$56-($Y$56-$Z$56)/($F$56-$G$56)*$F$56,($Z$56)/($G$56-$H$56)*(100-(2*Q$74*($T$4/$X$4)+2*$L85*($V$4/$X$4)))+$Z$56-($Z$56)/($G$56-$H$56)*$G$56)),-1) -> 54 | R85: =MAX(IF((100-(2*R$74*($T$4/$X$4)+2*$L85*($V$4/$X$4)))>=$F$56,($X$56-$Y$56)/(100-$F$56)*(100-(2*R$74*($T$4/$X$4)+2*$L85*($V$4/$X$4)))+$X$56-($X$56-$Y$56)/(100-$F$56)*100,IF((100-(2*R$74*($T$4/$X$4)+2*$L85*($V$4/$X$4)))>=$G$56,($Y$56-$Z$56)/($F$56-$G$56)*(100-(2*R$74*($T$4/$X$4)+2*$L85*($V$4/$X$4)))+$Y$56-($Y$56-$Z$56)/($F$56-$G$56)*$F$56,($Z$56)/($G$56-$H$56)*(100-(2*R$74*($T$4/$X$4)+2*$L85*($V$4/$X$4)))+$Z$56-($Z$56)/($G$56-$H$56)*$G$56)),-1) -> 49.5 | S85: =MAX(IF((100-(2*S$74*($T$4/$X$4)+2*$L85*($V$4/$X$4)))>=$F$56,($X$56-$Y$56)/(100-$F$56)*(100-(2*S$74*($T$4/$X$4)+2*$L85*($V$4/$X$4)))+$X$56-($X$56-$Y$56)/(100-$F$56)*100,IF((100-(2*S$74*($T$4/$X$4)+2*$L85*($V$4/$X$4)))>=$G$56,($Y$56-$Z$56)/($F$56-$G$56)*(100-(2*S$74*($T$4/$X$4)+2*$L85*($V$4/$X$4)))+$Y$56-($Y$56-$Z$56)/($F$56-$G$56)*$F$56,($Z$56)/($G$56-$H$56)*(100-(2*S$74*($T$4/$X$4)+2*$L85*($V$4/$X$4)))+$Z$56-($Z$56)/($G$56-$H$56)*$G$56)),-1) -> 45 | T85: =MAX(IF((100-(2*T$74*($T$4/$X$4)+2*$L85*($V$4/$X$4)))>=$F$56,($X$56-$Y$56)/(100-$F$56)*(100-(2*T$74*($T$4/$X$4)+2*$L85*($V$4/$X$4)))+$X$56-($X$56-$Y$56)/(100-$F$56)*100,IF((100-(2*T$74*($T$4/$X$4)+2*$L85*($V$4/$X$4)))>=$G$56,($Y$56-$Z$56)/($F$56-$G$56)*(100-(2*T$74*($T$4/$X$4)+2*$L85*($V$4/$X$4)))+$Y$56-($Y$56-$Z$56)/($F$56-$G$56)*$F$56,($Z$56)/($G$56-$H$56)*(100-(2*T$74*($T$4/$X$4)+2*$L85*($V$4/$X$4)))+$Z$56-($Z$56)/($G$56-$H$56)*$G$56)),-1) -> 36 | ... AH85: =MAX(IF((100-(2*AH$74*($T$4/$X$4)+2*$L85*($V$4/$X$4)))>=$F$56,($X$56-$Y$56)/(100-$F$56)*(100-(2*AH$74*($T$4/$X$4)+2*$L85*($V$4/$X$4)))+$X$56-($X$56-$Y$56)/(100-$F$56)*100,IF((100-(2*AH$74*($T$4/$X$4)+2*$L85*($V$4/$X$4)))>=$G$56,($Y$56-$Z$56)/($F$56-$G$56)*(100-(2*AH$74*($T$4/$X$4)+2*$L85*($V$4/$X$4)))+$Y$56-($Y$56-$Z$56)/($F$56-$G$56)*$F$56,($Z$56)/($G$56-$H$56)*(100-(2*AH$74*($T$4/$X$4)+2*$L85*($V$4/$X$4)))+$Z$56-($Z$56)/($G$56-$H$56)*$G$56)),-1) -> -1
L86: 11 | M86: =MAX(IF((100-(2*M$74*($T$4/$X$4)+2*$L86*($V$4/$X$4)))>=$F$56,($X$56-$Y$56)/(100-$F$56)*(100-(2*M$74*($T$4/$X$4)+2*$L86*($V$4/$X$4)))+$X$56-($X$56-$Y$56)/(100-$F$56)*100,IF((100-(2*M$74*($T$4/$X$4)+2*$L86*($V$4/$X$4)))>=$G$56,($Y$56-$Z$56)/($F$56-$G$56)*(100-(2*M$74*($T$4/$X$4)+2*$L86*($V$4/$X$4)))+$Y$56-($Y$56-$Z$56)/($F$56-$G$56)*$F$56,($Z$56)/($G$56-$H$56)*(100-(2*M$74*($T$4/$X$4)+2*$L86*($V$4/$X$4)))+$Z$56-($Z$56)/($G$56-$H$56)*$G$56)),-1) -> 67.95 | N86: =MAX(IF((100-(2*N$74*($T$4/$X$4)+2*$L86*($V$4/$X$4)))>=$F$56,($X$56-$Y$56)/(100-$F$56)*(100-(2*N$74*($T$4/$X$4)+2*$L86*($V$4/$X$4)))+$X$56-($X$56-$Y$56)/(100-$F$56)*100,IF((100-(2*N$74*($T$4/$X$4)+2*$L86*($V$4/$X$4)))>=$G$56,($Y$56-$Z$56)/($F$56-$G$56)*(100-(2*N$74*($T$4/$X$4)+2*$L86*($V$4/$X$4)))+$Y$56-($Y$56-$Z$56)/($F$56-$G$56)*$F$56,($Z$56)/($G$56-$H$56)*(100-(2*N$74*($T$4/$X$4)+2*$L86*($V$4/$X$4)))+$Z$56-($Z$56)/($G$56-$H$56)*$G$56)),-1) -> 63.45 | O86: =MAX(IF((100-(2*O$74*($T$4/$X$4)+2*$L86*($V$4/$X$4)))>=$F$56,($X$56-$Y$56)/(100-$F$56)*(100-(2*O$74*($T$4/$X$4)+2*$L86*($V$4/$X$4)))+$X$56-($X$56-$Y$56)/(100-$F$56)*100,IF((100-(2*O$74*($T$4/$X$4)+2*$L86*($V$4/$X$4)))>=$G$56,($Y$56-$Z$56)/($F$56-$G$56)*(100-(2*O$74*($T$4/$X$4)+2*$L86*($V$4/$X$4)))+$Y$56-($Y$56-$Z$56)/($F$56-$G$56)*$F$56,($Z$56)/($G$56-$H$56)*(100-(2*O$74*($T$4/$X$4)+2*$L86*($V$4/$X$4)))+$Z$56-($Z$56)/($G$56-$H$56)*$G$56)),-1) -> 58.95 | P86: =MAX(IF((100-(2*P$74*($T$4/$X$4)+2*$L86*($V$4/$X$4)))>=$F$56,($X$56-$Y$56)/(100-$F$56)*(100-(2*P$74*($T$4/$X$4)+2*$L86*($V$4/$X$4)))+$X$56-($X$56-$Y$56)/(100-$F$56)*100,IF((100-(2*P$74*($T$4/$X$4)+2*$L86*($V$4/$X$4)))>=$G$56,($Y$56-$Z$56)/($F$56-$G$56)*(100-(2*P$74*($T$4/$X$4)+2*$L86*($V$4/$X$4)))+$Y$56-($Y$56-$Z$56)/($F$56-$G$56)*$F$56,($Z$56)/($G$56-$H$56)*(100-(2*P$74*($T$4/$X$4)+2*$L86*($V$4/$X$4)))+$Z$56-($Z$56)/($G$56-$H$56)*$G$56)),-1) -> 54.45 | Q86: =MAX(IF((100-(2*Q$74*($T$4/$X$4)+2*$L86*($V$4/$X$4)))>=$F$56,($X$56-$Y$56)/(100-$F$56)*(100-(2*Q$74*($T$4/$X$4)+2*$L86*($V$4/$X$4)))+$X$56-($X$56-$Y$56)/(100-$F$56)*100,IF((100-(2*Q$74*($T$4/$X$4)+2*$L86*($V$4/$X$4)))>=$G$56,($Y$56-$Z$56)/($F$56-$G$56)*(100-(2*Q$74*($T$4/$X$4)+2*$L86*($V$4/$X$4)))+$Y$56-($Y$56-$Z$56)/($F$56-$G$56)*$F$56,($Z$56)/($G$56-$H$56)*(100-(2*Q$74*($T$4/$X$4)+2*$L86*($V$4/$X$4)))+$Z$56-($Z$56)/($G$56-$H$56)*$G$56)),-1) -> 49.95 | R86: =MAX(IF((100-(2*R$74*($T$4/$X$4)+2*$L86*($V$4/$X$4)))>=$F$56,($X$56-$Y$56)/(100-$F$56)*(100-(2*R$74*($T$4/$X$4)+2*$L86*($V$4/$X$4)))+$X$56-($X$56-$Y$56)/(100-$F$56)*100,IF((100-(2*R$74*($T$4/$X$4)+2*$L86*($V$4/$X$4)))>=$G$56,($Y$56-$Z$56)/($F$56-$G$56)*(100-(2*R$74*($T$4/$X$4)+2*$L86*($V$4/$X$4)))+$Y$56-($Y$56-$Z$56)/($F$56-$G$56)*$F$56,($Z$56)/($G$56-$H$56)*(100-(2*R$74*($T$4/$X$4)+2*$L86*($V$4/$X$4)))+$Z$56-($Z$56)/($G$56-$H$56)*$G$56)),-1) -> 45.45 | S86: =MAX(IF((100-(2*S$74*($T$4/$X$4)+2*$L86*($V$4/$X$4)))>=$F$56,($X$56-$Y$56)/(100-$F$56)*(100-(2*S$74*($T$4/$X$4)+2*$L86*($V$4/$X$4)))+$X$56-($X$56-$Y$56)/(100-$F$56)*100,IF((100-(2*S$74*($T$4/$X$4)+2*$L86*($V$4/$X$4)))>=$G$56,($Y$56-$Z$56)/($F$56-$G$56)*(100-(2*S$74*($T$4/$X$4)+2*$L86*($V$4/$X$4)))+$Y$56-($Y$56-$Z$56)/($F$56-$G$56)*$F$56,($Z$56)/($G$56-$H$56)*(100-(2*S$74*($T$4/$X$4)+2*$L86*($V$4/$X$4)))+$Z$56-($Z$56)/($G$56-$H$56)*$G$56)),-1) -> 36.9 | T86: =MAX(IF((100-(2*T$74*($T$4/$X$4)+2*$L86*($V$4/$X$4)))>=$F$56,($X$56-$Y$56)/(100-$F$56)*(100-(2*T$74*($T$4/$X$4)+2*$L86*($V$4/$X$4)))+$X$56-($X$56-$Y$56)/(100-$F$56)*100,IF((100-(2*T$74*($T$4/$X$4)+2*$L86*($V$4/$X$4)))>=$G$56,($Y$56-$Z$56)/($F$56-$G$56)*(100-(2*T$74*($T$4/$X$4)+2*$L86*($V$4/$X$4)))+$Y$56-($Y$56-$Z$56)/($F$56-$G$56)*$F$56,($Z$56)/($G$56-$H$56)*(100-(2*T$74*($T$4/$X$4)+2*$L86*($V$4/$X$4)))+$Z$56-($Z$56)/($G$56-$H$56)*$G$56)),-1) -> 27.9 | ... AH86: =MAX(IF((100-(2*AH$74*($T$4/$X$4)+2*$L86*($V$4/$X$4)))>=$F$56,($X$56-$Y$56)/(100-$F$56)*(100-(2*AH$74*($T$4/$X$4)+2*$L86*($V$4/$X$4)))+$X$56-($X$56-$Y$56)/(100-$F$56)*100,IF((100-(2*AH$74*($T$4/$X$4)+2*$L86*($V$4/$X$4)))>=$G$56,($Y$56-$Z$56)/($F$56-$G$56)*(100-(2*AH$74*($T$4/$X$4)+2*$L86*($V$4/$X$4)))+$Y$56-($Y$56-$Z$56)/($F$56-$G$56)*$F$56,($Z$56)/($G$56-$H$56)*(100-(2*AH$74*($T$4/$X$4)+2*$L86*($V$4/$X$4)))+$Z$56-($Z$56)/($G$56-$H$56)*$G$56)),-1) -> -1
