Workbook
Name Test: #REF!

Sheet Lab information
B1: 4EG lab report template - Part I - Conventional recycling process - Lab Information
B2: V25.2 (07.02.2025)
B7: General Information
B8: Institute: | C8: text
B9: Contact person: | C9: text
B10: Date of the test: | C10: date
B11: Sample number: | C11: text
B13: Aggregates
B14: Type of Somerville Fractionator | C14: text
B15: Type of board carriers (brand) | C15: text
B16: Type of paper cover sheet (brand) | C16: text
B17: Type of filter (brand) | C17: text
B18: Type of the image analysing system (brand) | C18: text
B19: Thickener used for the fine screening accept | C19: list | F19: no | G19: yes
B20: Type of Thickener | C20: text

Sheet Results_sample name
B1: 4EG lab report template - Part I - Conventional recycling process - Results
B2: V25.2 (14.06.2026)
B4: =MID(CELL("dateiname",A1),SEARCH("]",CELL("dateiname",A1))+1,31) -> #VALUE! | E4: Please add sample code in spreadsheet name (grey bar below)
B6: Brown marked --> just information
B7: Yellow marked --> Drop-Down-List
B8: Blue coloured --> Calculated values
B9: Empty white cells, black coloured --> for your entry
B10: Blue coloured and underlined --> Hyper links
B12: General information
B14: Sample receipt | C14: date
B15: Sample preparation | C15: date
B16: Lab test | C16: date
B17: Sample number | C17: text
B18: Optional tests | C18: text | G18: none | H18: COD | I18: Macrostickies
B19: Deviations from the method | C19: text
B20: Type of product | C20: list | G20: semi-finished | H20: finished
B21: Artifical ageing (3d, 60°C) | C21: list | G21: no | H21: yes
B22: Type of sample preparation | C22: list | G22: simple | H22: complex
B23: Dry removed components (Plastic lid, metal parts, textile parts) | C23: list | G23: no | H23: yes
B24: Generic description of the sample | C24: text
B25: Sample data sheet available | C25: list | G25: no | H25: yes
B27: Results summary (filled automatically)
B29: Coarse reject determination
B30: Coarse reject (incl. dry removed components) | C30: % | D30: =D97 -> 0
B31: Coarse reject characterisation | C31: link | D31: Click to go to reject charaterisation tree
B32: sheet adhesion test (accept coarse screening) | C32: link | D32: =D111 -> 0
B33: visual apperance test (accept coarse screening) | C33: link | D33: =D114 -> 0
B35: Fine reject determination
B36: Fine reject (related to total product) | C36: % | D36: =D125 -> #DIV/0!
B37: Fine reject characterisation | C37: link | D37: Click to go to reject charaterisation tree
B38: sheet adhesion test (accept fine screening) | C38: link | D38: =D135 -> 0
B39: visual apperance test (accept fine screening) | C39: link | D39: =D138 -> 0
B41: Dissolved and colloidal substances (optional)
B42: Evaporation residue of the sample (related to total product) | C42: g/kg Packaging | D42: =D150
B43: Chemical oxygen demand (optional)
B44: Chemical oxygen demand - COD (related to total product) | C44: gO2/kg Packaging | D44: =D158 -> 0
B46: Macrostickies analysis (optional)
B47: Total area of macrostickies 150 - 200000 (µm) | C47: mm²/kg | D47: =D169 -> #DIV/0!
B48: Area of macrostickies with equivalent diameter <= 2000 µm | C48: mm²/kg | D48: =D168 -> #DIV/0!
B50: Detailed Results
B52: Sample preparation | C52: # | D52: weight (air-dry) | E52: content (air-dry) | F52: content (oven-dry) | G52: dry removed? | H52: content without dry removed | I52: sample input weight (air-dry) | K52: Weighing of 50 ± 1 g oven dry | L52: water input weight | M52: consistency of sample input
B53: Components | D53: g | E53: % | F53: % | G53: yes? | H53: g | I53: g | K53: g air-dry | L53: g | M53: %
C54: A | E54: =IF(ISBLANK(D54),"",D54/$D$62) | F54: =E54*E68 -> #VALUE! | H54: =IF(G54="yes",0,E54/(1-D$64)) -> #VALUE! | I54: =IF(ISBLANK(D54),"",H54*$H$63/$E68) | J54: Copy the formula from column H (sample input weight) for each additional component
C55: B | E55: =IF(ISBLANK(D55),"",D55/$D$62) | F55: =E55*E69 -> #VALUE! | H55: =IF(G55="yes",0,E55/(1-D$64)) -> #VALUE! | I55: =IF(ISBLANK(D55),"",H55*$H$63/$E69) | J55: Copy the formula from column H (sample input weight) for each additional component
C56: C | E56: =IF(ISBLANK(D56),"",D56/$D$62) | I56: =IF(ISBLANK(D56),"",H56*$H$63/$E70) | K56: =I56
C57: D | E57: =IF(ISBLANK(D57),"",D57/$D$62) | H57: =IF(ISBLANK(D57),"",IF(G57="ja",0,E57/D$64)) | I57: =IF(ISBLANK(D57),"",H57*$H$63/$E71) | K57: =I57
C58: E | E58: =IF(ISBLANK(D58),"",D58/$D$62) | H58: =IF(ISBLANK(D58),"",IF(G58="ja",0,E58/D$64)) | I58: =IF(ISBLANK(D58),"",H58*$H$63/$E72) | K58: =I58
C59: F | E59: =IF(ISBLANK(D59),"",D59/$D$62) | H59: =IF(ISBLANK(D59),"",IF(G59="ja",0,E59/D$64)) | I59: =IF(ISBLANK(D59),"",H59*$H$63/$E73) | K59: =I59
C60: G | E60: =IF(ISBLANK(D60),"",D60/$D$62) | H60: =IF(ISBLANK(D60),"",IF(G60="ja",0,E60/D$64)) | I60: =IF(ISBLANK(D60),"",H60*$H$63/$E74) | K60: =I60
C61: H | E61: =IF(ISBLANK(D61),"",D61/$D$62) | H61: =IF(ISBLANK(D61),"",IF(G61="ja",0,E61/D$64)) | I61: =IF(ISBLANK(D61),"",H61*$H$63/$E75) | K61: =I61
B62: Total | D62: =SUM(D54:D61) -> 0 | E62: =SUM(E54:E61) -> 0 | G62: =SUMIF(G54:G61,"yes",F54:F61) -> 0 | H62: =SUM(H54:H61) -> #VALUE! | I62: =SUM(I54:I61) -> 0 | K62: =SUM(K54:K61) -> 0 | L62: =IF(ISBLANK(D55),((K62*E68)/2.5)*100-K62,IF(ISBLANK(D56),((K62*(E68*H54+E69*H55)/2.5)*100-K62),IF(ISBLANK(D57),((K62*(E68*H54+E69*H55+E70*H56)/2.5)*100-K62),IF(ISBLANK(D58),((K62*(E68*H54+E69*H55+E70*H56+E71*H57)/2.5)*100-K62),IF(ISBLANK(D59),((K62*(E68*H54+E69*H55+E70*H56+E71*H57+E72*H58)/2.5)*100-K62),IF(ISBLANK(D60),((K62*(E68*H54+E69*H55+E70*H56+E71*H57+E72*H58+E73*H59)/2.5)*100-K62),IF(ISBLANK(D61),((K62*(E68*H54+E69*H55+E70*H56+E71*H57+E72*H58+E73*H59+E74*H60)/2.5)*100-K62),(K62*(E68*H54+E69*H55+E70*H56+E71*H57+E72*H58+E73*H59+E74*H60+E75*H61)/2.5)*100-K62))))))) -> #VALUE! | M62: 2.5
H63: 50 | I63: g oven dry
B64: Content of dry removed components | C64: % | D64: =G62 -> 0
B66: Dry matter content of sample (without dry removed components) | C66: DM 1 | D66: DM 2 | E66: Mean DM
C67: % | D67: % | E67: %
B68: A | E68: =IF(ISBLANK(C68),"",AVERAGE(C68:D68))
B69: B | E69: =IF(ISBLANK(C69),"",AVERAGE(C69:D69))
B70: =IF(ISBLANK(B56),"",B56) | E70: =IF(ISBLANK(C70),"",AVERAGE(C70:D70))
B71: =IF(ISBLANK(B57),"",B57) | E71: =IF(ISBLANK(C71),"",AVERAGE(C71:D71))
B72: =IF(ISBLANK(B58),"",B58) | E72: =IF(ISBLANK(C72),"",AVERAGE(C72:D72))
B73: =IF(ISBLANK(B59),"",B59) | E73: =IF(ISBLANK(C73),"",AVERAGE(C73:D73))
B74: =IF(ISBLANK(B60),"",B60) | E74: =IF(ISBLANK(C74),"",AVERAGE(C74:D74))
B75: =IF(ISBLANK(B61),"",B61) | E75: =IF(ISBLANK(C75),"",AVERAGE(C75:D75))
B76: Dry content (average) | C76: =AVERAGE(C68:C75) -> #DIV/0! | D76: =AVERAGE(D68:D75) -> #DIV/0! | E76: =AVERAGE(E68:E75) -> #DIV/0!
E77: Removal of certain disturbing non-fibre/non-paper components, e.g. lid, cap, …
B78: Disintegraton ( acc. ISO 5263-1)
B79: Disintegration device | C79: text | D79: lab disintegrator
B80: Disintegration time (min) | C80: list | D80: 10
B81: Foaming | C81: list | F81: no | G81: yes
B82: Turbidity of filtrat | C82: list | F82: no | G82: yes
B83: Water pH | C83: -
B84: Temperature during the pH test | C84: °C
B86: Comments regarding disintegration, e.g. turbidity colour, foaming
B90: Coarse screening
B91: input weight (oven-dry) | C91: g | D91: 50
B92: photographic documentation - coarse screening | C92: reminder
B93: coarse reject weight (oven-dry) | C93: g
B94: coarse reject | C94: % | D94: =D93/D91 -> 0
B95: accept coarse screening weight (oven-dry) | C95: g | D95: =D91-D93 -> 50 | E95: input weight' minus 'coarse reject weight'
B96: coarse reject (related to total product) | C96: % | D96: =D94*(1-D64) -> 0
B97: Coarse reject (incl. dry removed components) | C97: % | D97: =D96+G62 -> 0
B98: Coarse reject characterisation | C98: link | D98: Click to go to reject charaterisation tree
B100: Stock concentration (accept coarse screening)
B101: input weight (oven-dry) | C101: g
B102: stock concentration | C102: %
B104: Sheet forming (accept coarse screening)
B105: weight of sheet AC1 (oven-dry) (optional) | C105: g
B106: weight of sheet AC2 (oven-dry) (optional) | C106: g
B107: weight of sheet AC3 (oven-dry) | C107: g
B108: weight of sheet AC4 (oven-dry) | C108: g
B110: 1st sheet adhesion test (accept coarse screening)
B111: sheet adhesion test (AC) | C111: list | F111: level 1 | G111: level 2 | H111: level 3
B112: description of level | C112: list | F112: absent | G112: partly present | H112: present
B113: 1st visual apperance test (accept coarse screening)
B114: visual impurities (AC) | C114: list | F114: level 1 | G114: level 2 | H114: level 3 | I114: level 4
B115: description of level (AC) | C115: list | F115: no issues | G115: minor issues | H115: some issues | I115: significant issues
B116: type of visual impurties (AC) | C116: text
B118: Fine screening (acc. TAPPI T275 sp18)
B119: input weight (air-dry) | C119: g
B120: input weight (oven-dry) | C120: g | D120: =D119*D102*0.01 -> 0 | E120: corrected after drying the consistency filter overnight in the oven
...

Sheet para
B1: Threshold | L1: Target | T1: Score | AD1: VI Score table | AG1: 90-100 | AH1: The method indicates that the packaging is expected not to pose any recyclability issues in the standard mill and is therefore considered Best in Class.
B2: CR1 | C2: CR2 | D2: FR1 | E2: FR2 | F2: Y1 | G2: Y2 | H2: Y3 | I2: VI | J2: SA | L2: CR | M2: FR | N2: Y | Q2: VI | R2: SA | T2: CR1 | U2: CR2 | V2: FR1 | W2: FR2 | X2: Y1 | Y2: Y2 | Z2: Y3 | AB2: SA | AD2: Level | AE2: Score | AG2: 70-89 | AH2: The method indicates that the packaging has minor recyclability issues that could have limited impact on the recyclability in the standard mill.
AD3: 1 | AE3: 0 | AG3: 50-69 | AH3: The method indicates that the packaging has some recyclability issues that affect the process in the standard mill and should therefore not be abundant.
A4: Category 1 | F4: 95 | G4: 85 | H4: 80 | I4: 4 | J4: 2 | N4: 100 | Q4: 1 | R4: 1 | T4: 50 | V4: 45 | X4: 100 | Y4: 90 | Z4: 45 | AB4: 0 | AD4: 2 | AE4: -5 | AG4: 0-49 | AH4: The method indicates that the packaging has some significant recyclability issues that have a significant impact on the process in the standard mill and should therefore be avoided when possible.
AD5: 3 | AE5: -15 | AG5: negative | AH5: The method indicates that the packaging has major recyclability issues which could stop the process at a standard mill and therefore are not suitable for this mill. It is recommended to evaluate this product with either Part II or III.
AD6: 4 | AE6: -30
AG8: level 1 (0 points) | AH8: Poses no visual quality issues.
AG9: level 2 (-5 points) | AH9: Poses minor visual quality issues that can be acceptable in the mix.
AG10: level 3 (-15 points) | AH10: Poses some visual quality issues that can be acceptable in the mix for certain types of production.
AG11: level 4 (-30 points) | AH11: Poses significant visual quality issues that can be problematic in the mix. Sample is at risk of receiving a KO in future revisions of the Evaluation Protocol*
AG14: level 1 (0 points) | AH14: Poses no adhesion issues.
AG15: level 2 (0 points) | AH15: Poses minor adhesion issues.
AG16: level 3 (KO) | AH16: Poses significant adhesion issues that have a significant impact on the process in the standard mill .
A55: Current Category | B55: Category 1 | AC55: check
A56: Current Parameters | B56: =SUMIF($A$4:$A$8,B55,B4:B8) -> 0 | C56: =SUMIF($A$4:$A$8,B55,C4:C8) -> 0 | D56: =SUMIF($A$4:$A$8,B55,D4:D8) -> 0 | E56: =SUMIF($A$4:$A$8,B55,E4:E8) -> 0 | F56: =SUMIF($A$4:$A$8,B55,F4:F8) -> 95 | G56: =SUMIF($A$4:$A$8,B55,G4:G8) -> 85 | H56: =SUMIF($A$4:$A$8,B55,H4:H8) -> 80 | I56: =SUMIF($A$4:$A$8,B55,I4:I8) -> 4 | J56: =SUMIF($A$4:$A$8,B55,J4:J8) -> 2 | L56: =SUMIF($A$4:$A$8,B55,L4:L8) -> 0 | M56: =SUMIF($A$4:$A$8,B55,M4:M8) -> 0 | N56: =SUMIF($A$4:$A$8,B55,N4:N8) -> 100 | O56: =SUMIF($A$4:$A$8,B55,O4:O8) -> 0 | P56: =SUMIF($A$4:$A$8,B55,P4:P8) -> 0 | Q56: =SUMIF($A$4:$A$8,B55,Q4:Q8) -> 1 | R56: =SUMIF($A$4:$A$8,B55,R4:R8) -> 1 | T56: =SUMIF($A$4:$A$8,B55,T4:T8) -> 50 | U56: =SUMIF($A$4:$A$8,B55,U4:U8) -> 0 | V56: =SUMIF($A$4:$A$8,B55,V4:V8) -> 45 | W56: =SUMIF($A$4:$A$8,B55,W4:W8) -> 0 | X56: =SUMIF($A$4:$A$8,B55,X4:X8) -> 100 | Y56: =SUMIF($A$4:$A$8,B55,Y4:Y8) -> 90 | Z56: =SUMIF($A$4:$A$8,B55,Z4:Z8) -> 45 | AB56: =SUMIF($A$4:$A$8,Test,AB4:AB8) -> 0 | AC56: =SUM(T56:AB56)-U56-W56 -> 330
B58: CR | C58: FR | D58: Yield | G58: VI | H58: SA | I58: Total
A59: Current Results | B59: =#REF! -> #REF! | C59: =#REF! -> #REF! | D59: =(100-($B$59+2*$C$59*($V$4/$X$4))) -> #REF! | G59: =#REF! -> #REF! | H59: =#REF! -> #REF! | M59: *correction factor calculation: | P59: "= 2* (FR points) / (max Y score))
A60: Current Scores Raw* | D60: =IF($D$59>=$F$56,($X$56-$Y$56)/(100-$F$56)*$D$59+$X$56-($X$56-$Y$56)/(100-$F$56)*100,IF($D$59>=$G$56,($Y$56-$Z$56)/($F$56-$G$56)*$D$59+$Y$56-($Y$56-$Z$56)/($F$56-$G$56)*$F$56,($Z$56)/($G$56-$H$56)*$D$59+$Z$56-($Z$56)/($G$56-$H$56)*$G$56)) -> #REF! | G60: =VLOOKUP(G59,AD3:AE6,2) -> #REF! | H60: =IF(H59>J56,"KO",0) -> #REF! | I60: =IF(H60="KO",MIN(-1,SUM(B60:G60)),SUM(B60:H60)) -> #REF!
A61: Current Scores Refined* | D61: =ROUND(IF(D60>X56,X56,IF(D60<-X56,-X56,D60)),0) -> #REF! | G61: =G60 -> #REF! | H61: =H60 -> #REF! | I61: =IF(H61="KO",MIN(-1,MAX(-100,SUM(B61:G61))),MAX(-100,SUM(B61:H61))) -> #REF! | J61: =HLOOKUP(I61,B64:F65,2) -> #REF!
A64: Assessment | B64: -100 | C64: 0 | D64: 51 | E64: 71 | F64: 91
B65: not suitable for Standard Mill | C65: Scoring… | D65: Scoring… | E65: Scoring… | F65: Scoring…
K69: Datapoint | L69: =100-D59 -> #REF! | M69: =D60 -> #REF! | N69: =G59 -> #REF! | O69: =G60 -> #REF!
A73: The index letter P stands for one of the parameters | K73: Proposal 1 | M73: x
A74: DSP is the Deinkability Score of the parameter P | M74: 0 | N74: 1 | O74: 2 | P74: 3 | Q74: 4 | R74: 5 | S74: 6 | T74: 7 | U74: 8 | V74: 9 | W74: 10 | X74: 11 | Y74: 12 | Z74: 13 | AA74: 14 | AB74: 15 | AC74: 16 | AD74: 17 | AE74: 18 | AF74: 19 | AG74: 20 | AH74: 21
A75: RP is the result of the parameter P | K75: y | L75: 0 | M75: =MAX(IF((100-(2*M$74*($T$4/$X$4)+2*$L75*($V$4/$X$4)))>=$F$56,($X$56-$Y$56)/(100-$F$56)*(100-(2*M$74*($T$4/$X$4)+2*$L75*($V$4/$X$4)))+$X$56-($X$56-$Y$56)/(100-$F$56)*100,IF((100-(2*M$74*($T$4/$X$4)+2*$L75*($V$4/$X$4)))>=$G$56,($Y$56-$Z$56)/($F$56-$G$56)*(100-(2*M$74*($T$4/$X$4)+2*$L75*($V$4/$X$4)))+$Y$56-($Y$56-$Z$56)/($F$56-$G$56)*$F$56,($Z$56)/($G$56-$H$56)*(100-(2*M$74*($T$4/$X$4)+2*$L75*($V$4/$X$4)))+$Z$56-($Z$56)/($G$56-$H$56)*$G$56)),-1) -> 100 | N75: =MAX(IF((100-(2*N$74*($T$4/$X$4)+2*$L75*($V$4/$X$4)))>=$F$56,($X$56-$Y$56)/(100-$F$56)*(100-(2*N$74*($T$4/$X$4)+2*$L75*($V$4/$X$4)))+$X$56-($X$56-$Y$56)/(100-$F$56)*100,IF((100-(2*N$74*($T$4/$X$4)+2*$L75*($V$4/$X$4)))>=$G$56,($Y$56-$Z$56)/($F$56-$G$56)*(100-(2*N$74*($T$4/$X$4)+2*$L75*($V$4/$X$4)))+$Y$56-($Y$56-$Z$56)/($F$56-$G$56)*$F$56,($Z$56)/($G$56-$H$56)*(100-(2*N$74*($T$4/$X$4)+2*$L75*($V$4/$X$4)))+$Z$56-($Z$56)/($G$56-$H$56)*$G$56)),-1) -> 98 | O75: =MAX(IF((100-(2*O$74*($T$4/$X$4)+2*$L75*($V$4/$X$4)))>=$F$56,($X$56-$Y$56)/(100-$F$56)*(100-(2*O$74*($T$4/$X$4)+2*$L75*($V$4/$X$4)))+$X$56-($X$56-$Y$56)/(100-$F$56)*100,IF((100-(2*O$74*($T$4/$X$4)+2*$L75*($V$4/$X$4)))>=$G$56,($Y$56-$Z$56)/($F$56-$G$56)*(100-(2*O$74*($T$4/$X$4)+2*$L75*($V$4/$X$4)))+$Y$56-($Y$56-$Z$56)/($F$56-$G$56)*$F$56,($Z$56)/($G$56-$H$56)*(100-(2*O$74*($T$4/$X$4)+2*$L75*($V$4/$X$4)))+$Z$56-($Z$56)/($G$56-$H$56)*$G$56)),-1) -> 96 | P75: =MAX(IF((100-(2*P$74*($T$4/$X$4)+2*$L75*($V$4/$X$4)))>=$F$56,($X$56-$Y$56)/(100-$F$56)*(100-(2*P$74*($T$4/$X$4)+2*$L75*($V$4/$X$4)))+$X$56-($X$56-$Y$56)/(100-$F$56)*100,IF((100-(2*P$74*($T$4/$X$4)+2*$L75*($V$4/$X$4)))>=$G$56,($Y$56-$Z$56)/($F$56-$G$56)*(100-(2*P$74*($T$4/$X$4)+2*$L75*($V$4/$X$4)))+$Y$56-($Y$56-$Z$56)/($F$56-$G$56)*$F$56,($Z$56)/($G$56-$H$56)*(100-(2*P$74*($T$4/$X$4)+2*$L75*($V$4/$X$4)))+$Z$56-($Z$56)/($G$56-$H$56)*$G$56)),-1) -> 94 | Q75: =MAX(IF((100-(2*Q$74*($T$4/$X$4)+2*$L75*($V$4/$X$4)))>=$F$56,($X$56-$Y$56)/(100-$F$56)*(100-(2*Q$74*($T$4/$X$4)+2*$L75*($V$4/$X$4)))+$X$56-($X$56-$Y$56)/(100-$F$56)*100,IF((100-(2*Q$74*($T$4/$X$4)+2*$L75*($V$4/$X$4)))>=$G$56,($Y$56-$Z$56)/($F$56-$G$56)*(100-(2*Q$74*($T$4/$X$4)+2*$L75*($V$4/$X$4)))+$Y$56-($Y$56-$Z$56)/($F$56-$G$56)*$F$56,($Z$56)/($G$56-$H$56)*(100-(2*Q$74*($T$4/$X$4)+2*$L75*($V$4/$X$4)))+$Z$56-($Z$56)/($G$56-$H$56)*$G$56)),-1) -> 92 | R75: =MAX(IF((100-(2*R$74*($T$4/$X$4)+2*$L75*($V$4/$X$4)))>=$F$56,($X$56-$Y$56)/(100-$F$56)*(100-(2*R$74*($T$4/$X$4)+2*$L75*($V$4/$X$4)))+$X$56-($X$56-$Y$56)/(100-$F$56)*100,IF((100-(2*R$74*($T$4/$X$4)+2*$L75*($V$4/$X$4)))>=$G$56,($Y$56-$Z$56)/($F$56-$G$56)*(100-(2*R$74*($T$4/$X$4)+2*$L75*($V$4/$X$4)))+$Y$56-($Y$56-$Z$56)/($F$56-$G$56)*$F$56,($Z$56)/($G$56-$H$56)*(100-(2*R$74*($T$4/$X$4)+2*$L75*($V$4/$X$4)))+$Z$56-($Z$56)/($G$56-$H$56)*$G$56)),-1) -> 90 | S75: =MAX(IF((100-(2*S$74*($T$4/$X$4)+2*$L75*($V$4/$X$4)))>=$F$56,($X$56-$Y$56)/(100-$F$56)*(100-(2*S$74*($T$4/$X$4)+2*$L75*($V$4/$X$4)))+$X$56-($X$56-$Y$56)/(100-$F$56)*100,IF((100-(2*S$74*($T$4/$X$4)+2*$L75*($V$4/$X$4)))>=$G$56,($Y$56-$Z$56)/($F$56-$G$56)*(100-(2*S$74*($T$4/$X$4)+2*$L75*($V$4/$X$4)))+$Y$56-($Y$56-$Z$56)/($F$56-$G$56)*$F$56,($Z$56)/($G$56-$H$56)*(100-(2*S$74*($T$4/$X$4)+2*$L75*($V$4/$X$4)))+$Z$56-($Z$56)/($G$56-$H$56)*$G$56)),-1) -> 85.5 | T75: =MAX(IF((100-(2*T$74*($T$4/$X$4)+2*$L75*($V$4/$X$4)))>=$F$56,($X$56-$Y$56)/(100-$F$56)*(100-(2*T$74*($T$4/$X$4)+2*$L75*($V$4/$X$4)))+$X$56-($X$56-$Y$56)/(100-$F$56)*100,IF((100-(2*T$74*($T$4/$X$4)+2*$L75*($V$4/$X$4)))>=$G$56,($Y$56-$Z$56)/($F$56-$G$56)*(100-(2*T$74*($T$4/$X$4)+2*$L75*($V$4/$X$4)))+$Y$56-($Y$56-$Z$56)/($F$56-$G$56)*$F$56,($Z$56)/($G$56-$H$56)*(100-(2*T$74*($T$4/$X$4)+2*$L75*($V$4/$X$4)))+$Z$56-($Z$56)/($G$56-$H$56)*$G$56)),-1) -> 81 | ... AH75: =MAX(IF((100-(2*AH$74*($T$4/$X$4)+2*$L75*($V$4/$X$4)))>=$F$56,($X$56-$Y$56)/(100-$F$56)*(100-(2*AH$74*($T$4/$X$4)+2*$L75*($V$4/$X$4)))+$X$56-($X$56-$Y$56)/(100-$F$56)*100,IF((100-(2*AH$74*($T$4/$X$4)+2*$L75*($V$4/$X$4)))>=$G$56,($Y$56-$Z$56)/($F$56-$G$56)*(100-(2*AH$74*($T$4/$X$4)+2*$L75*($V$4/$X$4)))+$Y$56-($Y$56-$Z$56)/($F$56-$G$56)*$F$56,($Z$56)/($G$56-$H$56)*(100-(2*AH$74*($T$4/$X$4)+2*$L75*($V$4/$X$4)))+$Z$56-($Z$56)/($G$56-$H$56)*$G$56)),-1) -> -1
A76: THP is the threshold value of the parameter P | L76: 1 | M76: =MAX(IF((100-(2*M$74*($T$4/$X$4)+2*$L76*($V$4/$X$4)))>=$F$56,($X$56-$Y$56)/(100-$F$56)*(100-(2*M$74*($T$4/$X$4)+2*$L76*($V$4/$X$4)))+$X$56-($X$56-$Y$56)/(100-$F$56)*100,IF((100-(2*M$74*($T$4/$X$4)+2*$L76*($V$4/$X$4)))>=$G$56,($Y$56-$Z$56)/($F$56-$G$56)*(100-(2*M$74*($T$4/$X$4)+2*$L76*($V$4/$X$4)))+$Y$56-($Y$56-$Z$56)/($F$56-$G$56)*$F$56,($Z$56)/($G$56-$H$56)*(100-(2*M$74*($T$4/$X$4)+2*$L76*($V$4/$X$4)))+$Z$56-($Z$56)/($G$56-$H$56)*$G$56)),-1) -> 98.2 | N76: =MAX(IF((100-(2*N$74*($T$4/$X$4)+2*$L76*($V$4/$X$4)))>=$F$56,($X$56-$Y$56)/(100-$F$56)*(100-(2*N$74*($T$4/$X$4)+2*$L76*($V$4/$X$4)))+$X$56-($X$56-$Y$56)/(100-$F$56)*100,IF((100-(2*N$74*($T$4/$X$4)+2*$L76*($V$4/$X$4)))>=$G$56,($Y$56-$Z$56)/($F$56-$G$56)*(100-(2*N$74*($T$4/$X$4)+2*$L76*($V$4/$X$4)))+$Y$56-($Y$56-$Z$56)/($F$56-$G$56)*$F$56,($Z$56)/($G$56-$H$56)*(100-(2*N$74*($T$4/$X$4)+2*$L76*($V$4/$X$4)))+$Z$56-($Z$56)/($G$56-$H$56)*$G$56)),-1) -> 96.2 | O76: =MAX(IF((100-(2*O$74*($T$4/$X$4)+2*$L76*($V$4/$X$4)))>=$F$56,($X$56-$Y$56)/(100-$F$56)*(100-(2*O$74*($T$4/$X$4)+2*$L76*($V$4/$X$4)))+$X$56-($X$56-$Y$56)/(100-$F$56)*100,IF((100-(2*O$74*($T$4/$X$4)+2*$L76*($V$4/$X$4)))>=$G$56,($Y$56-$Z$56)/($F$56-$G$56)*(100-(2*O$74*($T$4/$X$4)+2*$L76*($V$4/$X$4)))+$Y$56-($Y$56-$Z$56)/($F$56-$G$56)*$F$56,($Z$56)/($G$56-$H$56)*(100-(2*O$74*($T$4/$X$4)+2*$L76*($V$4/$X$4)))+$Z$56-($Z$56)/($G$56-$H$56)*$G$56)),-1) -> 94.2 | P76: =MAX(IF((100-(2*P$74*($T$4/$X$4)+2*$L76*($V$4/$X$4)))>=$F$56,($X$56-$Y$56)/(100-$F$56)*(100-(2*P$74*($T$4/$X$4)+2*$L76*($V$4/$X$4)))+$X$56-($X$56-$Y$56)/(100-$F$56)*100,IF((100-(2*P$74*($T$4/$X$4)+2*$L76*($V$4/$X$4)))>=$G$56,($Y$56-$Z$56)/($F$56-$G$56)*(100-(2*P$74*($T$4/$X$4)+2*$L76*($V$4/$X$4)))+$Y$56-($Y$56-$Z$56)/($F$56-$G$56)*$F$56,($Z$56)/($G$56-$H$56)*(100-(2*P$74*($T$4/$X$4)+2*$L76*($V$4/$X$4)))+$Z$56-($Z$56)/($G$56-$H$56)*$G$56)),-1) -> 92.2 | Q76: =MAX(IF((100-(2*Q$74*($T$4/$X$4)+2*$L76*($V$4/$X$4)))>=$F$56,($X$56-$Y$56)/(100-$F$56)*(100-(2*Q$74*($T$4/$X$4)+2*$L76*($V$4/$X$4)))+$X$56-($X$56-$Y$56)/(100-$F$56)*100,IF((100-(2*Q$74*($T$4/$X$4)+2*$L76*($V$4/$X$4)))>=$G$56,($Y$56-$Z$56)/($F$56-$G$56)*(100-(2*Q$74*($T$4/$X$4)+2*$L76*($V$4/$X$4)))+$Y$56-($Y$56-$Z$56)/($F$56-$G$56)*$F$56,($Z$56)/($G$56-$H$56)*(100-(2*Q$74*($T$4/$X$4)+2*$L76*($V$4/$X$4)))+$Z$56-($Z$56)/($G$56-$H$56)*$G$56)),-1) -> 90.2 | R76: =MAX(IF((100-(2*R$74*($T$4/$X$4)+2*$L76*($V$4/$X$4)))>=$F$56,($X$56-$Y$56)/(100-$F$56)*(100-(2*R$74*($T$4/$X$4)+2*$L76*($V$4/$X$4)))+$X$56-($X$56-$Y$56)/(100-$F$56)*100,IF((100-(2*R$74*($T$4/$X$4)+2*$L76*($V$4/$X$4)))>=$G$56,($Y$56-$Z$56)/($F$56-$G$56)*(100-(2*R$74*($T$4/$X$4)+2*$L76*($V$4/$X$4)))+$Y$56-($Y$56-$Z$56)/($F$56-$G$56)*$F$56,($Z$56)/($G$56-$H$56)*(100-(2*R$74*($T$4/$X$4)+2*$L76*($V$4/$X$4)))+$Z$56-($Z$56)/($G$56-$H$56)*$G$56)),-1) -> 85.95 | S76: =MAX(IF((100-(2*S$74*($T$4/$X$4)+2*$L76*($V$4/$X$4)))>=$F$56,($X$56-$Y$56)/(100-$F$56)*(100-(2*S$74*($T$4/$X$4)+2*$L76*($V$4/$X$4)))+$X$56-($X$56-$Y$56)/(100-$F$56)*100,IF((100-(2*S$74*($T$4/$X$4)+2*$L76*($V$4/$X$4)))>=$G$56,($Y$56-$Z$56)/($F$56-$G$56)*(100-(2*S$74*($T$4/$X$4)+2*$L76*($V$4/$X$4)))+$Y$56-($Y$56-$Z$56)/($F$56-$G$56)*$F$56,($Z$56)/($G$56-$H$56)*(100-(2*S$74*($T$4/$X$4)+2*$L76*($V$4/$X$4)))+$Z$56-($Z$56)/($G$56-$H$56)*$G$56)),-1) -> 81.45 | T76: =MAX(IF((100-(2*T$74*($T$4/$X$4)+2*$L76*($V$4/$X$4)))>=$F$56,($X$56-$Y$56)/(100-$F$56)*(100-(2*T$74*($T$4/$X$4)+2*$L76*($V$4/$X$4)))+$X$56-($X$56-$Y$56)/(100-$F$56)*100,IF((100-(2*T$74*($T$4/$X$4)+2*$L76*($V$4/$X$4)))>=$G$56,($Y$56-$Z$56)/($F$56-$G$56)*(100-(2*T$74*($T$4/$X$4)+2*$L76*($V$4/$X$4)))+$Y$56-($Y$56-$Z$56)/($F$56-$G$56)*$F$56,($Z$56)/($G$56-$H$56)*(100-(2*T$74*($T$4/$X$4)+2*$L76*($V$4/$X$4)))+$Z$56-($Z$56)/($G$56-$H$56)*$G$56)),-1) -> 76.95 | ... AH76: =MAX(IF((100-(2*AH$74*($T$4/$X$4)+2*$L76*($V$4/$X$4)))>=$F$56,($X$56-$Y$56)/(100-$F$56)*(100-(2*AH$74*($T$4/$X$4)+2*$L76*($V$4/$X$4)))+$X$56-($X$56-$Y$56)/(100-$F$56)*100,IF((100-(2*AH$74*($T$4/$X$4)+2*$L76*($V$4/$X$4)))>=$G$56,($Y$56-$Z$56)/($F$56-$G$56)*(100-(2*AH$74*($T$4/$X$4)+2*$L76*($V$4/$X$4)))+$Y$56-($Y$56-$Z$56)/($F$56-$G$56)*$F$56,($Z$56)/($G$56-$H$56)*(100-(2*AH$74*($T$4/$X$4)+2*$L76*($V$4/$X$4)))+$Z$56-($Z$56)/($G$56-$H$56)*$G$56)),-1) -> -1
A77: TP is the target value of the parameter P | L77: 2 | M77: =MAX(IF((100-(2*M$74*($T$4/$X$4)+2*$L77*($V$4/$X$4)))>=$F$56,($X$56-$Y$56)/(100-$F$56)*(100-(2*M$74*($T$4/$X$4)+2*$L77*($V$4/$X$4)))+$X$56-($X$56-$Y$56)/(100-$F$56)*100,IF((100-(2*M$74*($T$4/$X$4)+2*$L77*($V$4/$X$4)))>=$G$56,($Y$56-$Z$56)/($F$56-$G$56)*(100-(2*M$74*($T$4/$X$4)+2*$L77*($V$4/$X$4)))+$Y$56-($Y$56-$Z$56)/($F$56-$G$56)*$F$56,($Z$56)/($G$56-$H$56)*(100-(2*M$74*($T$4/$X$4)+2*$L77*($V$4/$X$4)))+$Z$56-($Z$56)/($G$56-$H$56)*$G$56)),-1) -> 96.4 | N77: =MAX(IF((100-(2*N$74*($T$4/$X$4)+2*$L77*($V$4/$X$4)))>=$F$56,($X$56-$Y$56)/(100-$F$56)*(100-(2*N$74*($T$4/$X$4)+2*$L77*($V$4/$X$4)))+$X$56-($X$56-$Y$56)/(100-$F$56)*100,IF((100-(2*N$74*($T$4/$X$4)+2*$L77*($V$4/$X$4)))>=$G$56,($Y$56-$Z$56)/($F$56-$G$56)*(100-(2*N$74*($T$4/$X$4)+2*$L77*($V$4/$X$4)))+$Y$56-($Y$56-$Z$56)/($F$56-$G$56)*$F$56,($Z$56)/($G$56-$H$56)*(100-(2*N$74*($T$4/$X$4)+2*$L77*($V$4/$X$4)))+$Z$56-($Z$56)/($G$56-$H$56)*$G$56)),-1) -> 94.4 | O77: =MAX(IF((100-(2*O$74*($T$4/$X$4)+2*$L77*($V$4/$X$4)))>=$F$56,($X$56-$Y$56)/(100-$F$56)*(100-(2*O$74*($T$4/$X$4)+2*$L77*($V$4/$X$4)))+$X$56-($X$56-$Y$56)/(100-$F$56)*100,IF((100-(2*O$74*($T$4/$X$4)+2*$L77*($V$4/$X$4)))>=$G$56,($Y$56-$Z$56)/($F$56-$G$56)*(100-(2*O$74*($T$4/$X$4)+2*$L77*($V$4/$X$4)))+$Y$56-($Y$56-$Z$56)/($F$56-$G$56)*$F$56,($Z$56)/($G$56-$H$56)*(100-(2*O$74*($T$4/$X$4)+2*$L77*($V$4/$X$4)))+$Z$56-($Z$56)/($G$56-$H$56)*$G$56)),-1) -> 92.4 | P77: =MAX(IF((100-(2*P$74*($T$4/$X$4)+2*$L77*($V$4/$X$4)))>=$F$56,($X$56-$Y$56)/(100-$F$56)*(100-(2*P$74*($T$4/$X$4)+2*$L77*($V$4/$X$4)))+$X$56-($X$56-$Y$56)/(100-$F$56)*100,IF((100-(2*P$74*($T$4/$X$4)+2*$L77*($V$4/$X$4)))>=$G$56,($Y$56-$Z$56)/($F$56-$G$56)*(100-(2*P$74*($T$4/$X$4)+2*$L77*($V$4/$X$4)))+$Y$56-($Y$56-$Z$56)/($F$56-$G$56)*$F$56,($Z$56)/($G$56-$H$56)*(100-(2*P$74*($T$4/$X$4)+2*$L77*($V$4/$X$4)))+$Z$56-($Z$56)/($G$56-$H$56)*$G$56)),-1) -> 90.4 | Q77: =MAX(IF((100-(2*Q$74*($T$4/$X$4)+2*$L77*($V$4/$X$4)))>=$F$56,($X$56-$Y$56)/(100-$F$56)*(100-(2*Q$74*($T$4/$X$4)+2*$L77*($V$4/$X$4)))+$X$56-($X$56-$Y$56)/(100-$F$56)*100,IF((100-(2*Q$74*($T$4/$X$4)+2*$L77*($V$4/$X$4)))>=$G$56,($Y$56-$Z$56)/($F$56-$G$56)*(100-(2*Q$74*($T$4/$X$4)+2*$L77*($V$4/$X$4)))+$Y$56-($Y$56-$Z$56)/($F$56-$G$56)*$F$56,($Z$56)/($G$56-$H$56)*(100-(2*Q$74*($T$4/$X$4)+2*$L77*($V$4/$X$4)))+$Z$56-($Z$56)/($G$56-$H$56)*$G$56)),-1) -> 86.4 | R77: =MAX(IF((100-(2*R$74*($T$4/$X$4)+2*$L77*($V$4/$X$4)))>=$F$56,($X$56-$Y$56)/(100-$F$56)*(100-(2*R$74*($T$4/$X$4)+2*$L77*($V$4/$X$4)))+$X$56-($X$56-$Y$56)/(100-$F$56)*100,IF((100-(2*R$74*($T$4/$X$4)+2*$L77*($V$4/$X$4)))>=$G$56,($Y$56-$Z$56)/($F$56-$G$56)*(100-(2*R$74*($T$4/$X$4)+2*$L77*($V$4/$X$4)))+$Y$56-($Y$56-$Z$56)/($F$56-$G$56)*$F$56,($Z$56)/($G$56-$H$56)*(100-(2*R$74*($T$4/$X$4)+2*$L77*($V$4/$X$4)))+$Z$56-($Z$56)/($G$56-$H$56)*$G$56)),-1) -> 81.9 | S77: =MAX(IF((100-(2*S$74*($T$4/$X$4)+2*$L77*($V$4/$X$4)))>=$F$56,($X$56-$Y$56)/(100-$F$56)*(100-(2*S$74*($T$4/$X$4)+2*$L77*($V$4/$X$4)))+$X$56-($X$56-$Y$56)/(100-$F$56)*100,IF((100-(2*S$74*($T$4/$X$4)+2*$L77*($V$4/$X$4)))>=$G$56,($Y$56-$Z$56)/($F$56-$G$56)*(100-(2*S$74*($T$4/$X$4)+2*$L77*($V$4/$X$4)))+$Y$56-($Y$56-$Z$56)/($F$56-$G$56)*$F$56,($Z$56)/($G$56-$H$56)*(100-(2*S$74*($T$4/$X$4)+2*$L77*($V$4/$X$4)))+$Z$56-($Z$56)/($G$56-$H$56)*$G$56)),-1) -> 77.4 | T77: =MAX(IF((100-(2*T$74*($T$4/$X$4)+2*$L77*($V$4/$X$4)))>=$F$56,($X$56-$Y$56)/(100-$F$56)*(100-(2*T$74*($T$4/$X$4)+2*$L77*($V$4/$X$4)))+$X$56-($X$56-$Y$56)/(100-$F$56)*100,IF((100-(2*T$74*($T$4/$X$4)+2*$L77*($V$4/$X$4)))>=$G$56,($Y$56-$Z$56)/($F$56-$G$56)*(100-(2*T$74*($T$4/$X$4)+2*$L77*($V$4/$X$4)))+$Y$56-($Y$56-$Z$56)/($F$56-$G$56)*$F$56,($Z$56)/($G$56-$H$56)*(100-(2*T$74*($T$4/$X$4)+2*$L77*($V$4/$X$4)))+$Z$56-($Z$56)/($G$56-$H$56)*$G$56)),-1) -> 72.9 | ... AH77: =MAX(IF((100-(2*AH$74*($T$4/$X$4)+2*$L77*($V$4/$X$4)))>=$F$56,($X$56-$Y$56)/(100-$F$56)*(100-(2*AH$74*($T$4/$X$4)+2*$L77*($V$4/$X$4)))+$X$56-($X$56-$Y$56)/(100-$F$56)*100,IF((100-(2*AH$74*($T$4/$X$4)+2*$L77*($V$4/$X$4)))>=$G$56,($Y$56-$Z$56)/($F$56-$G$56)*(100-(2*AH$74*($T$4/$X$4)+2*$L77*($V$4/$X$4)))+$Y$56-($Y$56-$Z$56)/($F$56-$G$56)*$F$56,($Z$56)/($G$56-$H$56)*(100-(2*AH$74*($T$4/$X$4)+2*$L77*($V$4/$X$4)))+$Z$56-($Z$56)/($G$56-$H$56)*$G$56)),-1) -> -1
A78: MSP is the maximum score of the parameter P | L78: 3 | M78: =MAX(IF((100-(2*M$74*($T$4/$X$4)+2*$L78*($V$4/$X$4)))>=$F$56,($X$56-$Y$56)/(100-$F$56)*(100-(2*M$74*($T$4/$X$4)+2*$L78*($V$4/$X$4)))+$X$56-($X$56-$Y$56)/(100-$F$56)*100,IF((100-(2*M$74*($T$4/$X$4)+2*$L78*($V$4/$X$4)))>=$G$56,($Y$56-$Z$56)/($F$56-$G$56)*(100-(2*M$74*($T$4/$X$4)+2*$L78*($V$4/$X$4)))+$Y$56-($Y$56-$Z$56)/($F$56-$G$56)*$F$56,($Z$56)/($G$56-$H$56)*(100-(2*M$74*($T$4/$X$4)+2*$L78*($V$4/$X$4)))+$Z$56-($Z$56)/($G$56-$H$56)*$G$56)),-1) -> 94.6 | N78: =MAX(IF((100-(2*N$74*($T$4/$X$4)+2*$L78*($V$4/$X$4)))>=$F$56,($X$56-$Y$56)/(100-$F$56)*(100-(2*N$74*($T$4/$X$4)+2*$L78*($V$4/$X$4)))+$X$56-($X$56-$Y$56)/(100-$F$56)*100,IF((100-(2*N$74*($T$4/$X$4)+2*$L78*($V$4/$X$4)))>=$G$56,($Y$56-$Z$56)/($F$56-$G$56)*(100-(2*N$74*($T$4/$X$4)+2*$L78*($V$4/$X$4)))+$Y$56-($Y$56-$Z$56)/($F$56-$G$56)*$F$56,($Z$56)/($G$56-$H$56)*(100-(2*N$74*($T$4/$X$4)+2*$L78*($V$4/$X$4)))+$Z$56-($Z$56)/($G$56-$H$56)*$G$56)),-1) -> 92.6 | O78: =MAX(IF((100-(2*O$74*($T$4/$X$4)+2*$L78*($V$4/$X$4)))>=$F$56,($X$56-$Y$56)/(100-$F$56)*(100-(2*O$74*($T$4/$X$4)+2*$L78*($V$4/$X$4)))+$X$56-($X$56-$Y$56)/(100-$F$56)*100,IF((100-(2*O$74*($T$4/$X$4)+2*$L78*($V$4/$X$4)))>=$G$56,($Y$56-$Z$56)/($F$56-$G$56)*(100-(2*O$74*($T$4/$X$4)+2*$L78*($V$4/$X$4)))+$Y$56-($Y$56-$Z$56)/($F$56-$G$56)*$F$56,($Z$56)/($G$56-$H$56)*(100-(2*O$74*($T$4/$X$4)+2*$L78*($V$4/$X$4)))+$Z$56-($Z$56)/($G$56-$H$56)*$G$56)),-1) -> 90.6 | P78: =MAX(IF((100-(2*P$74*($T$4/$X$4)+2*$L78*($V$4/$X$4)))>=$F$56,($X$56-$Y$56)/(100-$F$56)*(100-(2*P$74*($T$4/$X$4)+2*$L78*($V$4/$X$4)))+$X$56-($X$56-$Y$56)/(100-$F$56)*100,IF((100-(2*P$74*($T$4/$X$4)+2*$L78*($V$4/$X$4)))>=$G$56,($Y$56-$Z$56)/($F$56-$G$56)*(100-(2*P$74*($T$4/$X$4)+2*$L78*($V$4/$X$4)))+$Y$56-($Y$56-$Z$56)/($F$56-$G$56)*$F$56,($Z$56)/($G$56-$H$56)*(100-(2*P$74*($T$4/$X$4)+2*$L78*($V$4/$X$4)))+$Z$56-($Z$56)/($G$56-$H$56)*$G$56)),-1) -> 86.85 | Q78: =MAX(IF((100-(2*Q$74*($T$4/$X$4)+2*$L78*($V$4/$X$4)))>=$F$56,($X$56-$Y$56)/(100-$F$56)*(100-(2*Q$74*($T$4/$X$4)+2*$L78*($V$4/$X$4)))+$X$56-($X$56-$Y$56)/(100-$F$56)*100,IF((100-(2*Q$74*($T$4/$X$4)+2*$L78*($V$4/$X$4)))>=$G$56,($Y$56-$Z$56)/($F$56-$G$56)*(100-(2*Q$74*($T$4/$X$4)+2*$L78*($V$4/$X$4)))+$Y$56-($Y$56-$Z$56)/($F$56-$G$56)*$F$56,($Z$56)/($G$56-$H$56)*(100-(2*Q$74*($T$4/$X$4)+2*$L78*($V$4/$X$4)))+$Z$56-($Z$56)/($G$56-$H$56)*$G$56)),-1) -> 82.35 | R78: =MAX(IF((100-(2*R$74*($T$4/$X$4)+2*$L78*($V$4/$X$4)))>=$F$56,($X$56-$Y$56)/(100-$F$56)*(100-(2*R$74*($T$4/$X$4)+2*$L78*($V$4/$X$4)))+$X$56-($X$56-$Y$56)/(100-$F$56)*100,IF((100-(2*R$74*($T$4/$X$4)+2*$L78*($V$4/$X$4)))>=$G$56,($Y$56-$Z$56)/($F$56-$G$56)*(100-(2*R$74*($T$4/$X$4)+2*$L78*($V$4/$X$4)))+$Y$56-($Y$56-$Z$56)/($F$56-$G$56)*$F$56,($Z$56)/($G$56-$H$56)*(100-(2*R$74*($T$4/$X$4)+2*$L78*($V$4/$X$4)))+$Z$56-($Z$56)/($G$56-$H$56)*$G$56)),-1) -> 77.85 | S78: =MAX(IF((100-(2*S$74*($T$4/$X$4)+2*$L78*($V$4/$X$4)))>=$F$56,($X$56-$Y$56)/(100-$F$56)*(100-(2*S$74*($T$4/$X$4)+2*$L78*($V$4/$X$4)))+$X$56-($X$56-$Y$56)/(100-$F$56)*100,IF((100-(2*S$74*($T$4/$X$4)+2*$L78*($V$4/$X$4)))>=$G$56,($Y$56-$Z$56)/($F$56-$G$56)*(100-(2*S$74*($T$4/$X$4)+2*$L78*($V$4/$X$4)))+$Y$56-($Y$56-$Z$56)/($F$56-$G$56)*$F$56,($Z$56)/($G$56-$H$56)*(100-(2*S$74*($T$4/$X$4)+2*$L78*($V$4/$X$4)))+$Z$56-($Z$56)/($G$56-$H$56)*$G$56)),-1) -> 73.35 | T78: =MAX(IF((100-(2*T$74*($T$4/$X$4)+2*$L78*($V$4/$X$4)))>=$F$56,($X$56-$Y$56)/(100-$F$56)*(100-(2*T$74*($T$4/$X$4)+2*$L78*($V$4/$X$4)))+$X$56-($X$56-$Y$56)/(100-$F$56)*100,IF((100-(2*T$74*($T$4/$X$4)+2*$L78*($V$4/$X$4)))>=$G$56,($Y$56-$Z$56)/($F$56-$G$56)*(100-(2*T$74*($T$4/$X$4)+2*$L78*($V$4/$X$4)))+$Y$56-($Y$56-$Z$56)/($F$56-$G$56)*$F$56,($Z$56)/($G$56-$H$56)*(100-(2*T$74*($T$4/$X$4)+2*$L78*($V$4/$X$4)))+$Z$56-($Z$56)/($G$56-$H$56)*$G$56)),-1) -> 68.85 | ... AH78: =MAX(IF((100-(2*AH$74*($T$4/$X$4)+2*$L78*($V$4/$X$4)))>=$F$56,($X$56-$Y$56)/(100-$F$56)*(100-(2*AH$74*($T$4/$X$4)+2*$L78*($V$4/$X$4)))+$X$56-($X$56-$Y$56)/(100-$F$56)*100,IF((100-(2*AH$74*($T$4/$X$4)+2*$L78*($V$4/$X$4)))>=$G$56,($Y$56-$Z$56)/($F$56-$G$56)*(100-(2*AH$74*($T$4/$X$4)+2*$L78*($V$4/$X$4)))+$Y$56-($Y$56-$Z$56)/($F$56-$G$56)*$F$56,($Z$56)/($G$56-$H$56)*(100-(2*AH$74*($T$4/$X$4)+2*$L78*($V$4/$X$4)))+$Z$56-($Z$56)/($G$56-$H$56)*$G$56)),-1) -> -1
L79: 4 | M79: =MAX(IF((100-(2*M$74*($T$4/$X$4)+2*$L79*($V$4/$X$4)))>=$F$56,($X$56-$Y$56)/(100-$F$56)*(100-(2*M$74*($T$4/$X$4)+2*$L79*($V$4/$X$4)))+$X$56-($X$56-$Y$56)/(100-$F$56)*100,IF((100-(2*M$74*($T$4/$X$4)+2*$L79*($V$4/$X$4)))>=$G$56,($Y$56-$Z$56)/($F$56-$G$56)*(100-(2*M$74*($T$4/$X$4)+2*$L79*($V$4/$X$4)))+$Y$56-($Y$56-$Z$56)/($F$56-$G$56)*$F$56,($Z$56)/($G$56-$H$56)*(100-(2*M$74*($T$4/$X$4)+2*$L79*($V$4/$X$4)))+$Z$56-($Z$56)/($G$56-$H$56)*$G$56)),-1) -> 92.8 | N79: =MAX(IF((100-(2*N$74*($T$4/$X$4)+2*$L79*($V$4/$X$4)))>=$F$56,($X$56-$Y$56)/(100-$F$56)*(100-(2*N$74*($T$4/$X$4)+2*$L79*($V$4/$X$4)))+$X$56-($X$56-$Y$56)/(100-$F$56)*100,IF((100-(2*N$74*($T$4/$X$4)+2*$L79*($V$4/$X$4)))>=$G$56,($Y$56-$Z$56)/($F$56-$G$56)*(100-(2*N$74*($T$4/$X$4)+2*$L79*($V$4/$X$4)))+$Y$56-($Y$56-$Z$56)/($F$56-$G$56)*$F$56,($Z$56)/($G$56-$H$56)*(100-(2*N$74*($T$4/$X$4)+2*$L79*($V$4/$X$4)))+$Z$56-($Z$56)/($G$56-$H$56)*$G$56)),-1) -> 90.8 | O79: =MAX(IF((100-(2*O$74*($T$4/$X$4)+2*$L79*($V$4/$X$4)))>=$F$56,($X$56-$Y$56)/(100-$F$56)*(100-(2*O$74*($T$4/$X$4)+2*$L79*($V$4/$X$4)))+$X$56-($X$56-$Y$56)/(100-$F$56)*100,IF((100-(2*O$74*($T$4/$X$4)+2*$L79*($V$4/$X$4)))>=$G$56,($Y$56-$Z$56)/($F$56-$G$56)*(100-(2*O$74*($T$4/$X$4)+2*$L79*($V$4/$X$4)))+$Y$56-($Y$56-$Z$56)/($F$56-$G$56)*$F$56,($Z$56)/($G$56-$H$56)*(100-(2*O$74*($T$4/$X$4)+2*$L79*($V$4/$X$4)))+$Z$56-($Z$56)/($G$56-$H$56)*$G$56)),-1) -> 87.3 | P79: =MAX(IF((100-(2*P$74*($T$4/$X$4)+2*$L79*($V$4/$X$4)))>=$F$56,($X$56-$Y$56)/(100-$F$56)*(100-(2*P$74*($T$4/$X$4)+2*$L79*($V$4/$X$4)))+$X$56-($X$56-$Y$56)/(100-$F$56)*100,IF((100-(2*P$74*($T$4/$X$4)+2*$L79*($V$4/$X$4)))>=$G$56,($Y$56-$Z$56)/($F$56-$G$56)*(100-(2*P$74*($T$4/$X$4)+2*$L79*($V$4/$X$4)))+$Y$56-($Y$56-$Z$56)/($F$56-$G$56)*$F$56,($Z$56)/($G$56-$H$56)*(100-(2*P$74*($T$4/$X$4)+2*$L79*($V$4/$X$4)))+$Z$56-($Z$56)/($G$56-$H$56)*$G$56)),-1) -> 82.8 | Q79: =MAX(IF((100-(2*Q$74*($T$4/$X$4)+2*$L79*($V$4/$X$4)))>=$F$56,($X$56-$Y$56)/(100-$F$56)*(100-(2*Q$74*($T$4/$X$4)+2*$L79*($V$4/$X$4)))+$X$56-($X$56-$Y$56)/(100-$F$56)*100,IF((100-(2*Q$74*($T$4/$X$4)+2*$L79*($V$4/$X$4)))>=$G$56,($Y$56-$Z$56)/($F$56-$G$56)*(100-(2*Q$74*($T$4/$X$4)+2*$L79*($V$4/$X$4)))+$Y$56-($Y$56-$Z$56)/($F$56-$G$56)*$F$56,($Z$56)/($G$56-$H$56)*(100-(2*Q$74*($T$4/$X$4)+2*$L79*($V$4/$X$4)))+$Z$56-($Z$56)/($G$56-$H$56)*$G$56)),-1) -> 78.3 | R79: =MAX(IF((100-(2*R$74*($T$4/$X$4)+2*$L79*($V$4/$X$4)))>=$F$56,($X$56-$Y$56)/(100-$F$56)*(100-(2*R$74*($T$4/$X$4)+2*$L79*($V$4/$X$4)))+$X$56-($X$56-$Y$56)/(100-$F$56)*100,IF((100-(2*R$74*($T$4/$X$4)+2*$L79*($V$4/$X$4)))>=$G$56,($Y$56-$Z$56)/($F$56-$G$56)*(100-(2*R$74*($T$4/$X$4)+2*$L79*($V$4/$X$4)))+$Y$56-($Y$56-$Z$56)/($F$56-$G$56)*$F$56,($Z$56)/($G$56-$H$56)*(100-(2*R$74*($T$4/$X$4)+2*$L79*($V$4/$X$4)))+$Z$56-($Z$56)/($G$56-$H$56)*$G$56)),-1) -> 73.8 | S79: =MAX(IF((100-(2*S$74*($T$4/$X$4)+2*$L79*($V$4/$X$4)))>=$F$56,($X$56-$Y$56)/(100-$F$56)*(100-(2*S$74*($T$4/$X$4)+2*$L79*($V$4/$X$4)))+$X$56-($X$56-$Y$56)/(100-$F$56)*100,IF((100-(2*S$74*($T$4/$X$4)+2*$L79*($V$4/$X$4)))>=$G$56,($Y$56-$Z$56)/($F$56-$G$56)*(100-(2*S$74*($T$4/$X$4)+2*$L79*($V$4/$X$4)))+$Y$56-($Y$56-$Z$56)/($F$56-$G$56)*$F$56,($Z$56)/($G$56-$H$56)*(100-(2*S$74*($T$4/$X$4)+2*$L79*($V$4/$X$4)))+$Z$56-($Z$56)/($G$56-$H$56)*$G$56)),-1) -> 69.3 | T79: =MAX(IF((100-(2*T$74*($T$4/$X$4)+2*$L79*($V$4/$X$4)))>=$F$56,($X$56-$Y$56)/(100-$F$56)*(100-(2*T$74*($T$4/$X$4)+2*$L79*($V$4/$X$4)))+$X$56-($X$56-$Y$56)/(100-$F$56)*100,IF((100-(2*T$74*($T$4/$X$4)+2*$L79*($V$4/$X$4)))>=$G$56,($Y$56-$Z$56)/($F$56-$G$56)*(100-(2*T$74*($T$4/$X$4)+2*$L79*($V$4/$X$4)))+$Y$56-($Y$56-$Z$56)/($F$56-$G$56)*$F$56,($Z$56)/($G$56-$H$56)*(100-(2*T$74*($T$4/$X$4)+2*$L79*($V$4/$X$4)))+$Z$56-($Z$56)/($G$56-$H$56)*$G$56)),-1) -> 64.8 | ... AH79: =MAX(IF((100-(2*AH$74*($T$4/$X$4)+2*$L79*($V$4/$X$4)))>=$F$56,($X$56-$Y$56)/(100-$F$56)*(100-(2*AH$74*($T$4/$X$4)+2*$L79*($V$4/$X$4)))+$X$56-($X$56-$Y$56)/(100-$F$56)*100,IF((100-(2*AH$74*($T$4/$X$4)+2*$L79*($V$4/$X$4)))>=$G$56,($Y$56-$Z$56)/($F$56-$G$56)*(100-(2*AH$74*($T$4/$X$4)+2*$L79*($V$4/$X$4)))+$Y$56-($Y$56-$Z$56)/($F$56-$G$56)*$F$56,($Z$56)/($G$56-$H$56)*(100-(2*AH$74*($T$4/$X$4)+2*$L79*($V$4/$X$4)))+$Z$56-($Z$56)/($G$56-$H$56)*$G$56)),-1) -> -1
L80: 5 | M80: =MAX(IF((100-(2*M$74*($T$4/$X$4)+2*$L80*($V$4/$X$4)))>=$F$56,($X$56-$Y$56)/(100-$F$56)*(100-(2*M$74*($T$4/$X$4)+2*$L80*($V$4/$X$4)))+$X$56-($X$56-$Y$56)/(100-$F$56)*100,IF((100-(2*M$74*($T$4/$X$4)+2*$L80*($V$4/$X$4)))>=$G$56,($Y$56-$Z$56)/($F$56-$G$56)*(100-(2*M$74*($T$4/$X$4)+2*$L80*($V$4/$X$4)))+$Y$56-($Y$56-$Z$56)/($F$56-$G$56)*$F$56,($Z$56)/($G$56-$H$56)*(100-(2*M$74*($T$4/$X$4)+2*$L80*($V$4/$X$4)))+$Z$56-($Z$56)/($G$56-$H$56)*$G$56)),-1) -> 91 | N80: =MAX(IF((100-(2*N$74*($T$4/$X$4)+2*$L80*($V$4/$X$4)))>=$F$56,($X$56-$Y$56)/(100-$F$56)*(100-(2*N$74*($T$4/$X$4)+2*$L80*($V$4/$X$4)))+$X$56-($X$56-$Y$56)/(100-$F$56)*100,IF((100-(2*N$74*($T$4/$X$4)+2*$L80*($V$4/$X$4)))>=$G$56,($Y$56-$Z$56)/($F$56-$G$56)*(100-(2*N$74*($T$4/$X$4)+2*$L80*($V$4/$X$4)))+$Y$56-($Y$56-$Z$56)/($F$56-$G$56)*$F$56,($Z$56)/($G$56-$H$56)*(100-(2*N$74*($T$4/$X$4)+2*$L80*($V$4/$X$4)))+$Z$56-($Z$56)/($G$56-$H$56)*$G$56)),-1) -> 87.75 | O80: =MAX(IF((100-(2*O$74*($T$4/$X$4)+2*$L80*($V$4/$X$4)))>=$F$56,($X$56-$Y$56)/(100-$F$56)*(100-(2*O$74*($T$4/$X$4)+2*$L80*($V$4/$X$4)))+$X$56-($X$56-$Y$56)/(100-$F$56)*100,IF((100-(2*O$74*($T$4/$X$4)+2*$L80*($V$4/$X$4)))>=$G$56,($Y$56-$Z$56)/($F$56-$G$56)*(100-(2*O$74*($T$4/$X$4)+2*$L80*($V$4/$X$4)))+$Y$56-($Y$56-$Z$56)/($F$56-$G$56)*$F$56,($Z$56)/($G$56-$H$56)*(100-(2*O$74*($T$4/$X$4)+2*$L80*($V$4/$X$4)))+$Z$56-($Z$56)/($G$56-$H$56)*$G$56)),-1) -> 83.25 | P80: =MAX(IF((100-(2*P$74*($T$4/$X$4)+2*$L80*($V$4/$X$4)))>=$F$56,($X$56-$Y$56)/(100-$F$56)*(100-(2*P$74*($T$4/$X$4)+2*$L80*($V$4/$X$4)))+$X$56-($X$56-$Y$56)/(100-$F$56)*100,IF((100-(2*P$74*($T$4/$X$4)+2*$L80*($V$4/$X$4)))>=$G$56,($Y$56-$Z$56)/($F$56-$G$56)*(100-(2*P$74*($T$4/$X$4)+2*$L80*($V$4/$X$4)))+$Y$56-($Y$56-$Z$56)/($F$56-$G$56)*$F$56,($Z$56)/($G$56-$H$56)*(100-(2*P$74*($T$4/$X$4)+2*$L80*($V$4/$X$4)))+$Z$56-($Z$56)/($G$56-$H$56)*$G$56)),-1) -> 78.75 | Q80: =MAX(IF((100-(2*Q$74*($T$4/$X$4)+2*$L80*($V$4/$X$4)))>=$F$56,($X$56-$Y$56)/(100-$F$56)*(100-(2*Q$74*($T$4/$X$4)+2*$L80*($V$4/$X$4)))+$X$56-($X$56-$Y$56)/(100-$F$56)*100,IF((100-(2*Q$74*($T$4/$X$4)+2*$L80*($V$4/$X$4)))>=$G$56,($Y$56-$Z$56)/($F$56-$G$56)*(100-(2*Q$74*($T$4/$X$4)+2*$L80*($V$4/$X$4)))+$Y$56-($Y$56-$Z$56)/($F$56-$G$56)*$F$56,($Z$56)/($G$56-$H$56)*(100-(2*Q$74*($T$4/$X$4)+2*$L80*($V$4/$X$4)))+$Z$56-($Z$56)/($G$56-$H$56)*$G$56)),-1) -> 74.25 | R80: =MAX(IF((100-(2*R$74*($T$4/$X$4)+2*$L80*($V$4/$X$4)))>=$F$56,($X$56-$Y$56)/(100-$F$56)*(100-(2*R$74*($T$4/$X$4)+2*$L80*($V$4/$X$4)))+$X$56-($X$56-$Y$56)/(100-$F$56)*100,IF((100-(2*R$74*($T$4/$X$4)+2*$L80*($V$4/$X$4)))>=$G$56,($Y$56-$Z$56)/($F$56-$G$56)*(100-(2*R$74*($T$4/$X$4)+2*$L80*($V$4/$X$4)))+$Y$56-($Y$56-$Z$56)/($F$56-$G$56)*$F$56,($Z$56)/($G$56-$H$56)*(100-(2*R$74*($T$4/$X$4)+2*$L80*($V$4/$X$4)))+$Z$56-($Z$56)/($G$56-$H$56)*$G$56)),-1) -> 69.75 | S80: =MAX(IF((100-(2*S$74*($T$4/$X$4)+2*$L80*($V$4/$X$4)))>=$F$56,($X$56-$Y$56)/(100-$F$56)*(100-(2*S$74*($T$4/$X$4)+2*$L80*($V$4/$X$4)))+$X$56-($X$56-$Y$56)/(100-$F$56)*100,IF((100-(2*S$74*($T$4/$X$4)+2*$L80*($V$4/$X$4)))>=$G$56,($Y$56-$Z$56)/($F$56-$G$56)*(100-(2*S$74*($T$4/$X$4)+2*$L80*($V$4/$X$4)))+$Y$56-($Y$56-$Z$56)/($F$56-$G$56)*$F$56,($Z$56)/($G$56-$H$56)*(100-(2*S$74*($T$4/$X$4)+2*$L80*($V$4/$X$4)))+$Z$56-($Z$56)/($G$56-$H$56)*$G$56)),-1) -> 65.25 | T80: =MAX(IF((100-(2*T$74*($T$4/$X$4)+2*$L80*($V$4/$X$4)))>=$F$56,($X$56-$Y$56)/(100-$F$56)*(100-(2*T$74*($T$4/$X$4)+2*$L80*($V$4/$X$4)))+$X$56-($X$56-$Y$56)/(100-$F$56)*100,IF((100-(2*T$74*($T$4/$X$4)+2*$L80*($V$4/$X$4)))>=$G$56,($Y$56-$Z$56)/($F$56-$G$56)*(100-(2*T$74*($T$4/$X$4)+2*$L80*($V$4/$X$4)))+$Y$56-($Y$56-$Z$56)/($F$56-$G$56)*$F$56,($Z$56)/($G$56-$H$56)*(100-(2*T$74*($T$4/$X$4)+2*$L80*($V$4/$X$4)))+$Z$56-($Z$56)/($G$56-$H$56)*$G$56)),-1) -> 60.75 | ... AH80: =MAX(IF((100-(2*AH$74*($T$4/$X$4)+2*$L80*($V$4/$X$4)))>=$F$56,($X$56-$Y$56)/(100-$F$56)*(100-(2*AH$74*($T$4/$X$4)+2*$L80*($V$4/$X$4)))+$X$56-($X$56-$Y$56)/(100-$F$56)*100,IF((100-(2*AH$74*($T$4/$X$4)+2*$L80*($V$4/$X$4)))>=$G$56,($Y$56-$Z$56)/($F$56-$G$56)*(100-(2*AH$74*($T$4/$X$4)+2*$L80*($V$4/$X$4)))+$Y$56-($Y$56-$Z$56)/($F$56-$G$56)*$F$56,($Z$56)/($G$56-$H$56)*(100-(2*AH$74*($T$4/$X$4)+2*$L80*($V$4/$X$4)))+$Z$56-($Z$56)/($G$56-$H$56)*$G$56)),-1) -> -1
L81: 6 | M81: =MAX(IF((100-(2*M$74*($T$4/$X$4)+2*$L81*($V$4/$X$4)))>=$F$56,($X$56-$Y$56)/(100-$F$56)*(100-(2*M$74*($T$4/$X$4)+2*$L81*($V$4/$X$4)))+$X$56-($X$56-$Y$56)/(100-$F$56)*100,IF((100-(2*M$74*($T$4/$X$4)+2*$L81*($V$4/$X$4)))>=$G$56,($Y$56-$Z$56)/($F$56-$G$56)*(100-(2*M$74*($T$4/$X$4)+2*$L81*($V$4/$X$4)))+$Y$56-($Y$56-$Z$56)/($F$56-$G$56)*$F$56,($Z$56)/($G$56-$H$56)*(100-(2*M$74*($T$4/$X$4)+2*$L81*($V$4/$X$4)))+$Z$56-($Z$56)/($G$56-$H$56)*$G$56)),-1) -> 88.2 | N81: =MAX(IF((100-(2*N$74*($T$4/$X$4)+2*$L81*($V$4/$X$4)))>=$F$56,($X$56-$Y$56)/(100-$F$56)*(100-(2*N$74*($T$4/$X$4)+2*$L81*($V$4/$X$4)))+$X$56-($X$56-$Y$56)/(100-$F$56)*100,IF((100-(2*N$74*($T$4/$X$4)+2*$L81*($V$4/$X$4)))>=$G$56,($Y$56-$Z$56)/($F$56-$G$56)*(100-(2*N$74*($T$4/$X$4)+2*$L81*($V$4/$X$4)))+$Y$56-($Y$56-$Z$56)/($F$56-$G$56)*$F$56,($Z$56)/($G$56-$H$56)*(100-(2*N$74*($T$4/$X$4)+2*$L81*($V$4/$X$4)))+$Z$56-($Z$56)/($G$56-$H$56)*$G$56)),-1) -> 83.7 | O81: =MAX(IF((100-(2*O$74*($T$4/$X$4)+2*$L81*($V$4/$X$4)))>=$F$56,($X$56-$Y$56)/(100-$F$56)*(100-(2*O$74*($T$4/$X$4)+2*$L81*($V$4/$X$4)))+$X$56-($X$56-$Y$56)/(100-$F$56)*100,IF((100-(2*O$74*($T$4/$X$4)+2*$L81*($V$4/$X$4)))>=$G$56,($Y$56-$Z$56)/($F$56-$G$56)*(100-(2*O$74*($T$4/$X$4)+2*$L81*($V$4/$X$4)))+$Y$56-($Y$56-$Z$56)/($F$56-$G$56)*$F$56,($Z$56)/($G$56-$H$56)*(100-(2*O$74*($T$4/$X$4)+2*$L81*($V$4/$X$4)))+$Z$56-($Z$56)/($G$56-$H$56)*$G$56)),-1) -> 79.2 | P81: =MAX(IF((100-(2*P$74*($T$4/$X$4)+2*$L81*($V$4/$X$4)))>=$F$56,($X$56-$Y$56)/(100-$F$56)*(100-(2*P$74*($T$4/$X$4)+2*$L81*($V$4/$X$4)))+$X$56-($X$56-$Y$56)/(100-$F$56)*100,IF((100-(2*P$74*($T$4/$X$4)+2*$L81*($V$4/$X$4)))>=$G$56,($Y$56-$Z$56)/($F$56-$G$56)*(100-(2*P$74*($T$4/$X$4)+2*$L81*($V$4/$X$4)))+$Y$56-($Y$56-$Z$56)/($F$56-$G$56)*$F$56,($Z$56)/($G$56-$H$56)*(100-(2*P$74*($T$4/$X$4)+2*$L81*($V$4/$X$4)))+$Z$56-($Z$56)/($G$56-$H$56)*$G$56)),-1) -> 74.7 | Q81: =MAX(IF((100-(2*Q$74*($T$4/$X$4)+2*$L81*($V$4/$X$4)))>=$F$56,($X$56-$Y$56)/(100-$F$56)*(100-(2*Q$74*($T$4/$X$4)+2*$L81*($V$4/$X$4)))+$X$56-($X$56-$Y$56)/(100-$F$56)*100,IF((100-(2*Q$74*($T$4/$X$4)+2*$L81*($V$4/$X$4)))>=$G$56,($Y$56-$Z$56)/($F$56-$G$56)*(100-(2*Q$74*($T$4/$X$4)+2*$L81*($V$4/$X$4)))+$Y$56-($Y$56-$Z$56)/($F$56-$G$56)*$F$56,($Z$56)/($G$56-$H$56)*(100-(2*Q$74*($T$4/$X$4)+2*$L81*($V$4/$X$4)))+$Z$56-($Z$56)/($G$56-$H$56)*$G$56)),-1) -> 70.2 | R81: =MAX(IF((100-(2*R$74*($T$4/$X$4)+2*$L81*($V$4/$X$4)))>=$F$56,($X$56-$Y$56)/(100-$F$56)*(100-(2*R$74*($T$4/$X$4)+2*$L81*($V$4/$X$4)))+$X$56-($X$56-$Y$56)/(100-$F$56)*100,IF((100-(2*R$74*($T$4/$X$4)+2*$L81*($V$4/$X$4)))>=$G$56,($Y$56-$Z$56)/($F$56-$G$56)*(100-(2*R$74*($T$4/$X$4)+2*$L81*($V$4/$X$4)))+$Y$56-($Y$56-$Z$56)/($F$56-$G$56)*$F$56,($Z$56)/($G$56-$H$56)*(100-(2*R$74*($T$4/$X$4)+2*$L81*($V$4/$X$4)))+$Z$56-($Z$56)/($G$56-$H$56)*$G$56)),-1) -> 65.7 | S81: =MAX(IF((100-(2*S$74*($T$4/$X$4)+2*$L81*($V$4/$X$4)))>=$F$56,($X$56-$Y$56)/(100-$F$56)*(100-(2*S$74*($T$4/$X$4)+2*$L81*($V$4/$X$4)))+$X$56-($X$56-$Y$56)/(100-$F$56)*100,IF((100-(2*S$74*($T$4/$X$4)+2*$L81*($V$4/$X$4)))>=$G$56,($Y$56-$Z$56)/($F$56-$G$56)*(100-(2*S$74*($T$4/$X$4)+2*$L81*($V$4/$X$4)))+$Y$56-($Y$56-$Z$56)/($F$56-$G$56)*$F$56,($Z$56)/($G$56-$H$56)*(100-(2*S$74*($T$4/$X$4)+2*$L81*($V$4/$X$4)))+$Z$56-($Z$56)/($G$56-$H$56)*$G$56)),-1) -> 61.2 | T81: =MAX(IF((100-(2*T$74*($T$4/$X$4)+2*$L81*($V$4/$X$4)))>=$F$56,($X$56-$Y$56)/(100-$F$56)*(100-(2*T$74*($T$4/$X$4)+2*$L81*($V$4/$X$4)))+$X$56-($X$56-$Y$56)/(100-$F$56)*100,IF((100-(2*T$74*($T$4/$X$4)+2*$L81*($V$4/$X$4)))>=$G$56,($Y$56-$Z$56)/($F$56-$G$56)*(100-(2*T$74*($T$4/$X$4)+2*$L81*($V$4/$X$4)))+$Y$56-($Y$56-$Z$56)/($F$56-$G$56)*$F$56,($Z$56)/($G$56-$H$56)*(100-(2*T$74*($T$4/$X$4)+2*$L81*($V$4/$X$4)))+$Z$56-($Z$56)/($G$56-$H$56)*$G$56)),-1) -> 56.7 | ... AH81: =MAX(IF((100-(2*AH$74*($T$4/$X$4)+2*$L81*($V$4/$X$4)))>=$F$56,($X$56-$Y$56)/(100-$F$56)*(100-(2*AH$74*($T$4/$X$4)+2*$L81*($V$4/$X$4)))+$X$56-($X$56-$Y$56)/(100-$F$56)*100,IF((100-(2*AH$74*($T$4/$X$4)+2*$L81*($V$4/$X$4)))>=$G$56,($Y$56-$Z$56)/($F$56-$G$56)*(100-(2*AH$74*($T$4/$X$4)+2*$L81*($V$4/$X$4)))+$Y$56-($Y$56-$Z$56)/($F$56-$G$56)*$F$56,($Z$56)/($G$56-$H$56)*(100-(2*AH$74*($T$4/$X$4)+2*$L81*($V$4/$X$4)))+$Z$56-($Z$56)/($G$56-$H$56)*$G$56)),-1) -> -1
L82: 7 | M82: =MAX(IF((100-(2*M$74*($T$4/$X$4)+2*$L82*($V$4/$X$4)))>=$F$56,($X$56-$Y$56)/(100-$F$56)*(100-(2*M$74*($T$4/$X$4)+2*$L82*($V$4/$X$4)))+$X$56-($X$56-$Y$56)/(100-$F$56)*100,IF((100-(2*M$74*($T$4/$X$4)+2*$L82*($V$4/$X$4)))>=$G$56,($Y$56-$Z$56)/($F$56-$G$56)*(100-(2*M$74*($T$4/$X$4)+2*$L82*($V$4/$X$4)))+$Y$56-($Y$56-$Z$56)/($F$56-$G$56)*$F$56,($Z$56)/($G$56-$H$56)*(100-(2*M$74*($T$4/$X$4)+2*$L82*($V$4/$X$4)))+$Z$56-($Z$56)/($G$56-$H$56)*$G$56)),-1) -> 84.15 | N82: =MAX(IF((100-(2*N$74*($T$4/$X$4)+2*$L82*($V$4/$X$4)))>=$F$56,($X$56-$Y$56)/(100-$F$56)*(100-(2*N$74*($T$4/$X$4)+2*$L82*($V$4/$X$4)))+$X$56-($X$56-$Y$56)/(100-$F$56)*100,IF((100-(2*N$74*($T$4/$X$4)+2*$L82*($V$4/$X$4)))>=$G$56,($Y$56-$Z$56)/($F$56-$G$56)*(100-(2*N$74*($T$4/$X$4)+2*$L82*($V$4/$X$4)))+$Y$56-($Y$56-$Z$56)/($F$56-$G$56)*$F$56,($Z$56)/($G$56-$H$56)*(100-(2*N$74*($T$4/$X$4)+2*$L82*($V$4/$X$4)))+$Z$56-($Z$56)/($G$56-$H$56)*$G$56)),-1) -> 79.65 | O82: =MAX(IF((100-(2*O$74*($T$4/$X$4)+2*$L82*($V$4/$X$4)))>=$F$56,($X$56-$Y$56)/(100-$F$56)*(100-(2*O$74*($T$4/$X$4)+2*$L82*($V$4/$X$4)))+$X$56-($X$56-$Y$56)/(100-$F$56)*100,IF((100-(2*O$74*($T$4/$X$4)+2*$L82*($V$4/$X$4)))>=$G$56,($Y$56-$Z$56)/($F$56-$G$56)*(100-(2*O$74*($T$4/$X$4)+2*$L82*($V$4/$X$4)))+$Y$56-($Y$56-$Z$56)/($F$56-$G$56)*$F$56,($Z$56)/($G$56-$H$56)*(100-(2*O$74*($T$4/$X$4)+2*$L82*($V$4/$X$4)))+$Z$56-($Z$56)/($G$56-$H$56)*$G$56)),-1) -> 75.15 | P82: =MAX(IF((100-(2*P$74*($T$4/$X$4)+2*$L82*($V$4/$X$4)))>=$F$56,($X$56-$Y$56)/(100-$F$56)*(100-(2*P$74*($T$4/$X$4)+2*$L82*($V$4/$X$4)))+$X$56-($X$56-$Y$56)/(100-$F$56)*100,IF((100-(2*P$74*($T$4/$X$4)+2*$L82*($V$4/$X$4)))>=$G$56,($Y$56-$Z$56)/($F$56-$G$56)*(100-(2*P$74*($T$4/$X$4)+2*$L82*($V$4/$X$4)))+$Y$56-($Y$56-$Z$56)/($F$56-$G$56)*$F$56,($Z$56)/($G$56-$H$56)*(100-(2*P$74*($T$4/$X$4)+2*$L82*($V$4/$X$4)))+$Z$56-($Z$56)/($G$56-$H$56)*$G$56)),-1) -> 70.65 | Q82: =MAX(IF((100-(2*Q$74*($T$4/$X$4)+2*$L82*($V$4/$X$4)))>=$F$56,($X$56-$Y$56)/(100-$F$56)*(100-(2*Q$74*($T$4/$X$4)+2*$L82*($V$4/$X$4)))+$X$56-($X$56-$Y$56)/(100-$F$56)*100,IF((100-(2*Q$74*($T$4/$X$4)+2*$L82*($V$4/$X$4)))>=$G$56,($Y$56-$Z$56)/($F$56-$G$56)*(100-(2*Q$74*($T$4/$X$4)+2*$L82*($V$4/$X$4)))+$Y$56-($Y$56-$Z$56)/($F$56-$G$56)*$F$56,($Z$56)/($G$56-$H$56)*(100-(2*Q$74*($T$4/$X$4)+2*$L82*($V$4/$X$4)))+$Z$56-($Z$56)/($G$56-$H$56)*$G$56)),-1) -> 66.15 | R82: =MAX(IF((100-(2*R$74*($T$4/$X$4)+2*$L82*($V$4/$X$4)))>=$F$56,($X$56-$Y$56)/(100-$F$56)*(100-(2*R$74*($T$4/$X$4)+2*$L82*($V$4/$X$4)))+$X$56-($X$56-$Y$56)/(100-$F$56)*100,IF((100-(2*R$74*($T$4/$X$4)+2*$L82*($V$4/$X$4)))>=$G$56,($Y$56-$Z$56)/($F$56-$G$56)*(100-(2*R$74*($T$4/$X$4)+2*$L82*($V$4/$X$4)))+$Y$56-($Y$56-$Z$56)/($F$56-$G$56)*$F$56,($Z$56)/($G$56-$H$56)*(100-(2*R$74*($T$4/$X$4)+2*$L82*($V$4/$X$4)))+$Z$56-($Z$56)/($G$56-$H$56)*$G$56)),-1) -> 61.65 | S82: =MAX(IF((100-(2*S$74*($T$4/$X$4)+2*$L82*($V$4/$X$4)))>=$F$56,($X$56-$Y$56)/(100-$F$56)*(100-(2*S$74*($T$4/$X$4)+2*$L82*($V$4/$X$4)))+$X$56-($X$56-$Y$56)/(100-$F$56)*100,IF((100-(2*S$74*($T$4/$X$4)+2*$L82*($V$4/$X$4)))>=$G$56,($Y$56-$Z$56)/($F$56-$G$56)*(100-(2*S$74*($T$4/$X$4)+2*$L82*($V$4/$X$4)))+$Y$56-($Y$56-$Z$56)/($F$56-$G$56)*$F$56,($Z$56)/($G$56-$H$56)*(100-(2*S$74*($T$4/$X$4)+2*$L82*($V$4/$X$4)))+$Z$56-($Z$56)/($G$56-$H$56)*$G$56)),-1) -> 57.15 | T82: =MAX(IF((100-(2*T$74*($T$4/$X$4)+2*$L82*($V$4/$X$4)))>=$F$56,($X$56-$Y$56)/(100-$F$56)*(100-(2*T$74*($T$4/$X$4)+2*$L82*($V$4/$X$4)))+$X$56-($X$56-$Y$56)/(100-$F$56)*100,IF((100-(2*T$74*($T$4/$X$4)+2*$L82*($V$4/$X$4)))>=$G$56,($Y$56-$Z$56)/($F$56-$G$56)*(100-(2*T$74*($T$4/$X$4)+2*$L82*($V$4/$X$4)))+$Y$56-($Y$56-$Z$56)/($F$56-$G$56)*$F$56,($Z$56)/($G$56-$H$56)*(100-(2*T$74*($T$4/$X$4)+2*$L82*($V$4/$X$4)))+$Z$56-($Z$56)/($G$56-$H$56)*$G$56)),-1) -> 52.65 | ... AH82: =MAX(IF((100-(2*AH$74*($T$4/$X$4)+2*$L82*($V$4/$X$4)))>=$F$56,($X$56-$Y$56)/(100-$F$56)*(100-(2*AH$74*($T$4/$X$4)+2*$L82*($V$4/$X$4)))+$X$56-($X$56-$Y$56)/(100-$F$56)*100,IF((100-(2*AH$74*($T$4/$X$4)+2*$L82*($V$4/$X$4)))>=$G$56,($Y$56-$Z$56)/($F$56-$G$56)*(100-(2*AH$74*($T$4/$X$4)+2*$L82*($V$4/$X$4)))+$Y$56-($Y$56-$Z$56)/($F$56-$G$56)*$F$56,($Z$56)/($G$56-$H$56)*(100-(2*AH$74*($T$4/$X$4)+2*$L82*($V$4/$X$4)))+$Z$56-($Z$56)/($G$56-$H$56)*$G$56)),-1) -> -1
L83: 8 | M83: =MAX(IF((100-(2*M$74*($T$4/$X$4)+2*$L83*($V$4/$X$4)))>=$F$56,($X$56-$Y$56)/(100-$F$56)*(100-(2*M$74*($T$4/$X$4)+2*$L83*($V$4/$X$4)))+$X$56-($X$56-$Y$56)/(100-$F$56)*100,IF((100-(2*M$74*($T$4/$X$4)+2*$L83*($V$4/$X$4)))>=$G$56,($Y$56-$Z$56)/($F$56-$G$56)*(100-(2*M$74*($T$4/$X$4)+2*$L83*($V$4/$X$4)))+$Y$56-($Y$56-$Z$56)/($F$56-$G$56)*$F$56,($Z$56)/($G$56-$H$56)*(100-(2*M$74*($T$4/$X$4)+2*$L83*($V$4/$X$4)))+$Z$56-($Z$56)/($G$56-$H$56)*$G$56)),-1) -> 80.1 | N83: =MAX(IF((100-(2*N$74*($T$4/$X$4)+2*$L83*($V$4/$X$4)))>=$F$56,($X$56-$Y$56)/(100-$F$56)*(100-(2*N$74*($T$4/$X$4)+2*$L83*($V$4/$X$4)))+$X$56-($X$56-$Y$56)/(100-$F$56)*100,IF((100-(2*N$74*($T$4/$X$4)+2*$L83*($V$4/$X$4)))>=$G$56,($Y$56-$Z$56)/($F$56-$G$56)*(100-(2*N$74*($T$4/$X$4)+2*$L83*($V$4/$X$4)))+$Y$56-($Y$56-$Z$56)/($F$56-$G$56)*$F$56,($Z$56)/($G$56-$H$56)*(100-(2*N$74*($T$4/$X$4)+2*$L83*($V$4/$X$4)))+$Z$56-($Z$56)/($G$56-$H$56)*$G$56)),-1) -> 75.6 | O83: =MAX(IF((100-(2*O$74*($T$4/$X$4)+2*$L83*($V$4/$X$4)))>=$F$56,($X$56-$Y$56)/(100-$F$56)*(100-(2*O$74*($T$4/$X$4)+2*$L83*($V$4/$X$4)))+$X$56-($X$56-$Y$56)/(100-$F$56)*100,IF((100-(2*O$74*($T$4/$X$4)+2*$L83*($V$4/$X$4)))>=$G$56,($Y$56-$Z$56)/($F$56-$G$56)*(100-(2*O$74*($T$4/$X$4)+2*$L83*($V$4/$X$4)))+$Y$56-($Y$56-$Z$56)/($F$56-$G$56)*$F$56,($Z$56)/($G$56-$H$56)*(100-(2*O$74*($T$4/$X$4)+2*$L83*($V$4/$X$4)))+$Z$56-($Z$56)/($G$56-$H$56)*$G$56)),-1) -> 71.1 | P83: =MAX(IF((100-(2*P$74*($T$4/$X$4)+2*$L83*($V$4/$X$4)))>=$F$56,($X$56-$Y$56)/(100-$F$56)*(100-(2*P$74*($T$4/$X$4)+2*$L83*($V$4/$X$4)))+$X$56-($X$56-$Y$56)/(100-$F$56)*100,IF((100-(2*P$74*($T$4/$X$4)+2*$L83*($V$4/$X$4)))>=$G$56,($Y$56-$Z$56)/($F$56-$G$56)*(100-(2*P$74*($T$4/$X$4)+2*$L83*($V$4/$X$4)))+$Y$56-($Y$56-$Z$56)/($F$56-$G$56)*$F$56,($Z$56)/($G$56-$H$56)*(100-(2*P$74*($T$4/$X$4)+2*$L83*($V$4/$X$4)))+$Z$56-($Z$56)/($G$56-$H$56)*$G$56)),-1) -> 66.6 | Q83: =MAX(IF((100-(2*Q$74*($T$4/$X$4)+2*$L83*($V$4/$X$4)))>=$F$56,($X$56-$Y$56)/(100-$F$56)*(100-(2*Q$74*($T$4/$X$4)+2*$L83*($V$4/$X$4)))+$X$56-($X$56-$Y$56)/(100-$F$56)*100,IF((100-(2*Q$74*($T$4/$X$4)+2*$L83*($V$4/$X$4)))>=$G$56,($Y$56-$Z$56)/($F$56-$G$56)*(100-(2*Q$74*($T$4/$X$4)+2*$L83*($V$4/$X$4)))+$Y$56-($Y$56-$Z$56)/($F$56-$G$56)*$F$56,($Z$56)/($G$56-$H$56)*(100-(2*Q$74*($T$4/$X$4)+2*$L83*($V$4/$X$4)))+$Z$56-($Z$56)/($G$56-$H$56)*$G$56)),-1) -> 62.1 | R83: =MAX(IF((100-(2*R$74*($T$4/$X$4)+2*$L83*($V$4/$X$4)))>=$F$56,($X$56-$Y$56)/(100-$F$56)*(100-(2*R$74*($T$4/$X$4)+2*$L83*($V$4/$X$4)))+$X$56-($X$56-$Y$56)/(100-$F$56)*100,IF((100-(2*R$74*($T$4/$X$4)+2*$L83*($V$4/$X$4)))>=$G$56,($Y$56-$Z$56)/($F$56-$G$56)*(100-(2*R$74*($T$4/$X$4)+2*$L83*($V$4/$X$4)))+$Y$56-($Y$56-$Z$56)/($F$56-$G$56)*$F$56,($Z$56)/($G$56-$H$56)*(100-(2*R$74*($T$4/$X$4)+2*$L83*($V$4/$X$4)))+$Z$56-($Z$56)/($G$56-$H$56)*$G$56)),-1) -> 57.6 | S83: =MAX(IF((100-(2*S$74*($T$4/$X$4)+2*$L83*($V$4/$X$4)))>=$F$56,($X$56-$Y$56)/(100-$F$56)*(100-(2*S$74*($T$4/$X$4)+2*$L83*($V$4/$X$4)))+$X$56-($X$56-$Y$56)/(100-$F$56)*100,IF((100-(2*S$74*($T$4/$X$4)+2*$L83*($V$4/$X$4)))>=$G$56,($Y$56-$Z$56)/($F$56-$G$56)*(100-(2*S$74*($T$4/$X$4)+2*$L83*($V$4/$X$4)))+$Y$56-($Y$56-$Z$56)/($F$56-$G$56)*$F$56,($Z$56)/($G$56-$H$56)*(100-(2*S$74*($T$4/$X$4)+2*$L83*($V$4/$X$4)))+$Z$56-($Z$56)/($G$56-$H$56)*$G$56)),-1) -> 53.1 | T83: =MAX(IF((100-(2*T$74*($T$4/$X$4)+2*$L83*($V$4/$X$4)))>=$F$56,($X$56-$Y$56)/(100-$F$56)*(100-(2*T$74*($T$4/$X$4)+2*$L83*($V$4/$X$4)))+$X$56-($X$56-$Y$56)/(100-$F$56)*100,IF((100-(2*T$74*($T$4/$X$4)+2*$L83*($V$4/$X$4)))>=$G$56,($Y$56-$Z$56)/($F$56-$G$56)*(100-(2*T$74*($T$4/$X$4)+2*$L83*($V$4/$X$4)))+$Y$56-($Y$56-$Z$56)/($F$56-$G$56)*$F$56,($Z$56)/($G$56-$H$56)*(100-(2*T$74*($T$4/$X$4)+2*$L83*($V$4/$X$4)))+$Z$56-($Z$56)/($G$56-$H$56)*$G$56)),-1) -> 48.6 | ... AH83: =MAX(IF((100-(2*AH$74*($T$4/$X$4)+2*$L83*($V$4/$X$4)))>=$F$56,($X$56-$Y$56)/(100-$F$56)*(100-(2*AH$74*($T$4/$X$4)+2*$L83*($V$4/$X$4)))+$X$56-($X$56-$Y$56)/(100-$F$56)*100,IF((100-(2*AH$74*($T$4/$X$4)+2*$L83*($V$4/$X$4)))>=$G$56,($Y$56-$Z$56)/($F$56-$G$56)*(100-(2*AH$74*($T$4/$X$4)+2*$L83*($V$4/$X$4)))+$Y$56-($Y$56-$Z$56)/($F$56-$G$56)*$F$56,($Z$56)/($G$56-$H$56)*(100-(2*AH$74*($T$4/$X$4)+2*$L83*($V$4/$X$4)))+$Z$56-($Z$56)/($G$56-$H$56)*$G$56)),-1) -> -1
L84: 9 | M84: =MAX(IF((100-(2*M$74*($T$4/$X$4)+2*$L84*($V$4/$X$4)))>=$F$56,($X$56-$Y$56)/(100-$F$56)*(100-(2*M$74*($T$4/$X$4)+2*$L84*($V$4/$X$4)))+$X$56-($X$56-$Y$56)/(100-$F$56)*100,IF((100-(2*M$74*($T$4/$X$4)+2*$L84*($V$4/$X$4)))>=$G$56,($Y$56-$Z$56)/($F$56-$G$56)*(100-(2*M$74*($T$4/$X$4)+2*$L84*($V$4/$X$4)))+$Y$56-($Y$56-$Z$56)/($F$56-$G$56)*$F$56,($Z$56)/($G$56-$H$56)*(100-(2*M$74*($T$4/$X$4)+2*$L84*($V$4/$X$4)))+$Z$56-($Z$56)/($G$56-$H$56)*$G$56)),-1) -> 76.05 | N84: =MAX(IF((100-(2*N$74*($T$4/$X$4)+2*$L84*($V$4/$X$4)))>=$F$56,($X$56-$Y$56)/(100-$F$56)*(100-(2*N$74*($T$4/$X$4)+2*$L84*($V$4/$X$4)))+$X$56-($X$56-$Y$56)/(100-$F$56)*100,IF((100-(2*N$74*($T$4/$X$4)+2*$L84*($V$4/$X$4)))>=$G$56,($Y$56-$Z$56)/($F$56-$G$56)*(100-(2*N$74*($T$4/$X$4)+2*$L84*($V$4/$X$4)))+$Y$56-($Y$56-$Z$56)/($F$56-$G$56)*$F$56,($Z$56)/($G$56-$H$56)*(100-(2*N$74*($T$4/$X$4)+2*$L84*($V$4/$X$4)))+$Z$56-($Z$56)/($G$56-$H$56)*$G$56)),-1) -> 71.55 | O84: =MAX(IF((100-(2*O$74*($T$4/$X$4)+2*$L84*($V$4/$X$4)))>=$F$56,($X$56-$Y$56)/(100-$F$56)*(100-(2*O$74*($T$4/$X$4)+2*$L84*($V$4/$X$4)))+$X$56-($X$56-$Y$56)/(100-$F$56)*100,IF((100-(2*O$74*($T$4/$X$4)+2*$L84*($V$4/$X$4)))>=$G$56,($Y$56-$Z$56)/($F$56-$G$56)*(100-(2*O$74*($T$4/$X$4)+2*$L84*($V$4/$X$4)))+$Y$56-($Y$56-$Z$56)/($F$56-$G$56)*$F$56,($Z$56)/($G$56-$H$56)*(100-(2*O$74*($T$4/$X$4)+2*$L84*($V$4/$X$4)))+$Z$56-($Z$56)/($G$56-$H$56)*$G$56)),-1) -> 67.05 | P84: =MAX(IF((100-(2*P$74*($T$4/$X$4)+2*$L84*($V$4/$X$4)))>=$F$56,($X$56-$Y$56)/(100-$F$56)*(100-(2*P$74*($T$4/$X$4)+2*$L84*($V$4/$X$4)))+$X$56-($X$56-$Y$56)/(100-$F$56)*100,IF((100-(2*P$74*($T$4/$X$4)+2*$L84*($V$4/$X$4)))>=$G$56,($Y$56-$Z$56)/($F$56-$G$56)*(100-(2*P$74*($T$4/$X$4)+2*$L84*($V$4/$X$4)))+$Y$56-($Y$56-$Z$56)/($F$56-$G$56)*$F$56,($Z$56)/($G$56-$H$56)*(100-(2*P$74*($T$4/$X$4)+2*$L84*($V$4/$X$4)))+$Z$56-($Z$56)/($G$56-$H$56)*$G$56)),-1) -> 62.55 | Q84: =MAX(IF((100-(2*Q$74*($T$4/$X$4)+2*$L84*($V$4/$X$4)))>=$F$56,($X$56-$Y$56)/(100-$F$56)*(100-(2*Q$74*($T$4/$X$4)+2*$L84*($V$4/$X$4)))+$X$56-($X$56-$Y$56)/(100-$F$56)*100,IF((100-(2*Q$74*($T$4/$X$4)+2*$L84*($V$4/$X$4)))>=$G$56,($Y$56-$Z$56)/($F$56-$G$56)*(100-(2*Q$74*($T$4/$X$4)+2*$L84*($V$4/$X$4)))+$Y$56-($Y$56-$Z$56)/($F$56-$G$56)*$F$56,($Z$56)/($G$56-$H$56)*(100-(2*Q$74*($T$4/$X$4)+2*$L84*($V$4/$X$4)))+$Z$56-($Z$56)/($G$56-$H$56)*$G$56)),-1) -> 58.05 | R84: =MAX(IF((100-(2*R$74*($T$4/$X$4)+2*$L84*($V$4/$X$4)))>=$F$56,($X$56-$Y$56)/(100-$F$56)*(100-(2*R$74*($T$4/$X$4)+2*$L84*($V$4/$X$4)))+$X$56-($X$56-$Y$56)/(100-$F$56)*100,IF((100-(2*R$74*($T$4/$X$4)+2*$L84*($V$4/$X$4)))>=$G$56,($Y$56-$Z$56)/($F$56-$G$56)*(100-(2*R$74*($T$4/$X$4)+2*$L84*($V$4/$X$4)))+$Y$56-($Y$56-$Z$56)/($F$56-$G$56)*$F$56,($Z$56)/($G$56-$H$56)*(100-(2*R$74*($T$4/$X$4)+2*$L84*($V$4/$X$4)))+$Z$56-($Z$56)/($G$56-$H$56)*$G$56)),-1) -> 53.55 | S84: =MAX(IF((100-(2*S$74*($T$4/$X$4)+2*$L84*($V$4/$X$4)))>=$F$56,($X$56-$Y$56)/(100-$F$56)*(100-(2*S$74*($T$4/$X$4)+2*$L84*($V$4/$X$4)))+$X$56-($X$56-$Y$56)/(100-$F$56)*100,IF((100-(2*S$74*($T$4/$X$4)+2*$L84*($V$4/$X$4)))>=$G$56,($Y$56-$Z$56)/($F$56-$G$56)*(100-(2*S$74*($T$4/$X$4)+2*$L84*($V$4/$X$4)))+$Y$56-($Y$56-$Z$56)/($F$56-$G$56)*$F$56,($Z$56)/($G$56-$H$56)*(100-(2*S$74*($T$4/$X$4)+2*$L84*($V$4/$X$4)))+$Z$56-($Z$56)/($G$56-$H$56)*$G$56)),-1) -> 49.05 | T84: =MAX(IF((100-(2*T$74*($T$4/$X$4)+2*$L84*($V$4/$X$4)))>=$F$56,($X$56-$Y$56)/(100-$F$56)*(100-(2*T$74*($T$4/$X$4)+2*$L84*($V$4/$X$4)))+$X$56-($X$56-$Y$56)/(100-$F$56)*100,IF((100-(2*T$74*($T$4/$X$4)+2*$L84*($V$4/$X$4)))>=$G$56,($Y$56-$Z$56)/($F$56-$G$56)*(100-(2*T$74*($T$4/$X$4)+2*$L84*($V$4/$X$4)))+$Y$56-($Y$56-$Z$56)/($F$56-$G$56)*$F$56,($Z$56)/($G$56-$H$56)*(100-(2*T$74*($T$4/$X$4)+2*$L84*($V$4/$X$4)))+$Z$56-($Z$56)/($G$56-$H$56)*$G$56)),-1) -> 44.1 | ... AH84: =MAX(IF((100-(2*AH$74*($T$4/$X$4)+2*$L84*($V$4/$X$4)))>=$F$56,($X$56-$Y$56)/(100-$F$56)*(100-(2*AH$74*($T$4/$X$4)+2*$L84*($V$4/$X$4)))+$X$56-($X$56-$Y$56)/(100-$F$56)*100,IF((100-(2*AH$74*($T$4/$X$4)+2*$L84*($V$4/$X$4)))>=$G$56,($Y$56-$Z$56)/($F$56-$G$56)*(100-(2*AH$74*($T$4/$X$4)+2*$L84*($V$4/$X$4)))+$Y$56-($Y$56-$Z$56)/($F$56-$G$56)*$F$56,($Z$56)/($G$56-$H$56)*(100-(2*AH$74*($T$4/$X$4)+2*$L84*($V$4/$X$4)))+$Z$56-($Z$56)/($G$56-$H$56)*$G$56)),-1) -> -1
L85: 10 | M85: =MAX(IF((100-(2*M$74*($T$4/$X$4)+2*$L85*($V$4/$X$4)))>=$F$56,($X$56-$Y$56)/(100-$F$56)*(100-(2*M$74*($T$4/$X$4)+2*$L85*($V$4/$X$4)))+$X$56-($X$56-$Y$56)/(100-$F$56)*100,IF((100-(2*M$74*($T$4/$X$4)+2*$L85*($V$4/$X$4)))>=$G$56,($Y$56-$Z$56)/($F$56-$G$56)*(100-(2*M$74*($T$4/$X$4)+2*$L85*($V$4/$X$4)))+$Y$56-($Y$56-$Z$56)/($F$56-$G$56)*$F$56,($Z$56)/($G$56-$H$56)*(100-(2*M$74*($T$4/$X$4)+2*$L85*($V$4/$X$4)))+$Z$56-($Z$56)/($G$56-$H$56)*$G$56)),-1) -> 72 | N85: =MAX(IF((100-(2*N$74*($T$4/$X$4)+2*$L85*($V$4/$X$4)))>=$F$56,($X$56-$Y$56)/(100-$F$56)*(100-(2*N$74*($T$4/$X$4)+2*$L85*($V$4/$X$4)))+$X$56-($X$56-$Y$56)/(100-$F$56)*100,IF((100-(2*N$74*($T$4/$X$4)+2*$L85*($V$4/$X$4)))>=$G$56,($Y$56-$Z$56)/($F$56-$G$56)*(100-(2*N$74*($T$4/$X$4)+2*$L85*($V$4/$X$4)))+$Y$56-($Y$56-$Z$56)/($F$56-$G$56)*$F$56,($Z$56)/($G$56-$H$56)*(100-(2*N$74*($T$4/$X$4)+2*$L85*($V$4/$X$4)))+$Z$56-($Z$56)/($G$56-$H$56)*$G$56)),-1) -> 67.5 | O85: =MAX(IF((100-(2*O$74*($T$4/$X$4)+2*$L85*($V$4/$X$4)))>=$F$56,($X$56-$Y$56)/(100-$F$56)*(100-(2*O$74*($T$4/$X$4)+2*$L85*($V$4/$X$4)))+$X$56-($X$56-$Y$56)/(100-$F$56)*100,IF((100-(2*O$74*($T$4/$X$4)+2*$L85*($V$4/$X$4)))>=$G$56,($Y$56-$Z$56)/($F$56-$G$56)*(100-(2*O$74*($T$4/$X$4)+2*$L85*($V$4/$X$4)))+$Y$56-($Y$56-$Z$56)/($F$56-$G$56)*$F$56,($Z$56)/($G$56-$H$56)*(100-(2*O$74*($T$4/$X$4)+2*$L85*($V$4/$X$4)))+$Z$56-($Z$56)/($G$56-$H$56)*$G$56)),-1) -> 63 | P85: =MAX(IF((100-(2*P$74*($T$4/$X$4)+2*$L85*($V$4/$X$4)))>=$F$56,($X$56-$Y$56)/(100-$F$56)*(100-(2*P$74*($T$4/$X$4)+2*$L85*($V$4/$X$4)))+$X$56-($X$56-$Y$56)/(100-$F$56)*100,IF((100-(2*P$74*($T$4/$X$4)+2*$L85*($V$4/$X$4)))>=$G$56,($Y$56-$Z$56)/($F$56-$G$56)*(100-(2*P$74*($T$4/$X$4)+2*$L85*($V$4/$X$4)))+$Y$56-($Y$56-$Z$56)/($F$56-$G$56)*$F$56,($Z$56)/($G$56-$H$56)*(100-(2*P$74*($T$4/$X$4)+2*$L85*($V$4/$X$4)))+$Z$56-($Z$56)/($G$56-$H$56)*$G$56)),-1) -> 58.5 | Q85: =MAX(IF((100-(2*Q$74*($T$4/$X$4)+2*$L85*($V$4/$X$4)))>=$F$56,($X$56-$Y$56)/(100-$F$56)*(100-(2*Q$74*($T$4/$X$4)+2*$L85*($V$4/$X$4)))+$X$56-($X$56-$Y$56)/(100-$F$56)*100,IF((100-(2*Q$74*($T$4/$X$4)+2*$L85*($V$4/$X$4)))>=$G$56,($Y$56-$Z$56)/($F$56-$G$56)*(100-(2*Q$74*($T$4/$X$4)+2*$L85*($V$4/$X$4)))+$Y$56-($Y$56-$Z$56)/($F$56-$G$56)*$F$56,($Z$56)/($G$56-$H$56)*(100-(2*Q$74*($T$4/$X$4)+2*$L85*($V$4/$X$4)))+$Z$56-($Z$56)/($G$56-$H$56)*$G$56)),-1) -> 54 | R85: =MAX(IF((100-(2*R$74*($T$4/$X$4)+2*$L85*($V$4/$X$4)))>=$F$56,($X$56-$Y$56)/(100-$F$56)*(100-(2*R$74*($T$4/$X$4)+2*$L85*($V$4/$X$4)))+$X$56-($X$56-$Y$56)/(100-$F$56)*100,IF((100-(2*R$74*($T$4/$X$4)+2*$L85*($V$4/$X$4)))>=$G$56,($Y$56-$Z$56)/($F$56-$G$56)*(100-(2*R$74*($T$4/$X$4)+2*$L85*($V$4/$X$4)))+$Y$56-($Y$56-$Z$56)/($F$56-$G$56)*$F$56,($Z$56)/($G$56-$H$56)*(100-(2*R$74*($T$4/$X$4)+2*$L85*($V$4/$X$4)))+$Z$56-($Z$56)/($G$56-$H$56)*$G$56)),-1) -> 49.5 | S85: =MAX(IF((100-(2*S$74*($T$4/$X$4)+2*$L85*($V$4/$X$4)))>=$F$56,($X$56-$Y$56)/(100-$F$56)*(100-(2*S$74*($T$4/$X$4)+2*$L85*($V$4/$X$4)))+$X$56-($X$56-$Y$56)/(100-$F$56)*100,IF((100-(2*S$74*($T$4/$X$4)+2*$L85*($V$4/$X$4)))>=$G$56,($Y$56-$Z$56)/($F$56-$G$56)*(100-(2*S$74*($T$4/$X$4)+2*$L85*($V$4/$X$4)))+$Y$56-($Y$56-$Z$56)/($F$56-$G$56)*$F$56,($Z$56)/($G$56-$H$56)*(100-(2*S$74*($T$4/$X$4)+2*$L85*($V$4/$X$4)))+$Z$56-($Z$56)/($G$56-$H$56)*$G$56)),-1) -> 45 | T85: =MAX(IF((100-(2*T$74*($T$4/$X$4)+2*$L85*($V$4/$X$4)))>=$F$56,($X$56-$Y$56)/(100-$F$56)*(100-(2*T$74*($T$4/$X$4)+2*$L85*($V$4/$X$4)))+$X$56-($X$56-$Y$56)/(100-$F$56)*100,IF((100-(2*T$74*($T$4/$X$4)+2*$L85*($V$4/$X$4)))>=$G$56,($Y$56-$Z$56)/($F$56-$G$56)*(100-(2*T$74*($T$4/$X$4)+2*$L85*($V$4/$X$4)))+$Y$56-($Y$56-$Z$56)/($F$56-$G$56)*$F$56,($Z$56)/($G$56-$H$56)*(100-(2*T$74*($T$4/$X$4)+2*$L85*($V$4/$X$4)))+$Z$56-($Z$56)/($G$56-$H$56)*$G$56)),-1) -> 36 | ... AH85: =MAX(IF((100-(2*AH$74*($T$4/$X$4)+2*$L85*($V$4/$X$4)))>=$F$56,($X$56-$Y$56)/(100-$F$56)*(100-(2*AH$74*($T$4/$X$4)+2*$L85*($V$4/$X$4)))+$X$56-($X$56-$Y$56)/(100-$F$56)*100,IF((100-(2*AH$74*($T$4/$X$4)+2*$L85*($V$4/$X$4)))>=$G$56,($Y$56-$Z$56)/($F$56-$G$56)*(100-(2*AH$74*($T$4/$X$4)+2*$L85*($V$4/$X$4)))+$Y$56-($Y$56-$Z$56)/($F$56-$G$56)*$F$56,($Z$56)/($G$56-$H$56)*(100-(2*AH$74*($T$4/$X$4)+2*$L85*($V$4/$X$4)))+$Z$56-($Z$56)/($G$56-$H$56)*$G$56)),-1) -> -1
L86: 11 | M86: =MAX(IF((100-(2*M$74*($T$4/$X$4)+2*$L86*($V$4/$X$4)))>=$F$56,($X$56-$Y$56)/(100-$F$56)*(100-(2*M$74*($T$4/$X$4)+2*$L86*($V$4/$X$4)))+$X$56-($X$56-$Y$56)/(100-$F$56)*100,IF((100-(2*M$74*($T$4/$X$4)+2*$L86*($V$4/$X$4)))>=$G$56,($Y$56-$Z$56)/($F$56-$G$56)*(100-(2*M$74*($T$4/$X$4)+2*$L86*($V$4/$X$4)))+$Y$56-($Y$56-$Z$56)/($F$56-$G$56)*$F$56,($Z$56)/($G$56-$H$56)*(100-(2*M$74*($T$4/$X$4)+2*$L86*($V$4/$X$4)))+$Z$56-($Z$56)/($G$56-$H$56)*$G$56)),-1) -> 67.95 | N86: =MAX(IF((100-(2*N$74*($T$4/$X$4)+2*$L86*($V$4/$X$4)))>=$F$56,($X$56-$Y$56)/(100-$F$56)*(100-(2*N$74*($T$4/$X$4)+2*$L86*($V$4/$X$4)))+$X$56-($X$56-$Y$56)/(100-$F$56)*100,IF((100-(2*N$74*($T$4/$X$4)+2*$L86*($V$4/$X$4)))>=$G$56,($Y$56-$Z$56)/($F$56-$G$56)*(100-(2*N$74*($T$4/$X$4)+2*$L86*($V$4/$X$4)))+$Y$56-($Y$56-$Z$56)/($F$56-$G$56)*$F$56,($Z$56)/($G$56-$H$56)*(100-(2*N$74*($T$4/$X$4)+2*$L86*($V$4/$X$4)))+$Z$56-($Z$56)/($G$56-$H$56)*$G$56)),-1) -> 63.45 | O86: =MAX(IF((100-(2*O$74*($T$4/$X$4)+2*$L86*($V$4/$X$4)))>=$F$56,($X$56-$Y$56)/(100-$F$56)*(100-(2*O$74*($T$4/$X$4)+2*$L86*($V$4/$X$4)))+$X$56-($X$56-$Y$56)/(100-$F$56)*100,IF((100-(2*O$74*($T$4/$X$4)+2*$L86*($V$4/$X$4)))>=$G$56,($Y$56-$Z$56)/($F$56-$G$56)*(100-(2*O$74*($T$4/$X$4)+2*$L86*($V$4/$X$4)))+$Y$56-($Y$56-$Z$56)/($F$56-$G$56)*$F$56,($Z$56)/($G$56-$H$56)*(100-(2*O$74*($T$4/$X$4)+2*$L86*($V$4/$X$4)))+$Z$56-($Z$56)/($G$56-$H$56)*$G$56)),-1) -> 58.95 | P86: =MAX(IF((100-(2*P$74*($T$4/$X$4)+2*$L86*($V$4/$X$4)))>=$F$56,($X$56-$Y$56)/(100-$F$56)*(100-(2*P$74*($T$4/$X$4)+2*$L86*($V$4/$X$4)))+$X$56-($X$56-$Y$56)/(100-$F$56)*100,IF((100-(2*P$74*($T$4/$X$4)+2*$L86*($V$4/$X$4)))>=$G$56,($Y$56-$Z$56)/($F$56-$G$56)*(100-(2*P$74*($T$4/$X$4)+2*$L86*($V$4/$X$4)))+$Y$56-($Y$56-$Z$56)/($F$56-$G$56)*$F$56,($Z$56)/($G$56-$H$56)*(100-(2*P$74*($T$4/$X$4)+2*$L86*($V$4/$X$4)))+$Z$56-($Z$56)/($G$56-$H$56)*$G$56)),-1) -> 54.45 | Q86: =MAX(IF((100-(2*Q$74*($T$4/$X$4)+2*$L86*($V$4/$X$4)))>=$F$56,($X$56-$Y$56)/(100-$F$56)*(100-(2*Q$74*($T$4/$X$4)+2*$L86*($V$4/$X$4)))+$X$56-($X$56-$Y$56)/(100-$F$56)*100,IF((100-(2*Q$74*($T$4/$X$4)+2*$L86*($V$4/$X$4)))>=$G$56,($Y$56-$Z$56)/($F$56-$G$56)*(100-(2*Q$74*($T$4/$X$4)+2*$L86*($V$4/$X$4)))+$Y$56-($Y$56-$Z$56)/($F$56-$G$56)*$F$56,($Z$56)/($G$56-$H$56)*(100-(2*Q$74*($T$4/$X$4)+2*$L86*($V$4/$X$4)))+$Z$56-($Z$56)/($G$56-$H$56)*$G$56)),-1) -> 49.95 | R86: =MAX(IF((100-(2*R$74*($T$4/$X$4)+2*$L86*($V$4/$X$4)))>=$F$56,($X$56-$Y$56)/(100-$F$56)*(100-(2*R$74*($T$4/$X$4)+2*$L86*($V$4/$X$4)))+$X$56-($X$56-$Y$56)/(100-$F$56)*100,IF((100-(2*R$74*($T$4/$X$4)+2*$L86*($V$4/$X$4)))>=$G$56,($Y$56-$Z$56)/($F$56-$G$56)*(100-(2*R$74*($T$4/$X$4)+2*$L86*($V$4/$X$4)))+$Y$56-($Y$56-$Z$56)/($F$56-$G$56)*$F$56,($Z$56)/($G$56-$H$56)*(100-(2*R$74*($T$4/$X$4)+2*$L86*($V$4/$X$4)))+$Z$56-($Z$56)/($G$56-$H$56)*$G$56)),-1) -> 45.45 | S86: =MAX(IF((100-(2*S$74*($T$4/$X$4)+2*$L86*($V$4/$X$4)))>=$F$56,($X$56-$Y$56)/(100-$F$56)*(100-(2*S$74*($T$4/$X$4)+2*$L86*($V$4/$X$4)))+$X$56-($X$56-$Y$56)/(100-$F$56)*100,IF((100-(2*S$74*($T$4/$X$4)+2*$L86*($V$4/$X$4)))>=$G$56,($Y$56-$Z$56)/($F$56-$G$56)*(100-(2*S$74*($T$4/$X$4)+2*$L86*($V$4/$X$4)))+$Y$56-($Y$56-$Z$56)/($F$56-$G$56)*$F$56,($Z$56)/($G$56-$H$56)*(100-(2*S$74*($T$4/$X$4)+2*$L86*($V$4/$X$4)))+$Z$56-($Z$56)/($G$56-$H$56)*$G$56)),-1) -> 36.9 | T86: =MAX(IF((100-(2*T$74*($T$4/$X$4)+2*$L86*($V$4/$X$4)))>=$F$56,($X$56-$Y$56)/(100-$F$56)*(100-(2*T$74*($T$4/$X$4)+2*$L86*($V$4/$X$4)))+$X$56-($X$56-$Y$56)/(100-$F$56)*100,IF((100-(2*T$74*($T$4/$X$4)+2*$L86*($V$4/$X$4)))>=$G$56,($Y$56-$Z$56)/($F$56-$G$56)*(100-(2*T$74*($T$4/$X$4)+2*$L86*($V$4/$X$4)))+$Y$56-($Y$56-$Z$56)/($F$56-$G$56)*$F$56,($Z$56)/($G$56-$H$56)*(100-(2*T$74*($T$4/$X$4)+2*$L86*($V$4/$X$4)))+$Z$56-($Z$56)/($G$56-$H$56)*$G$56)),-1) -> 27.9 | ... AH86: =MAX(IF((100-(2*AH$74*($T$4/$X$4)+2*$L86*($V$4/$X$4)))>=$F$56,($X$56-$Y$56)/(100-$F$56)*(100-(2*AH$74*($T$4/$X$4)+2*$L86*($V$4/$X$4)))+$X$56-($X$56-$Y$56)/(100-$F$56)*100,IF((100-(2*AH$74*($T$4/$X$4)+2*$L86*($V$4/$X$4)))>=$G$56,($Y$56-$Z$56)/($F$56-$G$56)*(100-(2*AH$74*($T$4/$X$4)+2*$L86*($V$4/$X$4)))+$Y$56-($Y$56-$Z$56)/($F$56-$G$56)*$F$56,($Z$56)/($G$56-$H$56)*(100-(2*AH$74*($T$4/$X$4)+2*$L86*($V$4/$X$4)))+$Z$56-($Z$56)/($G$56-$H$56)*$G$56)),-1) -> -1
L87: 12 | M87: =MAX(IF((100-(2*M$74*($T$4/$X$4)+2*$L87*($V$4/$X$4)))>=$F$56,($X$56-$Y$56)/(100-$F$56)*(100-(2*M$74*($T$4/$X$4)+2*$L87*($V$4/$X$4)))+$X$56-($X$56-$Y$56)/(100-$F$56)*100,IF((100-(2*M$74*($T$4/$X$4)+2*$L87*($V$4/$X$4)))>=$G$56,($Y$56-$Z$56)/($F$56-$G$56)*(100-(2*M$74*($T$4/$X$4)+2*$L87*($V$4/$X$4)))+$Y$56-($Y$56-$Z$56)/($F$56-$G$56)*$F$56,($Z$56)/($G$56-$H$56)*(100-(2*M$74*($T$4/$X$4)+2*$L87*($V$4/$X$4)))+$Z$56-($Z$56)/($G$56-$H$56)*$G$56)),-1) -> 63.9 | N87: =MAX(IF((100-(2*N$74*($T$4/$X$4)+2*$L87*($V$4/$X$4)))>=$F$56,($X$56-$Y$56)/(100-$F$56)*(100-(2*N$74*($T$4/$X$4)+2*$L87*($V$4/$X$4)))+$X$56-($X$56-$Y$56)/(100-$F$56)*100,IF((100-(2*N$74*($T$4/$X$4)+2*$L87*($V$4/$X$4)))>=$G$56,($Y$56-$Z$56)/($F$56-$G$56)*(100-(2*N$74*($T$4/$X$4)+2*$L87*($V$4/$X$4)))+$Y$56-($Y$56-$Z$56)/($F$56-$G$56)*$F$56,($Z$56)/($G$56-$H$56)*(100-(2*N$74*($T$4/$X$4)+2*$L87*($V$4/$X$4)))+$Z$56-($Z$56)/($G$56-$H$56)*$G$56)),-1) -> 59.4 | O87: =MAX(IF((100-(2*O$74*($T$4/$X$4)+2*$L87*($V$4/$X$4)))>=$F$56,($X$56-$Y$56)/(100-$F$56)*(100-(2*O$74*($T$4/$X$4)+2*$L87*($V$4/$X$4)))+$X$56-($X$56-$Y$56)/(100-$F$56)*100,IF((100-(2*O$74*($T$4/$X$4)+2*$L87*($V$4/$X$4)))>=$G$56,($Y$56-$Z$56)/($F$56-$G$56)*(100-(2*O$74*($T$4/$X$4)+2*$L87*($V$4/$X$4)))+$Y$56-($Y$56-$Z$56)/($F$56-$G$56)*$F$56,($Z$56)/($G$56-$H$56)*(100-(2*O$74*($T$4/$X$4)+2*$L87*($V$4/$X$4)))+$Z$56-($Z$56)/($G$56-$H$56)*$G$56)),-1) -> 54.9 | P87: =MAX(IF((100-(2*P$74*($T$4/$X$4)+2*$L87*($V$4/$X$4)))>=$F$56,($X$56-$Y$56)/(100-$F$56)*(100-(2*P$74*($T$4/$X$4)+2*$L87*($V$4/$X$4)))+$X$56-($X$56-$Y$56)/(100-$F$56)*100,IF((100-(2*P$74*($T$4/$X$4)+2*$L87*($V$4/$X$4)))>=$G$56,($Y$56-$Z$56)/($F$56-$G$56)*(100-(2*P$74*($T$4/$X$4)+2*$L87*($V$4/$X$4)))+$Y$56-($Y$56-$Z$56)/($F$56-$G$56)*$F$56,($Z$56)/($G$56-$H$56)*(100-(2*P$74*($T$4/$X$4)+2*$L87*($V$4/$X$4)))+$Z$56-($Z$56)/($G$56-$H$56)*$G$56)),-1) -> 50.4 | Q87: =MAX(IF((100-(2*Q$74*($T$4/$X$4)+2*$L87*($V$4/$X$4)))>=$F$56,($X$56-$Y$56)/(100-$F$56)*(100-(2*Q$74*($T$4/$X$4)+2*$L87*($V$4/$X$4)))+$X$56-($X$56-$Y$56)/(100-$F$56)*100,IF((100-(2*Q$74*($T$4/$X$4)+2*$L87*($V$4/$X$4)))>=$G$56,($Y$56-$Z$56)/($F$56-$G$56)*(100-(2*Q$74*($T$4/$X$4)+2*$L87*($V$4/$X$4)))+$Y$56-($Y$56-$Z$56)/($F$56-$G$56)*$F$56,($Z$56)/($G$56-$H$56)*(100-(2*Q$74*($T$4/$X$4)+2*$L87*($V$4/$X$4)))+$Z$56-($Z$56)/($G$56-$H$56)*$G$56)),-1) -> 45.9 | R87: =MAX(IF((100-(2*R$74*($T$4/$X$4)+2*$L87*($V$4/$X$4)))>=$F$56,($X$56-$Y$56)/(100-$F$56)*(100-(2*R$74*($T$4/$X$4)+2*$L87*($V$4/$X$4)))+$X$56-($X$56-$Y$56)/(100-$F$56)*100,IF((100-(2*R$74*($T$4/$X$4)+2*$L87*($V$4/$X$4)))>=$G$56,($Y$56-$Z$56)/($F$56-$G$56)*(100-(2*R$74*($T$4/$X$4)+2*$L87*($V$4/$X$4)))+$Y$56-($Y$56-$Z$56)/($F$56-$G$56)*$F$56,($Z$56)/($G$56-$H$56)*(100-(2*R$74*($T$4/$X$4)+2*$L87*($V$4/$X$4)))+$Z$56-($Z$56)/($G$56-$H$56)*$G$56)),-1) -> 37.8 | S87: =MAX(IF((100-(2*S$74*($T$4/$X$4)+2*$L87*($V$4/$X$4)))>=$F$56,($X$56-$Y$56)/(100-$F$56)*(100-(2*S$74*($T$4/$X$4)+2*$L87*($V$4/$X$4)))+$X$56-($X$56-$Y$56)/(100-$F$56)*100,IF((100-(2*S$74*($T$4/$X$4)+2*$L87*($V$4/$X$4)))>=$G$56,($Y$56-$Z$56)/($F$56-$G$56)*(100-(2*S$74*($T$4/$X$4)+2*$L87*($V$4/$X$4)))+$Y$56-($Y$56-$Z$56)/($F$56-$G$56)*$F$56,($Z$56)/($G$56-$H$56)*(100-(2*S$74*($T$4/$X$4)+2*$L87*($V$4/$X$4)))+$Z$56-($Z$56)/($G$56-$H$56)*$G$56)),-1) -> 28.8 | T87: =MAX(IF((100-(2*T$74*($T$4/$X$4)+2*$L87*($V$4/$X$4)))>=$F$56,($X$56-$Y$56)/(100-$F$56)*(100-(2*T$74*($T$4/$X$4)+2*$L87*($V$4/$X$4)))+$X$56-($X$56-$Y$56)/(100-$F$56)*100,IF((100-(2*T$74*($T$4/$X$4)+2*$L87*($V$4/$X$4)))>=$G$56,($Y$56-$Z$56)/($F$56-$G$56)*(100-(2*T$74*($T$4/$X$4)+2*$L87*($V$4/$X$4)))+$Y$56-($Y$56-$Z$56)/($F$56-$G$56)*$F$56,($Z$56)/($G$56-$H$56)*(100-(2*T$74*($T$4/$X$4)+2*$L87*($V$4/$X$4)))+$Z$56-($Z$56)/($G$56-$H$56)*$G$56)),-1) -> 19.8 | ... AH87: =MAX(IF((100-(2*AH$74*($T$4/$X$4)+2*$L87*($V$4/$X$4)))>=$F$56,($X$56-$Y$56)/(100-$F$56)*(100-(2*AH$74*($T$4/$X$4)+2*$L87*($V$4/$X$4)))+$X$56-($X$56-$Y$56)/(100-$F$56)*100,IF((100-(2*AH$74*($T$4/$X$4)+2*$L87*($V$4/$X$4)))>=$G$56,($Y$56-$Z$56)/($F$56-$G$56)*(100-(2*AH$74*($T$4/$X$4)+2*$L87*($V$4/$X$4)))+$Y$56-($Y$56-$Z$56)/($F$56-$G$56)*$F$56,($Z$56)/($G$56-$H$56)*(100-(2*AH$74*($T$4/$X$4)+2*$L87*($V$4/$X$4)))+$Z$56-($Z$56)/($G$56-$H$56)*$G$56)),-1) -> -1
L88: 13 | M88: =MAX(IF((100-(2*M$74*($T$4/$X$4)+2*$L88*($V$4/$X$4)))>=$F$56,($X$56-$Y$56)/(100-$F$56)*(100-(2*M$74*($T$4/$X$4)+2*$L88*($V$4/$X$4)))+$X$56-($X$56-$Y$56)/(100-$F$56)*100,IF((100-(2*M$74*($T$4/$X$4)+2*$L88*($V$4/$X$4)))>=$G$56,($Y$56-$Z$56)/($F$56-$G$56)*(100-(2*M$74*($T$4/$X$4)+2*$L88*($V$4/$X$4)))+$Y$56-($Y$56-$Z$56)/($F$56-$G$56)*$F$56,($Z$56)/($G$56-$H$56)*(100-(2*M$74*($T$4/$X$4)+2*$L88*($V$4/$X$4)))+$Z$56-($Z$56)/($G$56-$H$56)*$G$56)),-1) -> 59.85 | N88: =MAX(IF((100-(2*N$74*($T$4/$X$4)+2*$L88*($V$4/$X$4)))>=$F$56,($X$56-$Y$56)/(100-$F$56)*(100-(2*N$74*($T$4/$X$4)+2*$L88*($V$4/$X$4)))+$X$56-($X$56-$Y$56)/(100-$F$56)*100,IF((100-(2*N$74*($T$4/$X$4)+2*$L88*($V$4/$X$4)))>=$G$56,($Y$56-$Z$56)/($F$56-$G$56)*(100-(2*N$74*($T$4/$X$4)+2*$L88*($V$4/$X$4)))+$Y$56-($Y$56-$Z$56)/($F$56-$G$56)*$F$56,($Z$56)/($G$56-$H$56)*(100-(2*N$74*($T$4/$X$4)+2*$L88*($V$4/$X$4)))+$Z$56-($Z$56)/($G$56-$H$56)*$G$56)),-1) -> 55.35 | O88: =MAX(IF((100-(2*O$74*($T$4/$X$4)+2*$L88*($V$4/$X$4)))>=$F$56,($X$56-$Y$56)/(100-$F$56)*(100-(2*O$74*($T$4/$X$4)+2*$L88*($V$4/$X$4)))+$X$56-($X$56-$Y$56)/(100-$F$56)*100,IF((100-(2*O$74*($T$4/$X$4)+2*$L88*($V$4/$X$4)))>=$G$56,($Y$56-$Z$56)/($F$56-$G$56)*(100-(2*O$74*($T$4/$X$4)+2*$L88*($V$4/$X$4)))+$Y$56-($Y$56-$Z$56)/($F$56-$G$56)*$F$56,($Z$56)/($G$56-$H$56)*(100-(2*O$74*($T$4/$X$4)+2*$L88*($V$4/$X$4)))+$Z$56-($Z$56)/($G$56-$H$56)*$G$56)),-1) -> 50.85 | P88: =MAX(IF((100-(2*P$74*($T$4/$X$4)+2*$L88*($V$4/$X$4)))>=$F$56,($X$56-$Y$56)/(100-$F$56)*(100-(2*P$74*($T$4/$X$4)+2*$L88*($V$4/$X$4)))+$X$56-($X$56-$Y$56)/(100-$F$56)*100,IF((100-(2*P$74*($T$4/$X$4)+2*$L88*($V$4/$X$4)))>=$G$56,($Y$56-$Z$56)/($F$56-$G$56)*(100-(2*P$74*($T$4/$X$4)+2*$L88*($V$4/$X$4)))+$Y$56-($Y$56-$Z$56)/($F$56-$G$56)*$F$56,($Z$56)/($G$56-$H$56)*(100-(2*P$74*($T$4/$X$4)+2*$L88*($V$4/$X$4)))+$Z$56-($Z$56)/($G$56-$H$56)*$G$56)),-1) -> 46.35 | Q88: =MAX(IF((100-(2*Q$74*($T$4/$X$4)+2*$L88*($V$4/$X$4)))>=$F$56,($X$56-$Y$56)/(100-$F$56)*(100-(2*Q$74*($T$4/$X$4)+2*$L88*($V$4/$X$4)))+$X$56-($X$56-$Y$56)/(100-$F$56)*100,IF((100-(2*Q$74*($T$4/$X$4)+2*$L88*($V$4/$X$4)))>=$G$56,($Y$56-$Z$56)/($F$56-$G$56)*(100-(2*Q$74*($T$4/$X$4)+2*$L88*($V$4/$X$4)))+$Y$56-($Y$56-$Z$56)/($F$56-$G$56)*$F$56,($Z$56)/($G$56-$H$56)*(100-(2*Q$74*($T$4/$X$4)+2*$L88*($V$4/$X$4)))+$Z$56-($Z$56)/($G$56-$H$56)*$G$56)),-1) -> 38.7 | R88: =MAX(IF((100-(2*R$74*($T$4/$X$4)+2*$L88*($V$4/$X$4)))>=$F$56,($X$56-$Y$56)/(100-$F$56)*(100-(2*R$74*($T$4/$X$4)+2*$L88*($V$4/$X$4)))+$X$56-($X$56-$Y$56)/(100-$F$56)*100,IF((100-(2*R$74*($T$4/$X$4)+2*$L88*($V$4/$X$4)))>=$G$56,($Y$56-$Z$56)/($F$56-$G$56)*(100-(2*R$74*($T$4/$X$4)+2*$L88*($V$4/$X$4)))+$Y$56-($Y$56-$Z$56)/($F$56-$G$56)*$F$56,($Z$56)/($G$56-$H$56)*(100-(2*R$74*($T$4/$X$4)+2*$L88*($V$4/$X$4)))+$Z$56-($Z$56)/($G$56-$H$56)*$G$56)),-1) -> 29.7 | S88: =MAX(IF((100-(2*S$74*($T$4/$X$4)+2*$L88*($V$4/$X$4)))>=$F$56,($X$56-$Y$56)/(100-$F$56)*(100-(2*S$74*($T$4/$X$4)+2*$L88*($V$4/$X$4)))+$X$56-($X$56-$Y$56)/(100-$F$56)*100,IF((100-(2*S$74*($T$4/$X$4)+2*$L88*($V$4/$X$4)))>=$G$56,($Y$56-$Z$56)/($F$56-$G$56)*(100-(2*S$74*($T$4/$X$4)+2*$L88*($V$4/$X$4)))+$Y$56-($Y$56-$Z$56)/($F$56-$G$56)*$F$56,($Z$56)/($G$56-$H$56)*(100-(2*S$74*($T$4/$X$4)+2*$L88*($V$4/$X$4)))+$Z$56-($Z$56)/($G$56-$H$56)*$G$56)),-1) -> 20.7 | T88: =MAX(IF((100-(2*T$74*($T$4/$X$4)+2*$L88*($V$4/$X$4)))>=$F$56,($X$56-$Y$56)/(100-$F$56)*(100-(2*T$74*($T$4/$X$4)+2*$L88*($V$4/$X$4)))+$X$56-($X$56-$Y$56)/(100-$F$56)*100,IF((100-(2*T$74*($T$4/$X$4)+2*$L88*($V$4/$X$4)))>=$G$56,($Y$56-$Z$56)/($F$56-$G$56)*(100-(2*T$74*($T$4/$X$4)+2*$L88*($V$4/$X$4)))+$Y$56-($Y$56-$Z$56)/($F$56-$G$56)*$F$56,($Z$56)/($G$56-$H$56)*(100-(2*T$74*($T$4/$X$4)+2*$L88*($V$4/$X$4)))+$Z$56-($Z$56)/($G$56-$H$56)*$G$56)),-1) -> 11.7 | ... AH88: =MAX(IF((100-(2*AH$74*($T$4/$X$4)+2*$L88*($V$4/$X$4)))>=$F$56,($X$56-$Y$56)/(100-$F$56)*(100-(2*AH$74*($T$4/$X$4)+2*$L88*($V$4/$X$4)))+$X$56-($X$56-$Y$56)/(100-$F$56)*100,IF((100-(2*AH$74*($T$4/$X$4)+2*$L88*($V$4/$X$4)))>=$G$56,($Y$56-$Z$56)/($F$56-$G$56)*(100-(2*AH$74*($T$4/$X$4)+2*$L88*($V$4/$X$4)))+$Y$56-($Y$56-$Z$56)/($F$56-$G$56)*$F$56,($Z$56)/($G$56-$H$56)*(100-(2*AH$74*($T$4/$X$4)+2*$L88*($V$4/$X$4)))+$Z$56-($Z$56)/($G$56-$H$56)*$G$56)),-1) -> -1
L89: 14 | M89: =MAX(IF((100-(2*M$74*($T$4/$X$4)+2*$L89*($V$4/$X$4)))>=$F$56,($X$56-$Y$56)/(100-$F$56)*(100-(2*M$74*($T$4/$X$4)+2*$L89*($V$4/$X$4)))+$X$56-($X$56-$Y$56)/(100-$F$56)*100,IF((100-(2*M$74*($T$4/$X$4)+2*$L89*($V$4/$X$4)))>=$G$56,($Y$56-$Z$56)/($F$56-$G$56)*(100-(2*M$74*($T$4/$X$4)+2*$L89*($V$4/$X$4)))+$Y$56-($Y$56-$Z$56)/($F$56-$G$56)*$F$56,($Z$56)/($G$56-$H$56)*(100-(2*M$74*($T$4/$X$4)+2*$L89*($V$4/$X$4)))+$Z$56-($Z$56)/($G$56-$H$56)*$G$56)),-1) -> 55.8 | N89: =MAX(IF((100-(2*N$74*($T$4/$X$4)+2*$L89*($V$4/$X$4)))>=$F$56,($X$56-$Y$56)/(100-$F$56)*(100-(2*N$74*($T$4/$X$4)+2*$L89*($V$4/$X$4)))+$X$56-($X$56-$Y$56)/(100-$F$56)*100,IF((100-(2*N$74*($T$4/$X$4)+2*$L89*($V$4/$X$4)))>=$G$56,($Y$56-$Z$56)/($F$56-$G$56)*(100-(2*N$74*($T$4/$X$4)+2*$L89*($V$4/$X$4)))+$Y$56-($Y$56-$Z$56)/($F$56-$G$56)*$F$56,($Z$56)/($G$56-$H$56)*(100-(2*N$74*($T$4/$X$4)+2*$L89*($V$4/$X$4)))+$Z$56-($Z$56)/($G$56-$H$56)*$G$56)),-1) -> 51.3 | O89: =MAX(IF((100-(2*O$74*($T$4/$X$4)+2*$L89*($V$4/$X$4)))>=$F$56,($X$56-$Y$56)/(100-$F$56)*(100-(2*O$74*($T$4/$X$4)+2*$L89*($V$4/$X$4)))+$X$56-($X$56-$Y$56)/(100-$F$56)*100,IF((100-(2*O$74*($T$4/$X$4)+2*$L89*($V$4/$X$4)))>=$G$56,($Y$56-$Z$56)/($F$56-$G$56)*(100-(2*O$74*($T$4/$X$4)+2*$L89*($V$4/$X$4)))+$Y$56-($Y$56-$Z$56)/($F$56-$G$56)*$F$56,($Z$56)/($G$56-$H$56)*(100-(2*O$74*($T$4/$X$4)+2*$L89*($V$4/$X$4)))+$Z$56-($Z$56)/($G$56-$H$56)*$G$56)),-1) -> 46.8 | P89: =MAX(IF((100-(2*P$74*($T$4/$X$4)+2*$L89*($V$4/$X$4)))>=$F$56,($X$56-$Y$56)/(100-$F$56)*(100-(2*P$74*($T$4/$X$4)+2*$L89*($V$4/$X$4)))+$X$56-($X$56-$Y$56)/(100-$F$56)*100,IF((100-(2*P$74*($T$4/$X$4)+2*$L89*($V$4/$X$4)))>=$G$56,($Y$56-$Z$56)/($F$56-$G$56)*(100-(2*P$74*($T$4/$X$4)+2*$L89*($V$4/$X$4)))+$Y$56-($Y$56-$Z$56)/($F$56-$G$56)*$F$56,($Z$56)/($G$56-$H$56)*(100-(2*P$74*($T$4/$X$4)+2*$L89*($V$4/$X$4)))+$Z$56-($Z$56)/($G$56-$H$56)*$G$56)),-1) -> 39.6 | Q89: =MAX(IF((100-(2*Q$74*($T$4/$X$4)+2*$L89*($V$4/$X$4)))>=$F$56,($X$56-$Y$56)/(100-$F$56)*(100-(2*Q$74*($T$4/$X$4)+2*$L89*($V$4/$X$4)))+$X$56-($X$56-$Y$56)/(100-$F$56)*100,IF((100-(2*Q$74*($T$4/$X$4)+2*$L89*($V$4/$X$4)))>=$G$56,($Y$56-$Z$56)/($F$56-$G$56)*(100-(2*Q$74*($T$4/$X$4)+2*$L89*($V$4/$X$4)))+$Y$56-($Y$56-$Z$56)/($F$56-$G$56)*$F$56,($Z$56)/($G$56-$H$56)*(100-(2*Q$74*($T$4/$X$4)+2*$L89*($V$4/$X$4)))+$Z$56-($Z$56)/($G$56-$H$56)*$G$56)),-1) -> 30.6 | R89: =MAX(IF((100-(2*R$74*($T$4/$X$4)+2*$L89*($V$4/$X$4)))>=$F$56,($X$56-$Y$56)/(100-$F$56)*(100-(2*R$74*($T$4/$X$4)+2*$L89*($V$4/$X$4)))+$X$56-($X$56-$Y$56)/(100-$F$56)*100,IF((100-(2*R$74*($T$4/$X$4)+2*$L89*($V$4/$X$4)))>=$G$56,($Y$56-$Z$56)/($F$56-$G$56)*(100-(2*R$74*($T$4/$X$4)+2*$L89*($V$4/$X$4)))+$Y$56-($Y$56-$Z$56)/($F$56-$G$56)*$F$56,($Z$56)/($G$56-$H$56)*(100-(2*R$74*($T$4/$X$4)+2*$L89*($V$4/$X$4)))+$Z$56-($Z$56)/($G$56-$H$56)*$G$56)),-1) -> 21.6 | S89: =MAX(IF((100-(2*S$74*($T$4/$X$4)+2*$L89*($V$4/$X$4)))>=$F$56,($X$56-$Y$56)/(100-$F$56)*(100-(2*S$74*($T$4/$X$4)+2*$L89*($V$4/$X$4)))+$X$56-($X$56-$Y$56)/(100-$F$56)*100,IF((100-(2*S$74*($T$4/$X$4)+2*$L89*($V$4/$X$4)))>=$G$56,($Y$56-$Z$56)/($F$56-$G$56)*(100-(2*S$74*($T$4/$X$4)+2*$L89*($V$4/$X$4)))+$Y$56-($Y$56-$Z$56)/($F$56-$G$56)*$F$56,($Z$56)/($G$56-$H$56)*(100-(2*S$74*($T$4/$X$4)+2*$L89*($V$4/$X$4)))+$Z$56-($Z$56)/($G$56-$H$56)*$G$56)),-1) -> 12.6 | T89: =MAX(IF((100-(2*T$74*($T$4/$X$4)+2*$L89*($V$4/$X$4)))>=$F$56,($X$56-$Y$56)/(100-$F$56)*(100-(2*T$74*($T$4/$X$4)+2*$L89*($V$4/$X$4)))+$X$56-($X$56-$Y$56)/(100-$F$56)*100,IF((100-(2*T$74*($T$4/$X$4)+2*$L89*($V$4/$X$4)))>=$G$56,($Y$56-$Z$56)/($F$56-$G$56)*(100-(2*T$74*($T$4/$X$4)+2*$L89*($V$4/$X$4)))+$Y$56-($Y$56-$Z$56)/($F$56-$G$56)*$F$56,($Z$56)/($G$56-$H$56)*(100-(2*T$74*($T$4/$X$4)+2*$L89*($V$4/$X$4)))+$Z$56-($Z$56)/($G$56-$H$56)*$G$56)),-1) -> 3.6 | ... AH89: =MAX(IF((100-(2*AH$74*($T$4/$X$4)+2*$L89*($V$4/$X$4)))>=$F$56,($X$56-$Y$56)/(100-$F$56)*(100-(2*AH$74*($T$4/$X$4)+2*$L89*($V$4/$X$4)))+$X$56-($X$56-$Y$56)/(100-$F$56)*100,IF((100-(2*AH$74*($T$4/$X$4)+2*$L89*($V$4/$X$4)))>=$G$56,($Y$56-$Z$56)/($F$56-$G$56)*(100-(2*AH$74*($T$4/$X$4)+2*$L89*($V$4/$X$4)))+$Y$56-($Y$56-$Z$56)/($F$56-$G$56)*$F$56,($Z$56)/($G$56-$H$56)*(100-(2*AH$74*($T$4/$X$4)+2*$L89*($V$4/$X$4)))+$Z$56-($Z$56)/($G$56-$H$56)*$G$56)),-1) -> -1
L90: 15 | M90: =MAX(IF((100-(2*M$74*($T$4/$X$4)+2*$L90*($V$4/$X$4)))>=$F$56,($X$56-$Y$56)/(100-$F$56)*(100-(2*M$74*($T$4/$X$4)+2*$L90*($V$4/$X$4)))+$X$56-($X$56-$Y$56)/(100-$F$56)*100,IF((100-(2*M$74*($T$4/$X$4)+2*$L90*($V$4/$X$4)))>=$G$56,($Y$56-$Z$56)/($F$56-$G$56)*(100-(2*M$74*($T$4/$X$4)+2*$L90*($V$4/$X$4)))+$Y$56-($Y$56-$Z$56)/($F$56-$G$56)*$F$56,($Z$56)/($G$56-$H$56)*(100-(2*M$74*($T$4/$X$4)+2*$L90*($V$4/$X$4)))+$Z$56-($Z$56)/($G$56-$H$56)*$G$56)),-1) -> 51.75 | N90: =MAX(IF((100-(2*N$74*($T$4/$X$4)+2*$L90*($V$4/$X$4)))>=$F$56,($X$56-$Y$56)/(100-$F$56)*(100-(2*N$74*($T$4/$X$4)+2*$L90*($V$4/$X$4)))+$X$56-($X$56-$Y$56)/(100-$F$56)*100,IF((100-(2*N$74*($T$4/$X$4)+2*$L90*($V$4/$X$4)))>=$G$56,($Y$56-$Z$56)/($F$56-$G$56)*(100-(2*N$74*($T$4/$X$4)+2*$L90*($V$4/$X$4)))+$Y$56-($Y$56-$Z$56)/($F$56-$G$56)*$F$56,($Z$56)/($G$56-$H$56)*(100-(2*N$74*($T$4/$X$4)+2*$L90*($V$4/$X$4)))+$Z$56-($Z$56)/($G$56-$H$56)*$G$56)),-1) -> 47.25 | O90: =MAX(IF((100-(2*O$74*($T$4/$X$4)+2*$L90*($V$4/$X$4)))>=$F$56,($X$56-$Y$56)/(100-$F$56)*(100-(2*O$74*($T$4/$X$4)+2*$L90*($V$4/$X$4)))+$X$56-($X$56-$Y$56)/(100-$F$56)*100,IF((100-(2*O$74*($T$4/$X$4)+2*$L90*($V$4/$X$4)))>=$G$56,($Y$56-$Z$56)/($F$56-$G$56)*(100-(2*O$74*($T$4/$X$4)+2*$L90*($V$4/$X$4)))+$Y$56-($Y$56-$Z$56)/($F$56-$G$56)*$F$56,($Z$56)/($G$56-$H$56)*(100-(2*O$74*($T$4/$X$4)+2*$L90*($V$4/$X$4)))+$Z$56-($Z$56)/($G$56-$H$56)*$G$56)),-1) -> 40.5 | P90: =MAX(IF((100-(2*P$74*($T$4/$X$4)+2*$L90*($V$4/$X$4)))>=$F$56,($X$56-$Y$56)/(100-$F$56)*(100-(2*P$74*($T$4/$X$4)+2*$L90*($V$4/$X$4)))+$X$56-($X$56-$Y$56)/(100-$F$56)*100,IF((100-(2*P$74*($T$4/$X$4)+2*$L90*($V$4/$X$4)))>=$G$56,($Y$56-$Z$56)/($F$56-$G$56)*(100-(2*P$74*($T$4/$X$4)+2*$L90*($V$4/$X$4)))+$Y$56-($Y$56-$Z$56)/($F$56-$G$56)*$F$56,($Z$56)/($G$56-$H$56)*(100-(2*P$74*($T$4/$X$4)+2*$L90*($V$4/$X$4)))+$Z$56-($Z$56)/($G$56-$H$56)*$G$56)),-1) -> 31.5 | Q90: =MAX(IF((100-(2*Q$74*($T$4/$X$4)+2*$L90*($V$4/$X$4)))>=$F$56,($X$56-$Y$56)/(100-$F$56)*(100-(2*Q$74*($T$4/$X$4)+2*$L90*($V$4/$X$4)))+$X$56-($X$56-$Y$56)/(100-$F$56)*100,IF((100-(2*Q$74*($T$4/$X$4)+2*$L90*($V$4/$X$4)))>=$G$56,($Y$56-$Z$56)/($F$56-$G$56)*(100-(2*Q$74*($T$4/$X$4)+2*$L90*($V$4/$X$4)))+$Y$56-($Y$56-$Z$56)/($F$56-$G$56)*$F$56,($Z$56)/($G$56-$H$56)*(100-(2*Q$74*($T$4/$X$4)+2*$L90*($V$4/$X$4)))+$Z$56-($Z$56)/($G$56-$H$56)*$G$56)),-1) -> 22.5 | R90: =MAX(IF((100-(2*R$74*($T$4/$X$4)+2*$L90*($V$4/$X$4)))>=$F$56,($X$56-$Y$56)/(100-$F$56)*(100-(2*R$74*($T$4/$X$4)+2*$L90*($V$4/$X$4)))+$X$56-($X$56-$Y$56)/(100-$F$56)*100,IF((100-(2*R$74*($T$4/$X$4)+2*$L90*($V$4/$X$4)))>=$G$56,($Y$56-$Z$56)/($F$56-$G$56)*(100-(2*R$74*($T$4/$X$4)+2*$L90*($V$4/$X$4)))+$Y$56-($Y$56-$Z$56)/($F$56-$G$56)*$F$56,($Z$56)/($G$56-$H$56)*(100-(2*R$74*($T$4/$X$4)+2*$L90*($V$4/$X$4)))+$Z$56-($Z$56)/($G$56-$H$56)*$G$56)),-1) -> 13.5 | S90: =MAX(IF((100-(2*S$74*($T$4/$X$4)+2*$L90*($V$4/$X$4)))>=$F$56,($X$56-$Y$56)/(100-$F$56)*(100-(2*S$74*($T$4/$X$4)+2*$L90*($V$4/$X$4)))+$X$56-($X$56-$Y$56)/(100-$F$56)*100,IF((100-(2*S$74*($T$4/$X$4)+2*$L90*($V$4/$X$4)))>=$G$56,($Y$56-$Z$56)/($F$56-$G$56)*(100-(2*S$74*($T$4/$X$4)+2*$L90*($V$4/$X$4)))+$Y$56-($Y$56-$Z$56)/($F$56-$G$56)*$F$56,($Z$56)/($G$56-$H$56)*(100-(2*S$74*($T$4/$X$4)+2*$L90*($V$4/$X$4)))+$Z$56-($Z$56)/($G$56-$H$56)*$G$56)),-1) -> 4.5 | T90: =MAX(IF((100-(2*T$74*($T$4/$X$4)+2*$L90*($V$4/$X$4)))>=$F$56,($X$56-$Y$56)/(100-$F$56)*(100-(2*T$74*($T$4/$X$4)+2*$L90*($V$4/$X$4)))+$X$56-($X$56-$Y$56)/(100-$F$56)*100,IF((100-(2*T$74*($T$4/$X$4)+2*$L90*($V$4/$X$4)))>=$G$56,($Y$56-$Z$56)/($F$56-$G$56)*(100-(2*T$74*($T$4/$X$4)+2*$L90*($V$4/$X$4)))+$Y$56-($Y$56-$Z$56)/($F$56-$G$56)*$F$56,($Z$56)/($G$56-$H$56)*(100-(2*T$74*($T$4/$X$4)+2*$L90*($V$4/$X$4)))+$Z$56-($Z$56)/($G$56-$H$56)*$G$56)),-1) -> -1 | ... AH90: =MAX(IF((100-(2*AH$74*($T$4/$X$4)+2*$L90*($V$4/$X$4)))>=$F$56,($X$56-$Y$56)/(100-$F$56)*(100-(2*AH$74*($T$4/$X$4)+2*$L90*($V$4/$X$4)))+$X$56-($X$56-$Y$56)/(100-$F$56)*100,IF((100-(2*AH$74*($T$4/$X$4)+2*$L90*($V$4/$X$4)))>=$G$56,($Y$56-$Z$56)/($F$56-$G$56)*(100-(2*AH$74*($T$4/$X$4)+2*$L90*($V$4/$X$4)))+$Y$56-($Y$56-$Z$56)/($F$56-$G$56)*$F$56,($Z$56)/($G$56-$H$56)*(100-(2*AH$74*($T$4/$X$4)+2*$L90*($V$4/$X$4)))+$Z$56-($Z$56)/($G$56-$H$56)*$G$56)),-1) -> -1
... L96: 21 | M96: =MAX(IF((100-(2*M$74*($T$4/$X$4)+2*$L96*($V$4/$X$4)))>=$F$56,($X$56-$Y$56)/(100-$F$56)*(100-(2*M$74*($T$4/$X$4)+2*$L96*($V$4/$X$4)))+$X$56-($X$56-$Y$56)/(100-$F$56)*100,IF((100-(2*M$74*($T$4/$X$4)+2*$L96*($V$4/$X$4)))>=$G$56,($Y$56-$Z$56)/($F$56-$G$56)*(100-(2*M$74*($T$4/$X$4)+2*$L96*($V$4/$X$4)))+$Y$56-($Y$56-$Z$56)/($F$56-$G$56)*$F$56,($Z$56)/($G$56-$H$56)*(100-(2*M$74*($T$4/$X$4)+2*$L96*($V$4/$X$4)))+$Z$56-($Z$56)/($G$56-$H$56)*$G$56)),-1) -> 9.9 | N96: =MAX(IF((100-(2*N$74*($T$4/$X$4)+2*$L96*($V$4/$X$4)))>=$F$56,($X$56-$Y$56)/(100-$F$56)*(100-(2*N$74*($T$4/$X$4)+2*$L96*($V$4/$X$4)))+$X$56-($X$56-$Y$56)/(100-$F$56)*100,IF((100-(2*N$74*($T$4/$X$4)+2*$L96*($V$4/$X$4)))>=$G$56,($Y$56-$Z$56)/($F$56-$G$56)*(100-(2*N$74*($T$4/$X$4)+2*$L96*($V$4/$X$4)))+$Y$56-($Y$56-$Z$56)/($F$56-$G$56)*$F$56,($Z$56)/($G$56-$H$56)*(100-(2*N$74*($T$4/$X$4)+2*$L96*($V$4/$X$4)))+$Z$56-($Z$56)/($G$56-$H$56)*$G$56)),-1) -> 0.9 | O96: =MAX(IF((100-(2*O$74*($T$4/$X$4)+2*$L96*($V$4/$X$4)))>=$F$56,($X$56-$Y$56)/(100-$F$56)*(100-(2*O$74*($T$4/$X$4)+2*$L96*($V$4/$X$4)))+$X$56-($X$56-$Y$56)/(100-$F$56)*100,IF((100-(2*O$74*($T$4/$X$4)+2*$L96*($V$4/$X$4)))>=$G$56,($Y$56-$Z$56)/($F$56-$G$56)*(100-(2*O$74*($T$4/$X$4)+2*$L96*($V$4/$X$4)))+$Y$56-($Y$56-$Z$56)/($F$56-$G$56)*$F$56,($Z$56)/($G$56-$H$56)*(100-(2*O$74*($T$4/$X$4)+2*$L96*($V$4/$X$4)))+$Z$56-($Z$56)/($G$56-$H$56)*$G$56)),-1) -> -1 | P96: =MAX(IF((100-(2*P$74*($T$4/$X$4)+2*$L96*($V$4/$X$4)))>=$F$56,($X$56-$Y$56)/(100-$F$56)*(100-(2*P$74*($T$4/$X$4)+2*$L96*($V$4/$X$4)))+$X$56-($X$56-$Y$56)/(100-$F$56)*100,IF((100-(2*P$74*($T$4/$X$4)+2*$L96*($V$4/$X$4)))>=$G$56,($Y$56-$Z$56)/($F$56-$G$56)*(100-(2*P$74*($T$4/$X$4)+2*$L96*($V$4/$X$4)))+$Y$56-($Y$56-$Z$56)/($F$56-$G$56)*$F$56,($Z$56)/($G$56-$H$56)*(100-(2*P$74*($T$4/$X$4)+2*$L96*($V$4/$X$4)))+$Z$56-($Z$56)/($G$56-$H$56)*$G$56)),-1) -> -1 | Q96: =MAX(IF((100-(2*Q$74*($T$4/$X$4)+2*$L96*($V$4/$X$4)))>=$F$56,($X$56-$Y$56)/(100-$F$56)*(100-(2*Q$74*($T$4/$X$4)+2*$L96*($V$4/$X$4)))+$X$56-($X$56-$Y$56)/(100-$F$56)*100,IF((100-(2*Q$74*($T$4/$X$4)+2*$L96*($V$4/$X$4)))>=$G$56,($Y$56-$Z$56)/($F$56-$G$56)*(100-(2*Q$74*($T$4/$X$4)+2*$L96*($V$4/$X$4)))+$Y$56-($Y$56-$Z$56)/($F$56-$G$56)*$F$56,($Z$56)/($G$56-$H$56)*(100-(2*Q$74*($T$4/$X$4)+2*$L96*($V$4/$X$4)))+$Z$56-($Z$56)/($G$56-$H$56)*$G$56)),-1) -> -1 | R96: =MAX(IF((100-(2*R$74*($T$4/$X$4)+2*$L96*($V$4/$X$4)))>=$F$56,($X$56-$Y$56)/(100-$F$56)*(100-(2*R$74*($T$4/$X$4)+2*$L96*($V$4/$X$4)))+$X$56-($X$56-$Y$56)/(100-$F$56)*100,IF((100-(2*R$74*($T$4/$X$4)+2*$L96*($V$4/$X$4)))>=$G$56,($Y$56-$Z$56)/($F$56-$G$56)*(100-(2*R$74*($T$4/$X$4)+2*$L96*($V$4/$X$4)))+$Y$56-($Y$56-$Z$56)/($F$56-$G$56)*$F$56,($Z$56)/($G$56-$H$56)*(100-(2*R$74*($T$4/$X$4)+2*$L96*($V$4/$X$4)))+$Z$56-($Z$56)/($G$56-$H$56)*$G$56)),-1) -> -1 | S96: =MAX(IF((100-(2*S$74*($T$4/$X$4)+2*$L96*($V$4/$X$4)))>=$F$56,($X$56-$Y$56)/(100-$F$56)*(100-(2*S$74*($T$4/$X$4)+2*$L96*($V$4/$X$4)))+$X$56-($X$56-$Y$56)/(100-$F$56)*100,IF((100-(2*S$74*($T$4/$X$4)+2*$L96*($V$4/$X$4)))>=$G$56,($Y$56-$Z$56)/($F$56-$G$56)*(100-(2*S$74*($T$4/$X$4)+2*$L96*($V$4/$X$4)))+$Y$56-($Y$56-$Z$56)/($F$56-$G$56)*$F$56,($Z$56)/($G$56-$H$56)*(100-(2*S$74*($T$4/$X$4)+2*$L96*($V$4/$X$4)))+$Z$56-($Z$56)/($G$56-$H$56)*$G$56)),-1) -> -1 | T96: =MAX(IF((100-(2*T$74*($T$4/$X$4)+2*$L96*($V$4/$X$4)))>=$F$56,($X$56-$Y$56)/(100-$F$56)*(100-(2*T$74*($T$4/$X$4)+2*$L96*($V$4/$X$4)))+$X$56-($X$56-$Y$56)/(100-$F$56)*100,IF((100-(2*T$74*($T$4/$X$4)+2*$L96*($V$4/$X$4)))>=$G$56,($Y$56-$Z$56)/($F$56-$G$56)*(100-(2*T$74*($T$4/$X$4)+2*$L96*($V$4/$X$4)))+$Y$56-($Y$56-$Z$56)/($F$56-$G$56)*$F$56,($Z$56)/($G$56-$H$56)*(100-(2*T$74*($T$4/$X$4)+2*$L96*($V$4/$X$4)))+$Z$56-($Z$56)/($G$56-$H$56)*$G$56)),-1) -> -1 | ... AH96: =MAX(IF((100-(2*AH$74*($T$4/$X$4)+2*$L96*($V$4/$X$4)))>=$F$56,($X$56-$Y$56)/(100-$F$56)*(100-(2*AH$74*($T$4/$X$4)+2*$L96*($V$4/$X$4)))+$X$56-($X$56-$Y$56)/(100-$F$56)*100,IF((100-(2*AH$74*($T$4/$X$4)+2*$L96*($V$4/$X$4)))>=$G$56,($Y$56-$Z$56)/($F$56-$G$56)*(100-(2*AH$74*($T$4/$X$4)+2*$L96*($V$4/$X$4)))+$Y$56-($Y$56-$Z$56)/($F$56-$G$56)*$F$56,($Z$56)/($G$56-$H$56)*(100-(2*AH$74*($T$4/$X$4)+2*$L96*($V$4/$X$4)))+$Z$56-($Z$56)/($G$56-$H$56)*$G$56)),-1) -> -1

Sheet RC Tree_sample name 
B1: 4EG lab report template - Reject characterisation
B2: V25.2 (07.02.2025)
A4: =MID(CELL("dateiname",A1),SEARCH("]",CELL("dateiname",A1))+1,31) -> #VALUE! | E4: Please add sample code in spreadsheet name (grey bar below)
A6: reject absent | R6: Fragmentation | S6: Unfragmented | T6: Partly fragmented | U6: Completly fragmented
S7: Original cut size pieces | T7: Medium pieces (size > 1 cm in one dimension), sharp edges | U7: Granular pieces (size <= 1 cm in one dimension), no sharp edges.
A8: Reject characterisation (for coarse reject) | R8: Amount | S8: Significant (S)
A9: Cellulose fibres and flakes | C9: S | D9: Barrier coating | F9: Adhesives | H9: Metallised film | J9: Metal / Aluminium | L9: Mix (paper and non-paper) | N9: S | O9: Others (textiles, inks/varnish) | R9: (optional) | S9: Extensive quantity, relevant in Part I and III
A10: Single fibres | D10: Unfragmented | F10: Unfragmented | H10: Unfragmented | J10: Unfragmented | L10: Loose fibres | O10: To be defined
A11: Flakes | D11: Partly fragmented | F11: Partly fragmented | H11: Partly fragmented | J11: Partly fragmented | L11: Attached fibres | O11: Textiles
A12: Partly disintegrated sample material | D12: Completly fragmented | F12: Completly fragmented | H12: Completly fragmented | J12: Completly fragmented | L12: Encapsulated fibres | O12: Inks
A13: Not disintegrated sample material | D13: Rolled | O13: Foam
A14: additional comments:
A15: reject absent
A16: Reject characterisation (for fine reject)
A17: Cellulose fibres and flakes | C17: S | D17: Barrier coating | F17: Adhesives | H17: Metallised film | J17: Metal / Aluminium | L17: Mix (paper and non-paper) | N17: S | O17: Others (textiles, inks/varnish)
A18: Single fibres | D18: Unfragmented | F18: Unfragmented | H18: Unfragmented | J18: Unfragmented | L18: Loose fibres | O18: To be defined
A19: Flakes | D19: Partly fragmented | F19: Partly fragmented | H19: Partly fragmented | J19: Partly fragmented | L19: Attached fibres | O19: Textiles
A20: Partly disintegrated sample material | D20: Completly fragmented | F20: Completly fragmented | H20: Completly fragmented | J20: Completly fragmented | L20: Encapsulated fibres | O20: Inks
A21: Not disintegrated sample material | D21: Rolled | O21: Foam
A22: additional comments:

Sheet Results database
B1: 4EG lab report template - Part I - Conventional recycling process - Results Summary
B2: V25.2 (07.02.2025)
A4: Filled automatically | W4: To be filled manually
G5: Disintegration time | H5: Evaporation residue | I5: COD | J5: Coarse reject | K5: Fine reject | L5: Total screening reject | M5: Sheet adhesion test | Q5: Visual Impurities | U5: Macrostickies | W5: Reject characterisation
A6: Sample | B6: generic description | C6: Lab | D6: Test Date | E6: agregate | F6: consistency | M6: AC | O6: AF | Q6: AC | S6: AF | U6: Total area | V6: Area =< 2000 µm | W6: CR | X6: FR
F7: % | G7: (min) | H7: (g/kg packaging) | I7: (gO2/kg packaging) | J7: (%) | K7: (%) | L7: (%) | M7: Level | N7: Description | O7: Level | P7: Description | Q7: Level | R7: Description | S7: Level | T7: Description | U7: (mm2/kg) | V7: (mm2/kg) | W7: Description | X7: Description
A8: ='Results_sample name'!D17 -> 0 | B8: ='Results_sample name'!D24 -> 0 | C8: ='Lab information'!D8 -> 0 | D8: ='Results_sample name'!D16 -> 0 | E8: ='Results_sample name'!D79 -> lab disintegrator | F8: ='Results_sample name'!M62 -> 2.5 | G8: 10 | H8: ='Results_sample name'!D42 | I8: ='Results_sample name'!D44 -> 0 | J8: ='Results_sample name'!D30 -> 0 | K8: ='Results_sample name'!D36 -> #DIV/0! | L8: =J8+K8*0.9 -> #DIV/0! | M8: ='Results_sample name'!D32 -> 0 | N8: ='Results_sample name'!D112 -> 0 | O8: ='Results_sample name'!D38 -> 0 | P8: ='Results_sample name'!D136 -> 0 | Q8: ='Results_sample name'!D33 -> 0 | R8: ='Results_sample name'!D116 -> 0 | S8: ='Results_sample name'!D39 -> 0 | T8: ='Results_sample name'!D140 -> 0 | U8: ='Results_sample name'!D47 -> #DIV/0! | V8: ='Results_sample name'!D48 -> #DIV/0!

Sheet List of changes
B1: 4EG Test protocol - Part I - Conventional recycling process - List of Changes
B2: V25.2 (07.02.2025)
A4: Version | B4: Revision | C4: Author | D4: Change(s)
A5: V 21 | B5: 44320 | D5: first version of the spreadsheet
A6: V 22.1 | B6: 44635 | C6: Vanessa Wortmann | D6: update in the calculation of the evaporation residue and the chemical oxygen demand
A7: V 22.2 | B7: 44643 | C7: Vanessa Wortmann | D7: the fine reject input (cell 133 of the sheet Results) was changed to 20
A8: V22.3. | B8: 44729 | C8: Marie Geißler | D8: evaporation residue of the tap water added (Results cell E215-219), sample consistency before the coarse screening excluded, optional artificial ageing (3d, 60°C) added
A9: V22.4 | B9: 44762 | C9: Marie Geißler | D9: Adaption of the speadsheet for the beta release, renaming the version, more detailed questions about thickening in general information
A10: V22.5 | B10: 44767 | C10: Vanessa Wortmann | D10: Filtrate stored in the fridge (yes/no), chaning pulping into disintegraton, reject characterization tree included
A11: V22.6 | B11: 45243 | C11: Vanessa Wortmann | D11: Adding new approavch of reject assessment, changing into latest 4EG logo
A12: V24.1 | B12: 45384 | C12: Vanessa Wortmann | D12: consistency correction, double determination of COD, correction of links and assessment of sheet adhesion and visual impurities, scorecard
A13: V24.2 | B13: 45429 | C13: Vanessa Wortmann | D13: correction of FR after drying the consistency in the oven, equaltion for average sticky values
A14: V25.1 | B14: 45688 | C14: Vanessa Wortmann | D14: updated according to Part I Method, version 3
A15: V25.2 | B15: 45695 | C15: Vanessa Wortmann | D15: tab Results_ sample name: correction on the FR calculation (D120). Water pH moved to the disintegration section (B83). Temperature in which the ph was measured added (B84). ER and disintegration times are not listed as optional tests anymore (H18 and J18).
