Workbook
Name AdhSheet: OFFSET(Names!$AI$2,,,COUNTA(Names!$AI:$AI)-1,1)
Name Fibres: OFFSET(Names!$AG$2,,,COUNTA(Names!$AG:$AG)-1,1)
Name FlotationCell: OFFSET(Names!$V$2,,,COUNTA(Names!$V:$V)-1,1)
Name Fragmentation: OFFSET(Names!$AH$2,,,COUNTA(Names!$AH:$AH)-1,1)
Name HowMany: OFFSET(Names!$AE$2,,,COUNTA(Names!$AE:$AE)-1,1)
Name Method: OFFSET(Names!$X$2,,,COUNTA(Names!$X:$X)-1,1)
Name PaperClassification: OFFSET(Names!$N$2,,,COUNTA(Names!$N:$N)-1,1)
Name PaperFinishing: Names!$R$2:$R$8
Name PaperFurnish: OFFSET(Names!$P$2,,,COUNTA(Names!$P:$P)-1,1)
Name PaperUse: Names!$T$2:$T$8
Name Particles: OFFSET(Names!$AF$2,,,COUNTA(Names!$AF:$AF)-1,1)
Name PrintCategory: OFFSET(Names!$L$2,,,COUNTA(Names!$L:$L)-1,1)
Name PrintingCountry: OFFSET(Names!$G$2,,,COUNTA(Names!$G:$G)-1,1)
Name PrintingProcess: OFFSET(Names!$J$2,,,COUNTA(Names!$J:$J)-1,1)
Name ProductCategory: OFFSET(Names!$A$2,,,COUNTA(Names!$A:$A)-1,1)
Name ProductPart: OFFSET(Names!$H$2,,,COUNTA(Names!$H:$H)-1,1)
Name ProductType: OFFSET(Names!$E$2,,,COUNTA(Names!$E:$E)-1,1)
Name SC_a: OFFSET('Batch 2'!#REF!,,,1,COUNTA('Batch 2'!$4:$4))
Name SC_A250: OFFSET('Batch 2'!#REF!,,,1,COUNTA('Batch 2'!$4:$4))
Name SC_A50: OFFSET('Batch 2'!#REF!,,,1,COUNTA('Batch 2'!$4:$4))
Name SC_dY: OFFSET('Batch 2'!#REF!,,,1,COUNTA('Batch 2'!$4:$4))
Name SC_IE: OFFSET('Batch 2'!#REF!,,,1,COUNTA('Batch 2'!$4:$4))
Name SC_TestID: OFFSET('Batch 2'!$E$1,,,1,COUNTA('Batch 2'!$4:$4))
Name SC_Y: OFFSET('Batch 2'!#REF!,,,1,COUNTA('Batch 2'!$4:$4))
Name StateOfPackaging: OFFSET(Names!$AC$2,,,COUNTA(Names!$AC:$AC)-1,1)
Name TT_Assessment: #REF!
Name TT_Categories: OFFSET(#REF!,,,COUNTA(#REF!),1)
Name TT_DS_a_max: OFFSET(#REF!,,,COUNTA(#REF!),1)
Name TT_DS_A250: OFFSET(#REF!,,,COUNTA(#REF!),1)
Name TT_DS_A50: OFFSET(#REF!,,,COUNTA(#REF!),1)
Name TT_DS_dY: OFFSET(#REF!,,,COUNTA(#REF!),1)
Name TT_DS_IE: OFFSET(#REF!,,,COUNTA(#REF!),1)
Name TT_DS_Y: OFFSET(#REF!,,,COUNTA(#REF!),1)
Name TT_T_a_high: OFFSET(#REF!,,,COUNTA(#REF!),1)
Name TT_T_a_low: OFFSET(#REF!,,,COUNTA(#REF!),1)
Name TT_T_A250: OFFSET(#REF!,,,COUNTA(#REF!),1)
Name TT_T_A50: OFFSET(#REF!,,,COUNTA(#REF!),1)
Name TT_T_dY: OFFSET(#REF!,,,COUNTA(#REF!),1)
Name TT_T_IE: OFFSET(#REF!,,,COUNTA(#REF!),1)
Name TT_T_Y: OFFSET(#REF!,,,COUNTA(#REF!),1)
Name TT_TH_a_high: OFFSET(#REF!,,,COUNTA(#REF!),1)
Name TT_TH_a_low: OFFSET(#REF!,,,COUNTA(#REF!),1)
Name TT_TH_A250: OFFSET(#REF!,,,COUNTA(#REF!),1)
Name TT_TH_A50: OFFSET(#REF!,,,COUNTA(#REF!),1)
Name TT_TH_dY: OFFSET(#REF!,,,COUNTA(#REF!),1)
Name TT_TH_IE: OFFSET(#REF!,,,COUNTA(#REF!),1)
Name TT_TH_Y: OFFSET(#REF!,,,COUNTA(#REF!),1)
Name UseCase: OFFSET(Names!$C$2,,,COUNTA(Names!$C:$C)-1,1)
Name YesNo: OFFSET(Names!$Z$2,,,COUNTA(Names!$Z:$Z)-1,1)

Sheet General
D1: GeneralID | E1: GeneralID | F1: GeneralID
C2: Unit | D2: Results / Data | E2: Results / Data | F2: Results / Data
A3: A | B3: General
A4: A01 | B4: Product Name
A5: A02 | B5: Additional Product Info
A6: A03 | B6: Category of Product
A7: A04 | B7: Use Case
A8: A05 | B8: Printing Process
A9: A06 | B9: Additional Printing Process
A10: A07 | B10: State of packaging
A11: A08 | B11: Number of Adhesive Applications
A12: A09 | B12: Description of Adhesive Applications
A13: A10 | B13: Packaging weight
A14: A11 | B14: Paper
... A17: A113 | B17: Paper Furnish
A18: A114 | B18: Brightness of Unprinted Paper (low ink coverage products) | C18: %
A19: X | B19: Reference
A20: X01 | B20: Reference (e.g. Project)
A21: Y | B21: Institute
A22: Y01 | B22: Institute
A23: Y02 | B23: Technician Batch 1
A24: Y02 | B24: Technician Batch 2
A25: R | B25: General remarks

Sheet Batch 1
C1: Test ID | E1: GeneralID | F1: GeneralID | G1: GeneralID
C2: Used field in database | D2: Unit | E2: Results / Data | F2: Results / Data | G2: Results / Data
A3: A | B3: General
A4: A01 | B4: Product Name | C4: [only for information] | E4: =IF(General!D4="","",General!D4) | F4: =IF(General!E4="","",General!E4) | G4: =IF(General!F4="","",General!F4)
A5: A02 | B5: Additional Product Info | C5: AdditionalProductInfo | E5: =IF(General!D5="","",General!D5) | F5: =IF(General!E5="","",General!E5) | G5: =IF(General!F5="","",General!F5)
A6: A12 | B6: Date of Test (Batch 1) | C6: ProductTestDate
A7: A11 | B7: Paper
A8: A115 | B8: Ash Content fibre based product (525 °C) | D8: %
B9: Dry removed material oven dry | D9: g
A10: B | B10: Laboratory Test Procedure
A11: B01 | B11: Method Used | C11: TestMethod | E11: 4EG Part II:2022 | F11: 4EG Part II:2022 | G11: 4EG Part II:2022
A12: B02 | B12: Mass of oven dry sample mps,od | D12: g | E12: =IF(E8="","",200/(1-E8/100)) | F12: =IF(F8="","",200/(1-F8/100)) | G12: =IF(G8="","",200/(1-G8/100))
A13: B021 | B13: Dry matter content | D13: %
A14: B022 | B14: Mass of air dry sample mps,ad | D14: g | E14: =IF(OR(E12="",E13=""),"",E12*(1/(E13/100))) | F14: =IF(OR(F12="",F13=""),"",F12*(1/(F13/100))) | G14: =IF(OR(G12="",G13=""),"",G12*(1/(G13/100)))
A15: B03 | B15: Chemical Dosage
A16: B031 | B16: Sodium Hydroxide | C16: SodiumHydroxide | D16: % | E16: 0.6 | F16: 0.6 | G16: 0.6
A17: B032 | B17: Sodium Silicate | C17: SodiumSilicate | D17: % | E17: 1.8 | F17: 1.8 | G17: 1.8
A18: B033 | B18: Hydrogen Peroxide | C18: HydrogenPeroxide | D18: % | E18: 0.7 | F18: 0.7 | G18: 0.7
A19: B034 | B19: Oleic Acid | C19: OleicAcid | D19: % | E19: 0.8 | F19: 0.8 | G19: 0.8
A20: B04 | B20: Mass of stock solution mSt | D20: g | E20: =IF(E12="","",(E12*2)) | F20: =IF(F12="","",(F12*2)) | G20: =IF(G12="","",(G12*2))
A21: B05 | B21: Concentration of H2O2 | D21: %
A22: B06 | B22: Mass of H2O2 | D22: g | E22: =IF(OR(E21="",E12=""),"",E18/100*E12/(E21/100)) | F22: =IF(OR(F21="",F12=""),"",F18/100*F12/(F21/100)) | G22: =IF(OR(G21="",G12=""),"",G18/100*G12/(G21/100))
A23: B07 | B23: Mass of dilution water | D23: g | E23: =IF(OR(AND(E13="",E8=""),OR(E13="",E8="")),"",1667-E20-E14-100) | F23: =IF(OR(AND(F13="",F8=""),OR(F13="",F8="")),"",1667-F20-F14-100) | G23: =IF(OR(AND(G13="",G8=""),OR(G13="",G8="")),"",1667-G20-G14-100)
A24: B08 | B24: Pulping concentration cPS | C24: PulpingConsistency | D24: % | E24: =100*12/(100-E8) -> 12 | F24: =100*12/(100-F8) -> 12 | G24: =100*12/(100-G8) -> 12
A25: C | B25: Laboratory Results
A26: C01 | B26: pH Values
A27: C011 | B27: After Pulping (15% Concentration) | C27: pH_AfterPulping
B28: Sample mass after dilution to 5 % | D28: g | E28: =IF(E12="","",E12/0.05) | F28: =IF(F12="","",F12/0.05) | G28: =IF(G12="","",G12/0.05)
A29: C02 | B29: Dissolved and colloidal solids
A30: C021 | B30: Consistency of sample input | D30: % | E30: 2.5 | F30: 2.5 | G30: 2.5
B31: Evaporation residue (average, expressed in g/kg packaging product) | D31: g/kg | E31: =IF(OR(E30="",E32=""),"",E32/(E30/100)) | F31: =IF(OR(F30="",F32=""),"",F32/(F30/100)) | G31: =IF(OR(G30="",G32=""),"",G32/(G30/100))
A32: C022 | B32: Evaporation residue (average, expressed in mg/g filtrate) | D32: mg/g | E32: =IF(OR(E36="",E40=""),"",0.5*(E36+E40)) | F32: =IF(OR(F36="",F40=""),"",0.5*(F36+F40)) | G32: =IF(OR(G36="",G40=""),"",0.5*(G36+G40))
A33: C0221 | B33: Weight in of filtrate (1) | D33: g
A34: C0222 | B34: Weight of laboratory tray (empty; 1) | C34: g | D34: mg
A35: C0223 | B35: Weight of output (with laboratory tray; 1) | C35: g | D35: mg
A36: C0224 | B36: Evaporation residue of the filtrate per g filtrate (1) | C36: g/g | D36: mg/g | E36: =IF(E35="","",((E35-E34)/E33)) | F36: =IF(F35="","",((F35-F34)/F33)) | G36: =IF(G35="","",((G35-G34)/G33))
A37: C0225 | B37: Weight in of filtrate (2) | D37: g
A38: C0226 | B38: Weight of laboratory tray (empty; 2) | D38: mg
A39: C0227 | B39: Weight of output (with laboratory tray; 2) | C39: g | D39: mg
A40: C0228 | B40: Evaporation residue of the filtrate per g filtrate (2) | C40: g/g | D40: mg/g | E40: =IF(E39="","",((E39-E38)/E37)) | F40: =IF(F39="","",((F39-F38)/F37)) | G40: =IF(G39="","",((G39-G38)/G37))
...

Sheet Names
A1: ProductCategory | B1: ProductCategoryID | C1: UseCase | E1: ProductType | F1: ProductTypeID | G1: PrintingCountry | H1: ProductPart | I1: ProductPartID | J1: PrintingProcess | K1: PrintingProcessID | L1: PrintCategory | M1: PrintCategoryID | N1: PaperClassification | O1: PaperClassificationID | P1: PaperFurnish | Q1: PaperFurnishID | R1: PaperFinishing | S1: PaperFinishingID | T1: PaperUse | U1: PaperUseID | V1: FlotationCell | W1: FlotationCellID | X1: Test Method | Y1: TestMethodID | Z1: YesNo | AA1: Benchmarking Category | AB1: BenchmarkingCategoryID | AC1: StateOfPackaging | AD1: BenchmarkingCategoryID | AE1: HowMany | AF1: Particles | AG1: Fibres | AH1: Fragmentation | AI1: AdhSheet
A2: Boxboard | B2: 1 | C2: Banderole | E2: Catalogue | F2: 1 | G2: AT | H2: Complete | I2: 1 | J2: Flexography | K2: 6 | L2: Commercial | M2: 1 | N2: Pigment coated | O2: 1 | P2: Woodfree | Q2: 1 | R2: Uncoated | S2: 1 | T2: Newsprint | U2: 1 | V2: IfP Cell | W2: 1 | X2: 4EG Part II:2026 | Y2: 1 | Z2: Yes | AA2: Newspaper | AB2: 1 | AC2: Used | AE2: few | AF2: small particles | AG2: single fibres | AH2: unfragmented | AI2: absent
A3: Corrugated board | B3: 2 | C3: Filling material | E3: Flyer | F3: 2 | G3: BE | H3: Centerfold | I3: 11 | J3: Inkjet (non-aequous inks) | K3: 23 | L3: Demo | M3: 2 | N3: Barrier coated | O3: 2 | P3: Mechanical pulp based | Q3: 2 | R3: LWC | S3: 2 | T3: Improved Newsprint | U3: 2 | V3: Lam'deinkit | W3: 2 | Z3: No | AA3: Magazine Uncoated | AB3: 2 | AC3: Unused | AE3: some | AF3: large particles | AG3: fibre flakes | AH3: partly fragmented | AI3: partly present
A4: Flexible packaging | B4: 4 | C4: Frozen food carton | E4: Magazine | F4: 3 | G4: CA | H4: Cover | I4: 2 | J4: Inkjet (pigment) | K4: 30 | L4: Test | M4: 3 | N4: Uncoated | O4: 3 | P4: Recycled (100 %) | Q4: 3 | R4: MWC | S4: 3 | T4: Multi purpose | U4: 3 | V4: PTS Cell | W4: 3 | AA4: Magazine Coated | AB4: 3 | AC4: Semi-finshed | AE4: many | AG4: single fibres & flakes | AH4: fragmented | AI4: present (damaged sheet)
A5: Carrier bag | B5: 3 | C5: Liquid packaging | E5: Newspaper (Quality) | F5: 4 | G5: CH | H5: Inner part | I5: 14 | J5: Inkjet (mix dye/ pigmented) | K5: 29 | L5: Other | M5: 4 | N5: Lamination | O5: 4 | P5: Contains recycled paper (<100 %) | Q5: 4 | R5: HWC | S5: 4 | T5: Inkjet | U5: 4 | V5: Voith A | W5: 4 | AA5: Low ink coverage products (Brightness of base paper ≤ 75) | AB5: 4
A6: To Go Packaging | C6: Molded packaging | E6: Newspaper (Tabloid) | F6: 5 | G6: CZ | H6: Unknown | I6: 8 | J6: Inkjet (dye) | K6: 28 | N6: Metallisation | O6: 5 | R6: SC | S6: 5 | T6: Laser | U6: 5 | V6: Voith Delta 25 | W6: 5 | AA6: Low ink coverage products (Brightness of base paper > 75) | AB6: 5
A7: Other | C7: Outer packaging | E7: Newspaper (unspecified) | F7: 6 | G7: DE | H7: Other | I7: 20 | J7: Inkjet (unspecified) | K7: 10 | N7: Lamination+Metallisation | O7: 6 | R7: Pigmented | S7: 6 | T7: Offset (uncoated/coated) | U7: 6 | V7: Voith Eco-Cell | W7: 8 | AA7: Stationery (Y of base paper > 90) | AB7: 6
C8: Paper cup | E8: Stationery | F8: 7 | G8: DK | J8: Letterpress | K8: 8 | N8: Other | O8: 7 | R8: Specially treated | S8: 7 | T8: Gravure (uncoated/coated) | U8: 7 | V8: Other
C9: Wrapping paper | E9: Test Print | F9: 8 | G9: ES | J9: Offset (unspecified) | K9: 9
C10: Other | E10: Other | F10: 9 | G10: FI | J10: Offset Anilox | K10: 3
G11: FR | J11: Offset Dry | K11: 2
G12: IT | J12: Offset Heatset | K12: 25
G13: JP | J13: Offset Coldset | K13: 26
G14: NL | J14: Offset Sheetfed | K14: 4
G15: NO | J15: Rotogravure | K15: 5
G16: PK | J16: Toner (unspecified) | K16: 14
G17: SE | J17: Toner Dry | K17: 12
G18: UK | J18: Toner Liquid | K18: 11
G19: US | J19: Combination (e.g. Offset+Inkjet) | K19: 27
G20: Other | J20: Screen Printing | K20: 31
G21: Unknown | J21: Unknown | K21: 13
J22: Other | K22: 18

Sheet Batch 2
C1: Test ID | E1: GeneralID | F1: GeneralID | G1: GeneralID
C2: Used field in database | D2: Unit | E2: Results / Data | F2: Results / Data | G2: Results / Data
A3: A | B3: General
A4: A01 | B4: Product Name | C4: [only for information] | E4: =IF(General!D4="","",General!D4) | F4: =IF(General!E4="","",General!E4) | G4: =IF(General!F4="","",General!F4)
A5: A02 | B5: Additional Product Info | C5: AdditionalProductInfo | E5: =IF(General!D5="","",General!D5) | F5: =IF(General!E5="","",General!E5) | G5: =IF(General!F5="","",General!F5)
A6: A03 | B6: Category of Printed Product | C6: [only for information] | E6: =IF(General!D6="","",General!D6) | F6: =IF(General!E6="","",General!E6) | G6: =IF(General!F6="","",General!F6)
A7: A07 | B7: Date of Test (Batch 2) | C7: ProductTestDate
A8: A13 | B8: Paper
A9: A115 | B9: Ash Content fibre based product (525 °C) | D9: % | E9: =IF('Batch 1'!E8="","",'Batch 1'!E8) | F9: =IF('Batch 1'!F8="","",'Batch 1'!F8) | G9: =IF('Batch 1'!G8="","",'Batch 1'!G8)
A10: C031 | B10: Coarse Reject (Batch 1) | D10: % | E10: =IF('Batch 1'!E47="","",'Batch 1'!E47) | F10: =IF('Batch 1'!F47="","",'Batch 1'!F47) | G10: =IF('Batch 1'!G47="","",'Batch 1'!G47)
A11: C0317 | B11: Ash Content of non-paper constituents (525 °C) | D11: % | E11: =IF('Batch 1'!E54="","",'Batch 1'!E54) | F11: =IF('Batch 1'!F54="","",'Batch 1'!F54) | G11: =IF('Batch 1'!G54="","",'Batch 1'!G54)
A12: B | B12: Laboratory Test Procedure
A13: B01 | B13: Method Used | C13: TestMethod | E13: 4EG Part II:2022
A14: B09 | B14: Mass of oven dry sample mps,od | D14: g | E14: =IF(OR(E9="",E10="",E11=""),"",200/(1-(E10/100*(1-E11/100))-E9/100)) | F14: =IF(OR(F9="",F10="",F11=""),"",200/(1-(F10/100*(1-F11/100))-F9/100)) | G14: =IF(OR(G9="",G10="",G11=""),"",200/(1-(G10/100*(1-G11/100))-G9/100))
A15: B021 | B15: Moisture content of sample MCps | D15: % | E15: =IF('Batch 1'!E13="","",'Batch 1'!E13) | F15: =IF('Batch 1'!F13="","",'Batch 1'!F13) | G15: =IF('Batch 1'!G13="","",'Batch 1'!G13)
A16: B022 | B16: Mass of air dry sample mps,ad | D16: g | E16: =IF(OR(E14="",E15=""),"",E14*(1/(1-E15/100))) | F16: =IF(OR(F14="",F15=""),"",F14*(1/(1-F15/100))) | G16: =IF(OR(G14="",G15=""),"",G14*(1/(1-G15/100)))
A17: B10 | B17: Chemical Dosage
A18: B101 | B18: Sodium Hydroxide | C18: SodiumHydroxide | D18: % | E18: 0.6 | F18: 0.6 | G18: 0.6
A19: B102 | B19: Sodium Silicate | C19: SodiumSilicate | D19: % | E19: 1.8 | F19: 1.8 | G19: 1.8
A20: B103 | B20: Hydrogen Peroxide | C20: HydrogenPeroxide | D20: % | E20: 0.7 | F20: 0.7 | G20: 0.7
A21: B104 | B21: Oleic Acid | C21: OleicAcid | D21: % | E21: 0.8 | F21: 0.8 | G21: 0.8
A22: B11 | B22: Mass of stock solution mSt | D22: g | E22: =IF(E14="","",(E14-(E14*E10/100))*2) | F22: =IF(F14="","",(F14-(F14*F10/100))*2) | G22: =IF(G14="","",(G14-(G14*G10/100))*2)
A23: B12 | B23: Concentration of H2O2 | D23: %
A24: B13 | B24: Mass of H2O2 | D24: g | E24: =IF(OR(E23="",E14=""),"",E20/100*(E14-(E14*E10/100))/(E23/100)) | F24: =IF(OR(F23="",F14=""),"",F20/100*(F14-(F14*F10/100))/(F23/100)) | G24: =IF(OR(G23="",G14=""),"",G20/100*(G14-(G14*G10/100))/(G23/100))
A25: B14 | B25: Mass of dilution water | D25: g | E25: =IF(OR(AND(E15="",E9=""),OR(E15="",E9="")),"",1667-E22-E16+(E14*E10/100)-100) | F25: =IF(OR(AND(F15="",F9=""),OR(F15="",F9="")),"",1667-F22-F16+(F14*F10/100)-100) | G25: =IF(OR(AND(G15="",G9=""),OR(G15="",G9="")),"",1667-G22-G16+(G14*G10/100)-100)
A26: B15 | B26: Pulping concentration cPS | C26: PulpingConsistency | D26: % | E26: =IF(OR(E14="",E10=""),"",E14/(1667+(E14*E10/100))) | F26: =IF(OR(F14="",F10=""),"",F14/(1667+(F14*F10/100))) | G26: =IF(OR(G14="",G10=""),"",G14/(1667+(G14*G10/100)))
A27: B16 | B27: Flotation Cell | C27: FlotationCell
A28: B17 | B28: Flotation stock concentration of undeinked pulp | C28: FlotationConsistency | D28: % | E28: 0.8 | F28: 0.8 | G28: 0.8
A29: B18 | B29: Volume flotation cell | D29: l
A30: C | B30: Laboratory Results
A31: C01 | B31: pH Values
A32: C012 | B32: After Pulping (15% Concentration) | C32: pH_AfterPulping
A33: C013 | B33: At Begin of Storage (5% Concentration) | C33: pH_BeginOfStorage
A34: C014 | B34: At End of Storage (5% Concentration) | C34: pH_EndOfStorage
A35: C015 | B35: At Begin of Flotation (Flotation Concentration) | C35: pH_BeginOfFlotation
A36: C04 | B36: Yield
A37: C041 | B37: Flotation Yield | C37: FlotationYield | D37: % | E37: =IF(OR(E29=0,E40=0,E41=0),"",((E28*E29)-(E40*E41))/(E28*E29)*100) | F37: =IF(OR(F29=0,F40=0,F41=0),"",((F28*F29)-(F40*F41))/(F28*F29)*100) | G37: =IF(OR(G29=0,G40=0,G41=0),"",((G28*G29)-(G40*G41))/(G28*G29)*100)
A38: C042 | B38: Fibre Yield | C38: FibreYield | D38: % | E38: =IF(OR(E29=0,E40=0,E41=0,E43=0,E53=0),"",E37*(1-E53/100)/(1-E43/100)) | F38: =IF(OR(F29=0,F40=0,F41=0,F43=0,F53=0),"",F37*(1-F53/100)/(1-F43/100)) | G38: =IF(OR(G29=0,G40=0,G41=0,G43=0,G53=0),"",G37*(1-G53/100)/(1-G43/100))
A39: C05 | B39: Overflow
A40: C051 | B40: Mass mfroth | D40: kg
...

Sheet Log
A1: Key to version numbers
A2: 1st Digit: | B2: Large changes, e. g. complete data blocks
A3: 2nd Digit: | B3: Single fields added / deleted
A4: 3rd Digit: | B4: Presettings or selections changed, wording, ...
A7: Change log
A9: Version | B9: Changes | C9: Remarks | D9: Change Date | E9: Who | F9: Verteilt
A10: 2.3.0 | B10: Minor layout bugs | D10: 40960 | E10: FB
A11: 2.3.0 | B11: Modification for better input to database | D11: 40960 | E11: FB
A12: 2.3.0 | B12: Inconsistency in orthography eliminated | D12: 40960 | E12: FB
A13: 2.3.0 | B13: Für Datenbank-Import optimiert | D13: 40999 | E13: FB
A14: 2.4.0 | B14: Datenfeld hinzugefügt | C14: A136 Ash Content (525 °C) | D14: 41128 | E14: FB
A15: 2.4.0 | B15: Datenfeld hinzugefügt | C15: C022 Fibre Yield | D15: 41128 | E15: FB
A16: 2.4.0 | B16: Datenfeld hinzugefügt | C16: C031 Mass mfroth | D16: 41128 | E16: FB
A17: 2.4.0 | B17: Datenfeld hinzugefügt | C17: C032 Stock Consistency | D17: 41128 | E17: FB
A18: 2.4.0 | B18: Detenfeld gelöscht | C18: B04 Homogenisation | D18: 41128 | E18: FB
A19: 2.4.1 | B19: Korrekturen nach Einfügen von Zeilen | C19: E122 - E156 | D19: 41141 | E19: AKK
A20: 2.4.2 | B20: Aktualisierung Listen; z.B. Liste Methoden nur aktuelle Methoden | D20: 41212 | E20: AKK
A21: 2.4.3 | B21: textliche Änderungen Zeile A134 | D21: 41317 | E21: AKK
A22: 1.0.0 | B22: INGEDE Method 11 LabReport adapted to the needs of 4EG WS 1 Part II recyclability test method | D22: 44501 | E22: CT
A23: 1.0.1 | B23: Suggestions for improvemnt from CTP and PTS incorporated | D23: 45068 | E23: CT | F23: 45068
A24: 1.0.2 | B24: Suggestions for improvemnt from PTS incorporated | D24: 45686 | E24: CT | F24: 45686
