Workbook
Name AdhSheet: OFFSET(Names!$AI$2,,,COUNTA(Names!$AI:$AI)-1,1)
Name Fibres: OFFSET(Names!$AG$2,,,COUNTA(Names!$AG:$AG)-1,1)
Name FlotationCell: OFFSET(Names!$V$2,,,COUNTA(Names!$V:$V)-1,1)
Name Fragmentation: OFFSET(Names!$AH$2,,,COUNTA(Names!$AH:$AH)-1,1)
Name HowMany: OFFSET(Names!$AE$2,,,COUNTA(Names!$AE:$AE)-1,1)
Name Method: OFFSET(Names!$X$2,,,COUNTA(Names!$X:$X)-1,1)
Name PaperClassification: OFFSET(Names!$N$2,,,COUNTA(Names!$N:$N)-1,1)
Name PaperFinishing: Names!$R$2:$R$8
Name PaperFurnish: OFFSET(Names!$P$2,,,COUNTA(Names!$P:$P)-1,1)
Name PaperUse: Names!$T$2:$T$8
Name Particles: OFFSET(Names!$AF$2,,,COUNTA(Names!$AF:$AF)-1,1)
Name PrintCategory: OFFSET(Names!$L$2,,,COUNTA(Names!$L:$L)-1,1)
Name PrintingCountry: OFFSET(Names!$G$2,,,COUNTA(Names!$G:$G)-1,1)
Name PrintingProcess: OFFSET(Names!$J$2,,,COUNTA(Names!$J:$J)-1,1)
Name ProductCategory: OFFSET(Names!$A$2,,,COUNTA(Names!$A:$A)-1,1)
Name ProductPart: OFFSET(Names!$H$2,,,COUNTA(Names!$H:$H)-1,1)
Name ProductType: OFFSET(Names!$E$2,,,COUNTA(Names!$E:$E)-1,1)
Name SC_a: OFFSET('Batch 2'!#REF!,,,1,COUNTA('Batch 2'!$4:$4))
Name SC_A250: OFFSET('Batch 2'!#REF!,,,1,COUNTA('Batch 2'!$4:$4))
Name SC_A50: OFFSET('Batch 2'!#REF!,,,1,COUNTA('Batch 2'!$4:$4))
Name SC_dY: OFFSET('Batch 2'!#REF!,,,1,COUNTA('Batch 2'!$4:$4))
Name SC_IE: OFFSET('Batch 2'!#REF!,,,1,COUNTA('Batch 2'!$4:$4))
Name SC_TestID: OFFSET('Batch 2'!$E$1,,,1,COUNTA('Batch 2'!$4:$4))
Name SC_Y: OFFSET('Batch 2'!#REF!,,,1,COUNTA('Batch 2'!$4:$4))
Name StateOfPackaging: OFFSET(Names!$AC$2,,,COUNTA(Names!$AC:$AC)-1,1)
Name TT_Assessment: #REF!
Name TT_Categories: OFFSET(#REF!,,,COUNTA(#REF!),1)
Name TT_DS_a_max: OFFSET(#REF!,,,COUNTA(#REF!),1)
Name TT_DS_A250: OFFSET(#REF!,,,COUNTA(#REF!),1)
Name TT_DS_A50: OFFSET(#REF!,,,COUNTA(#REF!),1)
Name TT_DS_dY: OFFSET(#REF!,,,COUNTA(#REF!),1)
Name TT_DS_IE: OFFSET(#REF!,,,COUNTA(#REF!),1)
Name TT_DS_Y: OFFSET(#REF!,,,COUNTA(#REF!),1)
Name TT_T_a_high: OFFSET(#REF!,,,COUNTA(#REF!),1)
Name TT_T_a_low: OFFSET(#REF!,,,COUNTA(#REF!),1)
Name TT_T_A250: OFFSET(#REF!,,,COUNTA(#REF!),1)
Name TT_T_A50: OFFSET(#REF!,,,COUNTA(#REF!),1)
Name TT_T_dY: OFFSET(#REF!,,,COUNTA(#REF!),1)
Name TT_T_IE: OFFSET(#REF!,,,COUNTA(#REF!),1)
Name TT_T_Y: OFFSET(#REF!,,,COUNTA(#REF!),1)
Name TT_TH_a_high: OFFSET(#REF!,,,COUNTA(#REF!),1)
Name TT_TH_a_low: OFFSET(#REF!,,,COUNTA(#REF!),1)
Name TT_TH_A250: OFFSET(#REF!,,,COUNTA(#REF!),1)
Name TT_TH_A50: OFFSET(#REF!,,,COUNTA(#REF!),1)
Name TT_TH_dY: OFFSET(#REF!,,,COUNTA(#REF!),1)
Name TT_TH_IE: OFFSET(#REF!,,,COUNTA(#REF!),1)
Name TT_TH_Y: OFFSET(#REF!,,,COUNTA(#REF!),1)
Name UseCase: OFFSET(Names!$C$2,,,COUNTA(Names!$C:$C)-1,1)
Name YesNo: OFFSET(Names!$Z$2,,,COUNTA(Names!$Z:$Z)-1,1)

Sheet General
D1: GeneralID | E1: GeneralID | F1: GeneralID
C2: Unit | D2: Results / Data | E2: Results / Data | F2: Results / Data
A3: A | B3: General
A4: A01 | B4: Product Name
A5: A02 | B5: Additional Product Info
A6: A03 | B6: Category of Product
A7: A04 | B7: Use Case
A8: A05 | B8: Printing Process
A9: A06 | B9: Additional Printing Process
A10: A07 | B10: State of packaging
A11: A08 | B11: Number of Adhesive Applications
A12: A09 | B12: Description of Adhesive Applications
A13: A10 | B13: Packaging weight
A14: A11 | B14: Paper
... A17: A113 | B17: Paper Furnish
A18: A114 | B18: Brightness of Unprinted Paper (low ink coverage products) | C18: %
A19: X | B19: Reference
A20: X01 | B20: Reference (e.g. Project)
A21: Y | B21: Institute
A22: Y01 | B22: Institute
A23: Y02 | B23: Technician Batch 1
A24: Y02 | B24: Technician Batch 2
A25: R | B25: General remarks

Sheet Batch 1
C1: Test ID | E1: GeneralID | F1: GeneralID | G1: GeneralID
C2: Used field in database | D2: Unit | E2: Results / Data | F2: Results / Data | G2: Results / Data
A3: A | B3: General
A4: A01 | B4: Product Name | C4: [only for information] | E4: =IF(General!D4="","",General!D4) | F4: =IF(General!E4="","",General!E4) | G4: =IF(General!F4="","",General!F4)
A5: A02 | B5: Additional Product Info | C5: AdditionalProductInfo | E5: =IF(General!D5="","",General!D5) | F5: =IF(General!E5="","",General!E5) | G5: =IF(General!F5="","",General!F5)
A6: A12 | B6: Date of Test (Batch 1) | C6: ProductTestDate
A7: A11 | B7: Paper
A8: A115 | B8: Ash Content fibre based product (525 °C) | D8: %
B9: Dry removed material oven dry | D9: g
A10: B | B10: Laboratory Test Procedure
A11: B01 | B11: Method Used | C11: TestMethod | E11: 4EG Part II:2022 | F11: 4EG Part II:2022 | G11: 4EG Part II:2022
A12: B02 | B12: Mass of oven dry sample mps,od | D12: g | E12: =IF(E8="","",200/(1-E8/100)) | F12: =IF(F8="","",200/(1-F8/100)) | G12: =IF(G8="","",200/(1-G8/100))
A13: B021 | B13: Dry matter content | D13: %
A14: B022 | B14: Mass of air dry sample mps,ad | D14: g | E14: =IF(OR(E12="",E13=""),"",E12*(1/(E13/100))) | F14: =IF(OR(F12="",F13=""),"",F12*(1/(F13/100))) | G14: =IF(OR(G12="",G13=""),"",G12*(1/(G13/100)))
A15: B03 | B15: Chemical Dosage
A16: B031 | B16: Sodium Hydroxide | C16: SodiumHydroxide | D16: % | E16: 0.6 | F16: 0.6 | G16: 0.6
A17: B032 | B17: Sodium Silicate | C17: SodiumSilicate | D17: % | E17: 1.8 | F17: 1.8 | G17: 1.8
A18: B033 | B18: Hydrogen Peroxide | C18: HydrogenPeroxide | D18: % | E18: 0.7 | F18: 0.7 | G18: 0.7
A19: B034 | B19: Oleic Acid | C19: OleicAcid | D19: % | E19: 0.8 | F19: 0.8 | G19: 0.8
A20: B04 | B20: Mass of stock solution mSt | D20: g | E20: =IF(E12="","",(E12*2)) | F20: =IF(F12="","",(F12*2)) | G20: =IF(G12="","",(G12*2))
A21: B05 | B21: Concentration of H2O2 | D21: %
A22: B06 | B22: Mass of H2O2 | D22: g | E22: =IF(OR(E21="",E12=""),"",E18/100*E12/(E21/100)) | F22: =IF(OR(F21="",F12=""),"",F18/100*F12/(F21/100)) | G22: =IF(OR(G21="",G12=""),"",G18/100*G12/(G21/100))
A23: B07 | B23: Mass of dilution water | D23: g | E23: =IF(OR(AND(E13="",E8=""),OR(E13="",E8="")),"",1667-E20-E14-100) | F23: =IF(OR(AND(F13="",F8=""),OR(F13="",F8="")),"",1667-F20-F14-100) | G23: =IF(OR(AND(G13="",G8=""),OR(G13="",G8="")),"",1667-G20-G14-100)
A24: B08 | B24: Pulping concentration cPS | C24: PulpingConsistency | D24: % | E24: =100*12/(100-E8) -> 12 | F24: =100*12/(100-F8) -> 12 | G24: =100*12/(100-G8) -> 12
A25: C | B25: Laboratory Results
A26: C01 | B26: pH Values
A27: C011 | B27: After Pulping (15% Concentration) | C27: pH_AfterPulping
B28: Sample mass after dilution to 5 % | D28: g | E28: =IF(E12="","",E12/0.05) | F28: =IF(F12="","",F12/0.05) | G28: =IF(G12="","",G12/0.05)
A29: C02 | B29: Dissolved and colloidal solids
A30: C021 | B30: Consistency of sample input | D30: % | E30: 2.5 | F30: 2.5 | G30: 2.5
B31: Evaporation residue (average, expressed in g/kg packaging product) | D31: g/kg | E31: =IF(OR(E30="",E32=""),"",E32/(E30/100)) | F31: =IF(OR(F30="",F32=""),"",F32/(F30/100)) | G31: =IF(OR(G30="",G32=""),"",G32/(G30/100))
A32: C022 | B32: Evaporation residue (average, expressed in mg/g filtrate) | D32: mg/g | E32: =IF(OR(E36="",E40=""),"",0.5*(E36+E40)) | F32: =IF(OR(F36="",F40=""),"",0.5*(F36+F40)) | G32: =IF(OR(G36="",G40=""),"",0.5*(G36+G40))
A33: C0221 | B33: Weight in of filtrate (1) | D33: g
A34: C0222 | B34: Weight of laboratory tray (empty; 1) | C34: g | D34: mg
A35: C0223 | B35: Weight of output (with laboratory tray; 1) | C35: g | D35: mg
A36: C0224 | B36: Evaporation residue of the filtrate per g filtrate (1) | C36: g/g | D36: mg/g | E36: =IF(E35="","",((E35-E34)/E33)) | F36: =IF(F35="","",((F35-F34)/F33)) | G36: =IF(G35="","",((G35-G34)/G33))
A37: C0225 | B37: Weight in of filtrate (2) | D37: g
A38: C0226 | B38: Weight of laboratory tray (empty; 2) | D38: mg
A39: C0227 | B39: Weight of output (with laboratory tray; 2) | C39: g | D39: mg
A40: C0228 | B40: Evaporation residue of the filtrate per g filtrate (2) | C40: g/g | D40: mg/g | E40: =IF(E39="","",((E39-E38)/E37)) | F40: =IF(F39="","",((F39-F38)/F37)) | G40: =IF(G39="","",((G39-G38)/G37))
B41: Chemical oxigen demand (average, expressed in mg/kg packaging product) | D41: g/kg | E41: =IF(OR(E30="",E42=""),"",E42/(E30/100)/1000)
A42: C023 | B42: Chemical oxigen demand (average) | D42: mg/l | E42: =IF(E44="","",AVERAGE(E44:E45)) | F42: =IF(F44="","",AVERAGE(F44:F45)) | G42: =IF(G44="","",AVERAGE(G44:G45))
A43: C0231 | B43: Cuvette testing range | D43: mg/l
A44: C0232 | B44: COD (1) | D44: mg/l
A45: C0233 | B45: COD (2) | D45: mg/l
A46: C03 | B46: Screening
A47: C031 | B47: Coarse Reject | C47: FlotationYield | D47: % | E47: =IF(OR(E48="",E51=""),"",SUM(E51:E53)/SUM(E48:E50)*100) | F47: =IF(OR(F48="",F51=""),"",SUM(F51:F53)/SUM(F48:F50)*100) | G47: =IF(OR(G48="",G51=""),"",SUM(G51:G53)/SUM(G48:G50)*100)
A48: C0311 | B48: Input weight coarse screening 1 (oven dry) | D48: g
A49: C0312 | B49: Input weight coarse screening 2 (oven dry) | D49: g
A50: C0313 | B50: Input weight coarse screening 3 (oven dry) | D50: g
A51: C0314 | B51: Coarse Reject 1 | D51: g
A52: C0315 | B52: Coarse Reject 2 | D52: g
A53: C0316 | B53: Coarse Reject 3 | D53: g
A54: C0317 | B54: Ash Content Coarse Reject | D54: %
A55: C0318 | B55: Does the coarse reject contain fibres?
A56: C03181 | B56: If yes how many
A57: C03182 | B57: And which type/size
A58: C0319 | B58: Does the reject contain non-fibre?
A59: C03191 | B59: If yes, how many?
A60: C03192 | B60: And which type/size?
A61: C03193 | B61: How is the degree of fragmentation?
A62: C03194 | B62: What material does non-fibre reject consist of?
B63: Stock concentration AC | D63: %
A64: C032 | B64: Fine Reject | C64: FibreYield | D64: % | E64: =IF(OR(E66="",E70=""),"",SUM(E70:E71)/SUM(E66:E67)*100) | F64: =IF(OR(F66="",F70=""),"",SUM(F70:F71)/SUM(F66:F67)*100) | G64: =IF(OR(G66="",G70=""),"",SUM(G70:G71)/SUM(G66:G67)*100)
B65: Fine Reject related to total product | D65: % | E65: =IF(OR(E67="",E71=""),"",SUM(E71:E72)/SUM(E67:E70)*100) | F65: =IF(OR(F67="",F71=""),"",SUM(F71:F72)/SUM(F67:F70)*100) | G65: =IF(OR(G67="",G71=""),"",SUM(G71:G72)/SUM(G67:G70)*100)
A66: C0321 | B66: Input weight fine screening 1 (oven dry) | D66: g
A67: C0322 | B67: Input weight fine screening 2 (oven dry) | D67: g
B68: Input weight fine screening 1 (stock) | D68: g | E68: =IF(OR(E63="",E66=""),"",E66/E63*100) | F68: =IF(OR(F63="",F66=""),"",F66/F63*100) | G68: =IF(OR(G63="",G66=""),"",G66/G63*100)
B69: Input weight fine screening 2 (stock) | D69: g | E69: =IF(OR(E64="",E67=""),"",E67/E64*100) | F69: =IF(OR(F64="",F67=""),"",F67/F64*100) | G69: =IF(OR(G64="",G67=""),"",G67/G64*100)
A70: C0323 | B70: Fine Reject 1 | D70: g
A71: C0324 | B71: Fine Reject 2 | D71: g
A72: C0325 | B72: Does the reject contain fibres?
A73: C03251 | B73: If yes, how many?
A74: C03252 | B74: And which type/size?
A75: C0326 | B75: Does the reject contain non-fibre?
A76: C03261 | B76: If yes, how many?
A77: C03262 | B77: And which type/size?
A78: C03263 | B78: How is the degree of fragmentation?
A79: C03264 | B79: What material does non-fibre reject consist of?
A80: C04 | B80: Tackiness
A81: C041 | B81: Result Sheet Adhesion Test (Accept Coarse Screen)
A82: C042 | B82: Result Sheet Adhesion Test (Accept Fine Screen)
A83: C043 | B83: Macrostickies (Accept Coarse Sceen)
A84: C044 | B84: Macrostickies <2000 µm | D84: mm2/kg product | E84: =SUM(E86:E90) -> 0 | F84: =SUM(F86:F90) -> 0 | G84: =SUM(G86:G90) -> 0
A85: C045 | B85: Type of image analysis software and version
A86: C0451 | B86: between 100 and 200 | D86: mm2/kg product
A87: C0452 | B87: between 200 and 400 | D87: mm2/kg product
A88: C0453 | B88: between 400 and 600 | D88: mm2/kg product
A89: C0454 | B89: between 600 and 1000 | D89: mm2/kg product
A90: C0455 | B90: between 1000 and 2000 | D90: mm2/kg product
A91: C0456 | B91: between 2000 and 3000 | D91: mm2/kg product
A92: C0457 | B92: between 3000 and 10000 | D92: mm2/kg product
A93: C0458 | B93: larger than 10000 | D93: mm2/kg product
A94: R | B94: Batch 1 Remarks | C94: Remarks

Sheet Names
A1: ProductCategory | B1: ProductCategoryID | C1: UseCase | E1: ProductType | F1: ProductTypeID | G1: PrintingCountry | H1: ProductPart | I1: ProductPartID | J1: PrintingProcess | K1: PrintingProcessID | L1: PrintCategory | M1: PrintCategoryID | N1: PaperClassification | O1: PaperClassificationID | P1: PaperFurnish | Q1: PaperFurnishID | R1: PaperFinishing | S1: PaperFinishingID | T1: PaperUse | U1: PaperUseID | V1: FlotationCell | W1: FlotationCellID | X1: Test Method | Y1: TestMethodID | Z1: YesNo | AA1: Benchmarking Category | AB1: BenchmarkingCategoryID | AC1: StateOfPackaging | AD1: BenchmarkingCategoryID | AE1: HowMany | AF1: Particles | AG1: Fibres | AH1: Fragmentation | AI1: AdhSheet
A2: Boxboard | B2: 1 | C2: Banderole | E2: Catalogue | F2: 1 | G2: AT | H2: Complete | I2: 1 | J2: Flexography | K2: 6 | L2: Commercial | M2: 1 | N2: Pigment coated | O2: 1 | P2: Woodfree | Q2: 1 | R2: Uncoated | S2: 1 | T2: Newsprint | U2: 1 | V2: IfP Cell | W2: 1 | X2: 4EG Part II:2026 | Y2: 1 | Z2: Yes | AA2: Newspaper | AB2: 1 | AC2: Used | AE2: few | AF2: small particles | AG2: single fibres | AH2: unfragmented | AI2: absent
A3: Corrugated board | B3: 2 | C3: Filling material | E3: Flyer | F3: 2 | G3: BE | H3: Centerfold | I3: 11 | J3: Inkjet (non-aequous inks) | K3: 23 | L3: Demo | M3: 2 | N3: Barrier coated | O3: 2 | P3: Mechanical pulp based | Q3: 2 | R3: LWC | S3: 2 | T3: Improved Newsprint | U3: 2 | V3: Lam'deinkit | W3: 2 | Z3: No | AA3: Magazine Uncoated | AB3: 2 | AC3: Unused | AE3: some | AF3: large particles | AG3: fibre flakes | AH3: partly fragmented | AI3: partly present
A4: Flexible packaging | B4: 4 | C4: Frozen food carton | E4: Magazine | F4: 3 | G4: CA | H4: Cover | I4: 2 | J4: Inkjet (pigment) | K4: 30 | L4: Test | M4: 3 | N4: Uncoated | O4: 3 | P4: Recycled (100 %) | Q4: 3 | R4: MWC | S4: 3 | T4: Multi purpose | U4: 3 | V4: PTS Cell | W4: 3 | AA4: Magazine Coated | AB4: 3 | AC4: Semi-finshed | AE4: many | AG4: single fibres & flakes | AH4: fragmented | AI4: present (damaged sheet)
A5: Carrier bag | B5: 3 | C5: Liquid packaging | E5: Newspaper (Quality) | F5: 4 | G5: CH | H5: Inner part | I5: 14 | J5: Inkjet (mix dye/ pigmented) | K5: 29 | L5: Other | M5: 4 | N5: Lamination | O5: 4 | P5: Contains recycled paper (<100 %) | Q5: 4 | R5: HWC | S5: 4 | T5: Inkjet | U5: 4 | V5: Voith A | W5: 4 | AA5: Low ink coverage products (Brightness of base paper ≤ 75) | AB5: 4
A6: To Go Packaging | C6: Molded packaging | E6: Newspaper (Tabloid) | F6: 5 | G6: CZ | H6: Unknown | I6: 8 | J6: Inkjet (dye) | K6: 28 | N6: Metallisation | O6: 5 | R6: SC | S6: 5 | T6: Laser | U6: 5 | V6: Voith Delta 25 | W6: 5 | AA6: Low ink coverage products (Brightness of base paper > 75) | AB6: 5
A7: Other | C7: Outer packaging | E7: Newspaper (unspecified) | F7: 6 | G7: DE | H7: Other | I7: 20 | J7: Inkjet (unspecified) | K7: 10 | N7: Lamination+Metallisation | O7: 6 | R7: Pigmented | S7: 6 | T7: Offset (uncoated/coated) | U7: 6 | V7: Voith Eco-Cell | W7: 8 | AA7: Stationery (Y of base paper > 90) | AB7: 6
C8: Paper cup | E8: Stationery | F8: 7 | G8: DK | J8: Letterpress | K8: 8 | N8: Other | O8: 7 | R8: Specially treated | S8: 7 | T8: Gravure (uncoated/coated) | U8: 7 | V8: Other
C9: Wrapping paper | E9: Test Print | F9: 8 | G9: ES | J9: Offset (unspecified) | K9: 9
C10: Other | E10: Other | F10: 9 | G10: FI | J10: Offset Anilox | K10: 3
G11: FR | J11: Offset Dry | K11: 2
G12: IT | J12: Offset Heatset | K12: 25
G13: JP | J13: Offset Coldset | K13: 26
G14: NL | J14: Offset Sheetfed | K14: 4
G15: NO | J15: Rotogravure | K15: 5
G16: PK | J16: Toner (unspecified) | K16: 14
G17: SE | J17: Toner Dry | K17: 12
G18: UK | J18: Toner Liquid | K18: 11
G19: US | J19: Combination (e.g. Offset+Inkjet) | K19: 27
G20: Other | J20: Screen Printing | K20: 31
G21: Unknown | J21: Unknown | K21: 13
J22: Other | K22: 18

Sheet Batch 2
C1: Test ID | E1: GeneralID | F1: GeneralID | G1: GeneralID
C2: Used field in database | D2: Unit | E2: Results / Data | F2: Results / Data | G2: Results / Data
A3: A | B3: General
A4: A01 | B4: Product Name | C4: [only for information] | E4: =IF(General!D4="","",General!D4) | F4: =IF(General!E4="","",General!E4) | G4: =IF(General!F4="","",General!F4)
A5: A02 | B5: Additional Product Info | C5: AdditionalProductInfo | E5: =IF(General!D5="","",General!D5) | F5: =IF(General!E5="","",General!E5) | G5: =IF(General!F5="","",General!F5)
A6: A03 | B6: Category of Printed Product | C6: [only for information] | E6: =IF(General!D6="","",General!D6) | F6: =IF(General!E6="","",General!E6) | G6: =IF(General!F6="","",General!F6)
A7: A07 | B7: Date of Test (Batch 2) | C7: ProductTestDate
A8: A13 | B8: Paper
A9: A115 | B9: Ash Content fibre based product (525 °C) | D9: % | E9: =IF('Batch 1'!E8="","",'Batch 1'!E8) | F9: =IF('Batch 1'!F8="","",'Batch 1'!F8) | G9: =IF('Batch 1'!G8="","",'Batch 1'!G8)
A10: C031 | B10: Coarse Reject (Batch 1) | D10: % | E10: =IF('Batch 1'!E47="","",'Batch 1'!E47) | F10: =IF('Batch 1'!F47="","",'Batch 1'!F47) | G10: =IF('Batch 1'!G47="","",'Batch 1'!G47)
A11: C0317 | B11: Ash Content of non-paper constituents (525 °C) | D11: % | E11: =IF('Batch 1'!E54="","",'Batch 1'!E54) | F11: =IF('Batch 1'!F54="","",'Batch 1'!F54) | G11: =IF('Batch 1'!G54="","",'Batch 1'!G54)
A12: B | B12: Laboratory Test Procedure
A13: B01 | B13: Method Used | C13: TestMethod | E13: 4EG Part II:2022
A14: B09 | B14: Mass of oven dry sample mps,od | D14: g | E14: =IF(OR(E9="",E10="",E11=""),"",200/(1-(E10/100*(1-E11/100))-E9/100)) | F14: =IF(OR(F9="",F10="",F11=""),"",200/(1-(F10/100*(1-F11/100))-F9/100)) | G14: =IF(OR(G9="",G10="",G11=""),"",200/(1-(G10/100*(1-G11/100))-G9/100))
A15: B021 | B15: Moisture content of sample MCps | D15: % | E15: =IF('Batch 1'!E13="","",'Batch 1'!E13) | F15: =IF('Batch 1'!F13="","",'Batch 1'!F13) | G15: =IF('Batch 1'!G13="","",'Batch 1'!G13)
A16: B022 | B16: Mass of air dry sample mps,ad | D16: g | E16: =IF(OR(E14="",E15=""),"",E14*(1/(1-E15/100))) | F16: =IF(OR(F14="",F15=""),"",F14*(1/(1-F15/100))) | G16: =IF(OR(G14="",G15=""),"",G14*(1/(1-G15/100)))
A17: B10 | B17: Chemical Dosage
A18: B101 | B18: Sodium Hydroxide | C18: SodiumHydroxide | D18: % | E18: 0.6 | F18: 0.6 | G18: 0.6
A19: B102 | B19: Sodium Silicate | C19: SodiumSilicate | D19: % | E19: 1.8 | F19: 1.8 | G19: 1.8
A20: B103 | B20: Hydrogen Peroxide | C20: HydrogenPeroxide | D20: % | E20: 0.7 | F20: 0.7 | G20: 0.7
A21: B104 | B21: Oleic Acid | C21: OleicAcid | D21: % | E21: 0.8 | F21: 0.8 | G21: 0.8
A22: B11 | B22: Mass of stock solution mSt | D22: g | E22: =IF(E14="","",(E14-(E14*E10/100))*2) | F22: =IF(F14="","",(F14-(F14*F10/100))*2) | G22: =IF(G14="","",(G14-(G14*G10/100))*2)
A23: B12 | B23: Concentration of H2O2 | D23: %
A24: B13 | B24: Mass of H2O2 | D24: g | E24: =IF(OR(E23="",E14=""),"",E20/100*(E14-(E14*E10/100))/(E23/100)) | F24: =IF(OR(F23="",F14=""),"",F20/100*(F14-(F14*F10/100))/(F23/100)) | G24: =IF(OR(G23="",G14=""),"",G20/100*(G14-(G14*G10/100))/(G23/100))
A25: B14 | B25: Mass of dilution water | D25: g | E25: =IF(OR(AND(E15="",E9=""),OR(E15="",E9="")),"",1667-E22-E16+(E14*E10/100)-100) | F25: =IF(OR(AND(F15="",F9=""),OR(F15="",F9="")),"",1667-F22-F16+(F14*F10/100)-100) | G25: =IF(OR(AND(G15="",G9=""),OR(G15="",G9="")),"",1667-G22-G16+(G14*G10/100)-100)
A26: B15 | B26: Pulping concentration cPS | C26: PulpingConsistency | D26: % | E26: =IF(OR(E14="",E10=""),"",E14/(1667+(E14*E10/100))) | F26: =IF(OR(F14="",F10=""),"",F14/(1667+(F14*F10/100))) | G26: =IF(OR(G14="",G10=""),"",G14/(1667+(G14*G10/100)))
A27: B16 | B27: Flotation Cell | C27: FlotationCell
A28: B17 | B28: Flotation stock concentration of undeinked pulp | C28: FlotationConsistency | D28: % | E28: 0.8 | F28: 0.8 | G28: 0.8
A29: B18 | B29: Volume flotation cell | D29: l
A30: C | B30: Laboratory Results
A31: C01 | B31: pH Values
A32: C012 | B32: After Pulping (15% Concentration) | C32: pH_AfterPulping
A33: C013 | B33: At Begin of Storage (5% Concentration) | C33: pH_BeginOfStorage
A34: C014 | B34: At End of Storage (5% Concentration) | C34: pH_EndOfStorage
A35: C015 | B35: At Begin of Flotation (Flotation Concentration) | C35: pH_BeginOfFlotation
A36: C04 | B36: Yield
A37: C041 | B37: Flotation Yield | C37: FlotationYield | D37: % | E37: =IF(OR(E29=0,E40=0,E41=0),"",((E28*E29)-(E40*E41))/(E28*E29)*100) | F37: =IF(OR(F29=0,F40=0,F41=0),"",((F28*F29)-(F40*F41))/(F28*F29)*100) | G37: =IF(OR(G29=0,G40=0,G41=0),"",((G28*G29)-(G40*G41))/(G28*G29)*100)
A38: C042 | B38: Fibre Yield | C38: FibreYield | D38: % | E38: =IF(OR(E29=0,E40=0,E41=0,E43=0,E53=0),"",E37*(1-E53/100)/(1-E43/100)) | F38: =IF(OR(F29=0,F40=0,F41=0,F43=0,F53=0),"",F37*(1-F53/100)/(1-F43/100)) | G38: =IF(OR(G29=0,G40=0,G41=0,G43=0,G53=0),"",G37*(1-G53/100)/(1-G43/100))
A39: C05 | B39: Overflow
A40: C051 | B40: Mass mfroth | D40: kg
A41: C052 | B41: Stock concentration | D41: %
A42: C06 | B42: Undeinked Pulp
A43: C061 | B43: Ash Content (525 °C) | C43: UPAshContent | D43: %
A44: C062 | B44: Brightness R457 Filter Pad | C44: UPBrightness | D44: %
A45: C063 | B45: Illumination C/2°/0 without UV
A46: C0631 | B46: Y Filter Pad | C46: UPY
A47: C0632 | B47: L* Filter Pad | C47: UPL
A48: C0633 | B48: a* Filter Pad | C48: UPa
A49: C0634 | B49: b* Filter Pad | C49: UPb
A50: C064 | B50: R∞, 700 Filter Pad | C50: UPR | D50: %
A51: C065 | B51: ERIC Filter Pad | C51: UPERIC | D51: ppm
A52: C07 | B52: Deinked Pulp
A53: C071 | B53: Ash Content (525 °C) | C53: DPAshContent | D53: %
A54: C072 | B54: Brightness R457 Filter Pad | C54: DPBrightness | D54: %
A55: C073 | B55: Illumination C/2°/0 without UV
A56: C0731 | B56: Y Filter Pad | C56: DPY
A57: C0732 | B57: L* Filter Pad | C57: DPL
A58: C0733 | B58: a* Filter Pad | C58: DPa
A59: C0734 | B59: b* Filter Pad | C59: DPb
A60: C074 | B60: R∞, 700 Filter Pad | C60: DPR | D60: %
A61: C075 | B61: ERIC Filter Pad | C61: UPERIC | D61: ppm
A62: C076 | B62: Dirt Particle Area: Domas
A63: C0761 | B63: Total Count | D63: #/m² | E63: =SUM(E68:E73) -> 0 | F63: =SUM(F68:F73) -> 0 | G63: =SUM(G68:G73) -> 0
A64: C07611 | B64: Fine screening after flotation?
A65: C07612 | B65: Are there any visual impurities which are not detected by the Software?
A66: C07613 | B66: If yes how much?
A67: C07614 | B67: Which kind of visual impurities?
A68: C07615 | B68: Count: >50 - 100 | C68: DPDomasCount50 | D68: #/m²
A69: C07616 | B69: Count: >100 - 150 | C69: DPDomasCount100 | D69: #/m²
A70: C07617 | B70: Count: >150 - 200 | C70: DPDomasCount150 | D70: #/m²
A71: C07618 | B71: Count: >200 - 250 | C71: DPDomasCount200 | D71: #/m²
A72: C07619 | B72: Count: >250 - 500 | C72: DPDomasCount250 | D72: #/m²
A73: C076110 | B73: Count: >500 | C73: DPDomasCount500 | D73: #/m²
A74: C0762 | B74: Total Area | D74: mm²/m² | E74: =SUM(E76:E81) -> 0 | F74: =SUM(F76:F81) -> 0 | G74: =SUM(G76:G81) -> 0
A75: C07621 | B75: Total Area >250 | D75: mm²/m² | E75: =IF(OR(ISBLANK(E80),ISBLANK(E81)),"",SUM(E80:E81)) | F75: =IF(OR(ISBLANK(F80),ISBLANK(F81)),"",SUM(F80:F81)) | G75: =IF(OR(ISBLANK(G80),ISBLANK(G81)),"",SUM(G80:G81))
A76: C07622 | B76: Area: >50 - 100 | C76: DPDomasArea50 | D76: mm²/m²
A77: C07623 | B77: Area: >100 - 150 | C77: DPDomasArea100 | D77: mm²/m²
A78: C07624 | B78: Area: >150 - 200 | C78: DPDomasArea150 | D78: mm²/m²
A79: C07625 | B79: Area: >200 - 250 | C79: DPDomasArea200 | D79: mm²/m²
A80: C07626 | B80: Area: >250 - 500 | C80: DPDomasArea250 | D80: mm²/m²
A81: C07627 | B81: Area: >500 | C81: DPDomasArea500 | D81: mm²/m²
A82: C08 | B82: Deinked Pulp Filtrate Illumination C/2°/0 without UV
A83: C081 | B83: Brightness R457 Membrane Filter | C83: DPFBrightness | D83: %
A84: C082 | B84: Y Membrane Filter | C84: DPFY
A85: C083 | B85: L* Membrane Filter | C85: DPFL
A86: C084 | B86: a* Membrane Filter | C86: DPFa
A87: C085 | B87: b* Membrane Filter | C87: DPFb
A88: C086 | B88: R∞, 700 Membrane Filter | C88: DPFR | D88: %
A89: C087 | B89: Type of flocculant
A90: C088 | B90: Flocculant volume | D90: ml
A91: C09 | B91: Control Water Illumination C/2°/0 without UV
A92: C091 | B92: Brightness R457 Membrane Filter | C92: CWBrightness | D92: %
A93: C092 | B93: Y Membrane Filter | C93: CWY
A94: C093 | B94: L* Membrane Filter | C94: CWL
A95: C094 | B95: a* Membrane Filter | C95: CWa
A96: C095 | B96: b* Membrane Filter | C96: CWb
A97: C096 | B97: R∞, 700 Membrane Filter | C97: CWR | D97: %
A98: Z | B98: Calculated Results
A99: Z01 | B99: IE700, Filter Pad | D99: % | E99: =IF(OR(ISBLANK(E50),E50=0,ISBLANK(E60),E60=0),"",((((1-E50%)^2/E50%)-((1-E60%)^2/E60%))/((1-E50%)^2/E50%))*100) | F99: =IF(OR(ISBLANK(F50),F50=0,ISBLANK(F60),F60=0),"",((((1-F50%)^2/F50%)-((1-F60%)^2/F60%))/((1-F50%)^2/F50%))*100) | G99: =IF(OR(ISBLANK(G50),G50=0,ISBLANK(G60),G60=0),"",((((1-G50%)^2/G50%)-((1-G60%)^2/G60%))/((1-G50%)^2/G50%))*100)
A100: Z02 | B100: DY Filtrate | E100: =IF(OR(ISBLANK(E84),ISBLANK(E93)),"",E93-E84) | F100: =IF(OR(ISBLANK(F84),ISBLANK(F93)),"",F93-F84) | G100: =IF(OR(ISBLANK(G84),ISBLANK(G93)),"",G93-G84)
...

Sheet Log
A1: Key to version numbers
A2: 1st Digit: | B2: Large changes, e. g. complete data blocks
A3: 2nd Digit: | B3: Single fields added / deleted
A4: 3rd Digit: | B4: Presettings or selections changed, wording, ...
A7: Change log
A9: Version | B9: Changes | C9: Remarks | D9: Change Date | E9: Who | F9: Verteilt
A10: 2.3.0 | B10: Minor layout bugs | D10: 40960 | E10: FB
A11: 2.3.0 | B11: Modification for better input to database | D11: 40960 | E11: FB
A12: 2.3.0 | B12: Inconsistency in orthography eliminated | D12: 40960 | E12: FB
A13: 2.3.0 | B13: Für Datenbank-Import optimiert | D13: 40999 | E13: FB
A14: 2.4.0 | B14: Datenfeld hinzugefügt | C14: A136 Ash Content (525 °C) | D14: 41128 | E14: FB
A15: 2.4.0 | B15: Datenfeld hinzugefügt | C15: C022 Fibre Yield | D15: 41128 | E15: FB
A16: 2.4.0 | B16: Datenfeld hinzugefügt | C16: C031 Mass mfroth | D16: 41128 | E16: FB
A17: 2.4.0 | B17: Datenfeld hinzugefügt | C17: C032 Stock Consistency | D17: 41128 | E17: FB
A18: 2.4.0 | B18: Detenfeld gelöscht | C18: B04 Homogenisation | D18: 41128 | E18: FB
A19: 2.4.1 | B19: Korrekturen nach Einfügen von Zeilen | C19: E122 - E156 | D19: 41141 | E19: AKK
A20: 2.4.2 | B20: Aktualisierung Listen; z.B. Liste Methoden nur aktuelle Methoden | D20: 41212 | E20: AKK
A21: 2.4.3 | B21: textliche Änderungen Zeile A134 | D21: 41317 | E21: AKK
A22: 1.0.0 | B22: INGEDE Method 11 LabReport adapted to the needs of 4EG WS 1 Part II recyclability test method | D22: 44501 | E22: CT
A23: 1.0.1 | B23: Suggestions for improvemnt from CTP and PTS incorporated | D23: 45068 | E23: CT | F23: 45068
A24: 1.0.2 | B24: Suggestions for improvemnt from PTS incorporated | D24: 45686 | E24: CT | F24: 45686
